BEGIN:VCALENDAR
VERSION:2.0
METHOD:PUBLISH
PRODID:-//IETF//datatracker.ietf.org ical agenda//EN
BEGIN:VTIMEZONE
TZID:Europe/Dublin
X-LIC-LOCATION:Europe/Dublin
BEGIN:DAYLIGHT
TZOFFSETFROM:+0000
TZOFFSETTO:+0100
TZNAME:IST
DTSTART:19810329T010000
RRULE:FREQ=YEARLY;BYMONTH=3;BYDAY=-1SU
END:DAYLIGHT
BEGIN:STANDARD
TZOFFSETFROM:+0100
TZOFFSETTO:+0000
TZNAME:GMT
DTSTART:19961027T020000
RRULE:FREQ=YEARLY;BYMONTH=10;BYDAY=-1SU
END:STANDARD
BEGIN:STANDARD
TZOFFSETFROM:-0025
TZOFFSETTO:-002521
TZNAME:DMT
DTSTART:18800802T000000
RDATE:18800802T000000
END:STANDARD
BEGIN:DAYLIGHT
TZOFFSETFROM:-002521
TZOFFSETTO:+003439
TZNAME:IST
DTSTART:19160521T020000
RDATE:19160521T020000
END:DAYLIGHT
BEGIN:STANDARD
TZOFFSETFROM:+003439
TZOFFSETTO:+0000
TZNAME:GMT
DTSTART:19161001T030000
RDATE:19161001T030000
END:STANDARD
BEGIN:DAYLIGHT
TZOFFSETFROM:+0000
TZOFFSETTO:+0100
TZNAME:BST
DTSTART:19170408T020000
RDATE:19170408T020000
RDATE:19180324T020000
RDATE:19190330T020000
RDATE:19200328T020000
RDATE:19210403T020000
END:DAYLIGHT
BEGIN:STANDARD
TZOFFSETFROM:+0100
TZOFFSETTO:+0000
TZNAME:GMT
DTSTART:19170917T030000
RDATE:19170917T030000
RDATE:19180930T030000
RDATE:19190929T030000
RDATE:19201025T030000
RDATE:19211003T030000
RDATE:19221008T030000
RDATE:19230916T030000
RDATE:19240921T030000
RDATE:19251004T030000
RDATE:19261003T030000
RDATE:19271002T030000
RDATE:19281007T030000
RDATE:19291006T030000
RDATE:19301005T030000
RDATE:19311004T030000
RDATE:19321002T030000
RDATE:19331008T030000
RDATE:19341007T030000
RDATE:19351006T030000
RDATE:19361004T030000
RDATE:19371003T030000
RDATE:19381002T030000
RDATE:19391119T030000
RDATE:19461006T020000
RDATE:19471102T020000
RDATE:19481031T030000
RDATE:19491030T030000
RDATE:19501022T030000
RDATE:19511021T030000
RDATE:19521026T030000
RDATE:19531004T030000
RDATE:19541003T030000
RDATE:19551002T030000
RDATE:19561007T030000
RDATE:19571006T030000
RDATE:19581005T030000
RDATE:19591004T030000
RDATE:19601002T030000
RDATE:19611029T030000
RDATE:19621028T030000
RDATE:19631027T030000
RDATE:19641025T030000
RDATE:19651024T030000
RDATE:19661023T030000
RDATE:19671029T030000
RDATE:19711031T030000
RDATE:19721029T030000
RDATE:19731028T030000
RDATE:19741027T030000
RDATE:19751026T030000
RDATE:19761024T030000
RDATE:19771023T030000
RDATE:19781029T030000
RDATE:19791028T030000
RDATE:19801026T030000
RDATE:19811025T020000
RDATE:19821024T020000
RDATE:19831023T020000
RDATE:19841028T020000
RDATE:19851027T020000
RDATE:19861026T020000
RDATE:19871025T020000
RDATE:19881023T020000
RDATE:19891029T020000
RDATE:19901028T020000
RDATE:19911027T020000
RDATE:19921025T020000
RDATE:19931024T020000
RDATE:19941023T020000
RDATE:19951022T020000
END:STANDARD
BEGIN:STANDARD
TZOFFSETFROM:+0000
TZOFFSETTO:+0000
TZNAME:GMT
DTSTART:19211206T000000
RDATE:19211206T000000
RDATE:19960101T000000
END:STANDARD
BEGIN:DAYLIGHT
TZOFFSETFROM:+0000
TZOFFSETTO:+0100
TZNAME:IST
DTSTART:19220326T020000
RDATE:19220326T020000
RDATE:19230422T020000
RDATE:19240413T020000
RDATE:19250419T020000
RDATE:19260418T020000
RDATE:19270410T020000
RDATE:19280422T020000
RDATE:19290421T020000
RDATE:19300413T020000
RDATE:19310419T020000
RDATE:19320417T020000
RDATE:19330409T020000
RDATE:19340422T020000
RDATE:19350414T020000
RDATE:19360419T020000
RDATE:19370418T020000
RDATE:19380410T020000
RDATE:19390416T020000
RDATE:19400225T020000
RDATE:19470316T020000
RDATE:19480418T020000
RDATE:19490403T020000
RDATE:19500416T020000
RDATE:19510415T020000
RDATE:19520420T020000
RDATE:19530419T020000
RDATE:19540411T020000
RDATE:19550417T020000
RDATE:19560422T020000
RDATE:19570414T020000
RDATE:19580420T020000
RDATE:19590419T020000
RDATE:19600410T020000
RDATE:19610326T020000
RDATE:19620325T020000
RDATE:19630331T020000
RDATE:19640322T020000
RDATE:19650321T020000
RDATE:19660320T020000
RDATE:19670319T020000
RDATE:19680218T020000
RDATE:19720319T020000
RDATE:19730318T020000
RDATE:19740317T020000
RDATE:19750316T020000
RDATE:19760321T020000
RDATE:19770320T020000
RDATE:19780319T020000
RDATE:19790318T020000
RDATE:19800316T020000
END:DAYLIGHT
BEGIN:STANDARD
TZOFFSETFROM:+0100
TZOFFSETTO:+0100
TZNAME:IST
DTSTART:19681027T000000
RDATE:19681027T000000
END:STANDARD
END:VTIMEZONE
BEGIN:VEVENT
UID:ietf-72-952-mpls
SUMMARY:mpls - Multiprotocol Label Switching
LOCATION:Convention 3
STATUS:CONFIRMED
CLASS:PUBLIC
DTSTART;TZID=Europe/Dublin:20080728T090000
DTEND;TZID=Europe/Dublin:20080728T113000
DTSTAMP:20161222T095710Z
URL:https://datatracker.ietf.org/meeting/72/materials/agenda-72-mpls
DESCRIPTION:Morning Session I\n
 \n
 Agenda https://datatracker.ietf.org/meeting/72/materials/agenda-72-mpls\n
 \n
 Session materials: https://datatracker.ietf.org/meeting/72/session/mpls\n
 \n
 See in schedule: https://datatracker.ietf.org/meeting/72/agenda#row-72-2008-07-28-mon-0900-rtg-mpls\n
END:VEVENT
BEGIN:VEVENT
UID:ietf-72-986-l3vpn
SUMMARY:l3vpn - Layer 3 Virtual Private Networks
LOCATION:Convention 1
STATUS:CONFIRMED
CLASS:PUBLIC
DTSTART;TZID=Europe/Dublin:20080728T130000
DTEND;TZID=Europe/Dublin:20080728T150000
DTSTAMP:20161222T095710Z
URL:https://datatracker.ietf.org/meeting/72/materials/agenda-72-l3vpn
DESCRIPTION:Afternoon Session I\n
 \n
 Agenda https://datatracker.ietf.org/meeting/72/materials/agenda-72-l3vpn\n
 \n
 Session materials: https://datatracker.ietf.org/meeting/72/session/l3vpn\n
 \n
 See in schedule: https://datatracker.ietf.org/meeting/72/agenda#row-72-2008-07-28-mon-1300-rtg-l3vpn\n
END:VEVENT
BEGIN:VEVENT
UID:ietf-72-898-forces
SUMMARY:forces - Forwarding and Control Element Separation
LOCATION:Newcastle
STATUS:CONFIRMED
CLASS:PUBLIC
DTSTART;TZID=Europe/Dublin:20080728T152000
DTEND;TZID=Europe/Dublin:20080728T172000
DTSTAMP:20161222T095710Z
URL:https://datatracker.ietf.org/meeting/72/materials/agenda-72-forces
DESCRIPTION:Afternoon Session II\n
 \n
 Agenda https://datatracker.ietf.org/meeting/72/materials/agenda-72-forces\n
 \n
 Session materials: https://datatracker.ietf.org/meeting/72/session/forces\n
 \n
 See in schedule: https://datatracker.ietf.org/meeting/72/agenda#row-72-2008-07-28-mon-1520-rtg-forces\n
END:VEVENT
BEGIN:VEVENT
UID:ietf-72-981-l2vpn
SUMMARY:l2vpn - Layer 2 Virtual Private Networks
LOCATION:Convention 3
STATUS:CONFIRMED
CLASS:PUBLIC
DTSTART;TZID=Europe/Dublin:20080728T152000
DTEND;TZID=Europe/Dublin:20080728T172000
DTSTAMP:20161222T095710Z
URL:https://datatracker.ietf.org/meeting/72/materials/agenda-72-l2vpn
DESCRIPTION:Afternoon Session II\n
 \n
 Agenda https://datatracker.ietf.org/meeting/72/materials/agenda-72-l2vpn\n
 \n
 Session materials: https://datatracker.ietf.org/meeting/72/session/l2vpn\n
 \n
 See in schedule: https://datatracker.ietf.org/meeting/72/agenda#row-72-2008-07-28-mon-1520-rtg-l2vpn\n
END:VEVENT
BEGIN:VEVENT
UID:ietf-72-891-ccamp
SUMMARY:ccamp - Common Control and Measurement Plane
LOCATION:Convention 3
STATUS:CONFIRMED
CLASS:PUBLIC
DTSTART;TZID=Europe/Dublin:20080728T174000
DTEND;TZID=Europe/Dublin:20080728T195000
DTSTAMP:20161222T095710Z
URL:https://datatracker.ietf.org/meeting/72/materials/agenda-72-ccamp
DESCRIPTION:Afternoon Session III\n
 \n
 Agenda https://datatracker.ietf.org/meeting/72/materials/agenda-72-ccamp\n
 \n
 Session materials: https://datatracker.ietf.org/meeting/72/session/ccamp\n
 \n
 See in schedule: https://datatracker.ietf.org/meeting/72/agenda#row-72-2008-07-28-mon-1740-rtg-ccamp\n
END:VEVENT
BEGIN:VEVENT
UID:ietf-72-929-sidr
SUMMARY:sidr - Secure Inter-Domain Routing
LOCATION:Convention 2
STATUS:CONFIRMED
CLASS:PUBLIC
DTSTART;TZID=Europe/Dublin:20080728T174000
DTEND;TZID=Europe/Dublin:20080728T195000
DTSTAMP:20161222T095710Z
URL:https://datatracker.ietf.org/meeting/72/materials/agenda-72-sidr
DESCRIPTION:Afternoon Session III\n
 \n
 Agenda https://datatracker.ietf.org/meeting/72/materials/agenda-72-sidr\n
 \n
 Session materials: https://datatracker.ietf.org/meeting/72/session/sidr\n
 \n
 See in schedule: https://datatracker.ietf.org/meeting/72/agenda#row-72-2008-07-28-mon-1740-rtg-sidr\n
END:VEVENT
BEGIN:VEVENT
UID:ietf-72-897-rtgwg
SUMMARY:rtgwg - Routing Area Working Group
LOCATION:Convention 2
STATUS:CONFIRMED
CLASS:PUBLIC
DTSTART;TZID=Europe/Dublin:20080729T090000
DTEND;TZID=Europe/Dublin:20080729T113000
DTSTAMP:20161222T095710Z
URL:https://datatracker.ietf.org/meeting/72/materials/agenda-72-rtgwg
DESCRIPTION:Morning Session I\n
 \n
 Agenda https://datatracker.ietf.org/meeting/72/materials/agenda-72-rtgwg\n
 \n
 Session materials: https://datatracker.ietf.org/meeting/72/session/rtgwg\n
 \n
 See in schedule: https://datatracker.ietf.org/meeting/72/agenda#row-72-2008-07-29-tue-0900-rtg-rtgwg\n
END:VEVENT
BEGIN:VEVENT
UID:ietf-72-912-roll
SUMMARY:roll - Routing Over Low power and Lossy networks
LOCATION:Newcastle
STATUS:CONFIRMED
CLASS:PUBLIC
DTSTART;TZID=Europe/Dublin:20080729T130000
DTEND;TZID=Europe/Dublin:20080729T150000
DTSTAMP:20161222T095710Z
URL:https://datatracker.ietf.org/meeting/72/materials/agenda-72-roll
DESCRIPTION:Afternoon Session I\n
 \n
 Agenda https://datatracker.ietf.org/meeting/72/materials/agenda-72-roll\n
 \n
 Session materials: https://datatracker.ietf.org/meeting/72/session/roll\n
 \n
 See in schedule: https://datatracker.ietf.org/meeting/72/agenda#row-72-2008-07-29-tue-1300-rtg-roll\n
END:VEVENT
BEGIN:VEVENT
UID:ietf-72-896-pim
SUMMARY:pim - Protocol Independent Multicast
LOCATION:Ballroom 2
STATUS:CONFIRMED
CLASS:PUBLIC
DTSTART;TZID=Europe/Dublin:20080729T152000
DTEND;TZID=Europe/Dublin:20080729T172000
DTSTAMP:20161222T095710Z
URL:https://datatracker.ietf.org/meeting/72/materials/agenda-72-pim
DESCRIPTION:Afternoon Session II\n
 \n
 Agenda https://datatracker.ietf.org/meeting/72/materials/agenda-72-pim\n
 \n
 Session materials: https://datatracker.ietf.org/meeting/72/session/pim\n
 \n
 See in schedule: https://datatracker.ietf.org/meeting/72/agenda#row-72-2008-07-29-tue-1520-rtg-pim\n
END:VEVENT
BEGIN:VEVENT
UID:ietf-72-959-pwe3
SUMMARY:pwe3 - Pseudowire Emulation Edge to Edge
LOCATION:Convention 1
STATUS:CONFIRMED
CLASS:PUBLIC
DTSTART;TZID=Europe/Dublin:20080729T152000
DTEND;TZID=Europe/Dublin:20080729T172000
DTSTAMP:20161222T095710Z
URL:https://datatracker.ietf.org/meeting/72/materials/agenda-72-pwe3
DESCRIPTION:Afternoon Session II\n
 \n
 Agenda https://datatracker.ietf.org/meeting/72/materials/agenda-72-pwe3\n
 \n
 Session materials: https://datatracker.ietf.org/meeting/72/session/pwe3\n
 \n
 See in schedule: https://datatracker.ietf.org/meeting/72/agenda#row-72-2008-07-29-tue-1520-rtg-pwe3\n
END:VEVENT
BEGIN:VEVENT
UID:ietf-72-883-idr
SUMMARY:idr - Inter-Domain Routing
LOCATION:Ballroom 2
STATUS:CONFIRMED
CLASS:PUBLIC
DTSTART;TZID=Europe/Dublin:20080729T174000
DTEND;TZID=Europe/Dublin:20080729T184000
DTSTAMP:20161222T095710Z
URL:https://datatracker.ietf.org/meeting/72/materials/agenda-72-idr
DESCRIPTION:Afternoon Session III\n
 \n
 Agenda https://datatracker.ietf.org/meeting/72/materials/agenda-72-idr\n
 \n
 Session materials: https://datatracker.ietf.org/meeting/72/session/idr\n
 \n
 See in schedule: https://datatracker.ietf.org/meeting/72/agenda#row-72-2008-07-29-tue-1740-rtg-idr\n
END:VEVENT
BEGIN:VEVENT
UID:ietf-72-930-manet
SUMMARY:manet - Mobile Ad-hoc Networks
LOCATION:Convention 1
STATUS:CONFIRMED
CLASS:PUBLIC
DTSTART;TZID=Europe/Dublin:20080729T174000
DTEND;TZID=Europe/Dublin:20080729T184000
DTSTAMP:20161222T095710Z
URL:https://datatracker.ietf.org/meeting/72/materials/agenda-72-manet
DESCRIPTION:Afternoon Session III\n
 \n
 Agenda https://datatracker.ietf.org/meeting/72/materials/agenda-72-manet\n
 \n
 Session materials: https://datatracker.ietf.org/meeting/72/session/manet\n
 \n
 See in schedule: https://datatracker.ietf.org/meeting/72/agenda#row-72-2008-07-29-tue-1740-rtg-manet\n
END:VEVENT
BEGIN:VEVENT
UID:ietf-72-884-idr
SUMMARY:idr - Inter-Domain Routing
LOCATION:Ballroom 2
STATUS:CONFIRMED
CLASS:PUBLIC
DTSTART;TZID=Europe/Dublin:20080729T185000
DTEND;TZID=Europe/Dublin:20080729T195000
DTSTAMP:20161222T095710Z
URL:https://datatracker.ietf.org/meeting/72/materials/agenda-72-idr
DESCRIPTION:Afternoon Session IV\n
 \n
 Agenda https://datatracker.ietf.org/meeting/72/materials/agenda-72-idr\n
 \n
 Session materials: https://datatracker.ietf.org/meeting/72/session/idr\n
 \n
 See in schedule: https://datatracker.ietf.org/meeting/72/agenda#row-72-2008-07-29-tue-1850-rtg-idr\n
END:VEVENT
BEGIN:VEVENT
UID:ietf-72-931-manet
SUMMARY:manet - Mobile Ad-hoc Networks
LOCATION:Convention 1
STATUS:CONFIRMED
CLASS:PUBLIC
DTSTART;TZID=Europe/Dublin:20080729T185000
DTEND;TZID=Europe/Dublin:20080729T195000
DTSTAMP:20161222T095710Z
URL:https://datatracker.ietf.org/meeting/72/materials/agenda-72-manet
DESCRIPTION:Afternoon Session IV\n
 \n
 Agenda https://datatracker.ietf.org/meeting/72/materials/agenda-72-manet\n
 \n
 Session materials: https://datatracker.ietf.org/meeting/72/session/manet\n
 \n
 See in schedule: https://datatracker.ietf.org/meeting/72/agenda#row-72-2008-07-29-tue-1850-rtg-manet\n
END:VEVENT
BEGIN:VEVENT
UID:ietf-72-953-mpls
SUMMARY:mpls - Multiprotocol Label Switching
LOCATION:Convention 1
STATUS:CONFIRMED
CLASS:PUBLIC
DTSTART;TZID=Europe/Dublin:20080730T090000
DTEND;TZID=Europe/Dublin:20080730T113000
DTSTAMP:20161222T095710Z
URL:https://datatracker.ietf.org/meeting/72/materials/agenda-72-mpls
DESCRIPTION:Morning Session I\n
 \n
 Agenda https://datatracker.ietf.org/meeting/72/materials/agenda-72-mpls\n
 \n
 Session materials: https://datatracker.ietf.org/meeting/72/session/mpls\n
 \n
 See in schedule: https://datatracker.ietf.org/meeting/72/agenda#row-72-2008-07-30-wed-0900-rtg-mpls\n
END:VEVENT
BEGIN:VEVENT
UID:ietf-72-894-rtgarea
SUMMARY:rtgarea - Routing Area Open Meeting
LOCATION:Convention 3
STATUS:CONFIRMED
CLASS:PUBLIC
DTSTART;TZID=Europe/Dublin:20080730T130000
DTEND;TZID=Europe/Dublin:20080730T150000
DTSTAMP:20161222T095710Z
URL:https://datatracker.ietf.org/meeting/72/materials/agenda-72-rtgarea
DESCRIPTION:Afternoon Session I\n
 \n
 Agenda https://datatracker.ietf.org/meeting/72/materials/agenda-72-rtgarea\n
 \n
 Session materials: https://datatracker.ietf.org/meeting/72/session/rtgarea\n
 \n
 See in schedule: https://datatracker.ietf.org/meeting/72/agenda#row-72-2008-07-30-wed-1300-rtg-rtgarea\n
END:VEVENT
BEGIN:VEVENT
UID:ietf-72-899-isis
SUMMARY:isis - IS-IS for IP Internets
LOCATION:Ballroom 2
STATUS:CONFIRMED
CLASS:PUBLIC
DTSTART;TZID=Europe/Dublin:20080730T151000
DTEND;TZID=Europe/Dublin:20080730T161000
DTSTAMP:20161222T095710Z
URL:https://datatracker.ietf.org/meeting/72/materials/agenda-72-isis
DESCRIPTION:Afternoon Session II\n
 \n
 Agenda https://datatracker.ietf.org/meeting/72/materials/agenda-72-isis\n
 \n
 Session materials: https://datatracker.ietf.org/meeting/72/session/isis\n
 \n
 See in schedule: https://datatracker.ietf.org/meeting/72/agenda#row-72-2008-07-30-wed-1510-rtg-isis\n
END:VEVENT
BEGIN:VEVENT
UID:ietf-72-913-pce
SUMMARY:pce - Path Computation Element
LOCATION:Ballroom 1
STATUS:CONFIRMED
CLASS:PUBLIC
DTSTART;TZID=Europe/Dublin:20080731T090000
DTEND;TZID=Europe/Dublin:20080731T113000
DTSTAMP:20161222T095710Z
URL:https://datatracker.ietf.org/meeting/72/materials/agenda-72-pce
DESCRIPTION:Morning Session I\n
 \n
 Agenda https://datatracker.ietf.org/meeting/72/materials/agenda-72-pce\n
 \n
 Session materials: https://datatracker.ietf.org/meeting/72/session/pce\n
 \n
 See in schedule: https://datatracker.ietf.org/meeting/72/agenda#row-72-2008-07-31-thu-0900-rtg-pce\n
END:VEVENT
BEGIN:VEVENT
UID:ietf-72-892-ccamp
SUMMARY:ccamp - Common Control and Measurement Plane
LOCATION:Convention 3
STATUS:CONFIRMED
CLASS:PUBLIC
DTSTART;TZID=Europe/Dublin:20080731T130000
DTEND;TZID=Europe/Dublin:20080731T150000
DTSTAMP:20161222T095710Z
URL:https://datatracker.ietf.org/meeting/72/materials/agenda-72-ccamp
DESCRIPTION:Afternoon Session I\n
 \n
 Agenda https://datatracker.ietf.org/meeting/72/materials/agenda-72-ccamp\n
 \n
 Session materials: https://datatracker.ietf.org/meeting/72/session/ccamp\n
 \n
 See in schedule: https://datatracker.ietf.org/meeting/72/agenda#row-72-2008-07-31-thu-1300-rtg-ccamp\n
END:VEVENT
END:VCALENDAR
