BEGIN:VCALENDAR
VERSION:2.0
METHOD:PUBLISH
PRODID:-//IETF//datatracker.ietf.org ical agenda//EN
BEGIN:VTIMEZONE
TZID:Europe/Dublin
X-LIC-LOCATION:Europe/Dublin
BEGIN:DAYLIGHT
TZOFFSETFROM:+0000
TZOFFSETTO:+0100
TZNAME:IST
DTSTART:19810329T010000
RRULE:FREQ=YEARLY;BYMONTH=3;BYDAY=-1SU
END:DAYLIGHT
BEGIN:STANDARD
TZOFFSETFROM:+0100
TZOFFSETTO:+0000
TZNAME:GMT
DTSTART:19961027T020000
RRULE:FREQ=YEARLY;BYMONTH=10;BYDAY=-1SU
END:STANDARD
BEGIN:STANDARD
TZOFFSETFROM:-0025
TZOFFSETTO:-002521
TZNAME:DMT
DTSTART:18800802T000000
RDATE:18800802T000000
END:STANDARD
BEGIN:DAYLIGHT
TZOFFSETFROM:-002521
TZOFFSETTO:+003439
TZNAME:IST
DTSTART:19160521T020000
RDATE:19160521T020000
END:DAYLIGHT
BEGIN:STANDARD
TZOFFSETFROM:+003439
TZOFFSETTO:+0000
TZNAME:GMT
DTSTART:19161001T030000
RDATE:19161001T030000
END:STANDARD
BEGIN:DAYLIGHT
TZOFFSETFROM:+0000
TZOFFSETTO:+0100
TZNAME:BST
DTSTART:19170408T020000
RDATE:19170408T020000
RDATE:19180324T020000
RDATE:19190330T020000
RDATE:19200328T020000
RDATE:19210403T020000
END:DAYLIGHT
BEGIN:STANDARD
TZOFFSETFROM:+0100
TZOFFSETTO:+0000
TZNAME:GMT
DTSTART:19170917T030000
RDATE:19170917T030000
RDATE:19180930T030000
RDATE:19190929T030000
RDATE:19201025T030000
RDATE:19211003T030000
RDATE:19221008T030000
RDATE:19230916T030000
RDATE:19240921T030000
RDATE:19251004T030000
RDATE:19261003T030000
RDATE:19271002T030000
RDATE:19281007T030000
RDATE:19291006T030000
RDATE:19301005T030000
RDATE:19311004T030000
RDATE:19321002T030000
RDATE:19331008T030000
RDATE:19341007T030000
RDATE:19351006T030000
RDATE:19361004T030000
RDATE:19371003T030000
RDATE:19381002T030000
RDATE:19391119T030000
RDATE:19461006T020000
RDATE:19471102T020000
RDATE:19481031T030000
RDATE:19491030T030000
RDATE:19501022T030000
RDATE:19511021T030000
RDATE:19521026T030000
RDATE:19531004T030000
RDATE:19541003T030000
RDATE:19551002T030000
RDATE:19561007T030000
RDATE:19571006T030000
RDATE:19581005T030000
RDATE:19591004T030000
RDATE:19601002T030000
RDATE:19611029T030000
RDATE:19621028T030000
RDATE:19631027T030000
RDATE:19641025T030000
RDATE:19651024T030000
RDATE:19661023T030000
RDATE:19671029T030000
RDATE:19711031T030000
RDATE:19721029T030000
RDATE:19731028T030000
RDATE:19741027T030000
RDATE:19751026T030000
RDATE:19761024T030000
RDATE:19771023T030000
RDATE:19781029T030000
RDATE:19791028T030000
RDATE:19801026T030000
RDATE:19811025T020000
RDATE:19821024T020000
RDATE:19831023T020000
RDATE:19841028T020000
RDATE:19851027T020000
RDATE:19861026T020000
RDATE:19871025T020000
RDATE:19881023T020000
RDATE:19891029T020000
RDATE:19901028T020000
RDATE:19911027T020000
RDATE:19921025T020000
RDATE:19931024T020000
RDATE:19941023T020000
RDATE:19951022T020000
END:STANDARD
BEGIN:STANDARD
TZOFFSETFROM:+0000
TZOFFSETTO:+0000
TZNAME:GMT
DTSTART:19211206T000000
RDATE:19211206T000000
RDATE:19960101T000000
END:STANDARD
BEGIN:DAYLIGHT
TZOFFSETFROM:+0000
TZOFFSETTO:+0100
TZNAME:IST
DTSTART:19220326T020000
RDATE:19220326T020000
RDATE:19230422T020000
RDATE:19240413T020000
RDATE:19250419T020000
RDATE:19260418T020000
RDATE:19270410T020000
RDATE:19280422T020000
RDATE:19290421T020000
RDATE:19300413T020000
RDATE:19310419T020000
RDATE:19320417T020000
RDATE:19330409T020000
RDATE:19340422T020000
RDATE:19350414T020000
RDATE:19360419T020000
RDATE:19370418T020000
RDATE:19380410T020000
RDATE:19390416T020000
RDATE:19400225T020000
RDATE:19470316T020000
RDATE:19480418T020000
RDATE:19490403T020000
RDATE:19500416T020000
RDATE:19510415T020000
RDATE:19520420T020000
RDATE:19530419T020000
RDATE:19540411T020000
RDATE:19550417T020000
RDATE:19560422T020000
RDATE:19570414T020000
RDATE:19580420T020000
RDATE:19590419T020000
RDATE:19600410T020000
RDATE:19610326T020000
RDATE:19620325T020000
RDATE:19630331T020000
RDATE:19640322T020000
RDATE:19650321T020000
RDATE:19660320T020000
RDATE:19670319T020000
RDATE:19680218T020000
RDATE:19720319T020000
RDATE:19730318T020000
RDATE:19740317T020000
RDATE:19750316T020000
RDATE:19760321T020000
RDATE:19770320T020000
RDATE:19780319T020000
RDATE:19790318T020000
RDATE:19800316T020000
END:DAYLIGHT
BEGIN:STANDARD
TZOFFSETFROM:+0100
TZOFFSETTO:+0100
TZNAME:IST
DTSTART:19681027T000000
RDATE:19681027T000000
END:STANDARD
END:VTIMEZONE
BEGIN:VEVENT
UID:ietf-72-924-nfsv4
SUMMARY:nfsv4 - Network File System Version 4
LOCATION:Conservatory
STATUS:CONFIRMED
CLASS:PUBLIC
DTSTART;TZID=Europe/Dublin:20080728T090000
DTEND;TZID=Europe/Dublin:20080728T113000
DTSTAMP:20161222T095710Z
URL:https://datatracker.ietf.org/meeting/72/materials/agenda-72-nfsv4
DESCRIPTION:Morning Session I\n
 \n
 Agenda https://datatracker.ietf.org/meeting/72/materials/agenda-72-nfsv4\n
 \n
 Session materials: https://datatracker.ietf.org/meeting/72/session/nfsv4\n
 \n
 See in schedule: https://datatracker.ietf.org/meeting/72/agenda#row-72-2008-07-28-mon-0900-tsv-nfsv4\n
END:VEVENT
BEGIN:VEVENT
UID:ietf-72-943-dccp
SUMMARY:dccp - Datagram Congestion Control Protocol
LOCATION:Newcastle
STATUS:CONFIRMED
CLASS:PUBLIC
DTSTART;TZID=Europe/Dublin:20080728T130000
DTEND;TZID=Europe/Dublin:20080728T150000
DTSTAMP:20161222T095710Z
URL:https://datatracker.ietf.org/meeting/72/materials/agenda-72-dccp
DESCRIPTION:Afternoon Session I\n
 \n
 Agenda https://datatracker.ietf.org/meeting/72/materials/agenda-72-dccp\n
 \n
 Session materials: https://datatracker.ietf.org/meeting/72/session/dccp\n
 \n
 See in schedule: https://datatracker.ietf.org/meeting/72/agenda#row-72-2008-07-28-mon-1300-tsv-dccp\n
END:VEVENT
BEGIN:VEVENT
UID:ietf-72-922-tsvwg
SUMMARY:tsvwg - Transport Area Working Group
LOCATION:Convention 2
STATUS:CONFIRMED
CLASS:PUBLIC
DTSTART;TZID=Europe/Dublin:20080728T152000
DTEND;TZID=Europe/Dublin:20080728T172000
DTSTAMP:20161222T095710Z
URL:https://datatracker.ietf.org/meeting/72/materials/agenda-72-tsvwg
DESCRIPTION:Afternoon Session II\n
 \n
 Agenda https://datatracker.ietf.org/meeting/72/materials/agenda-72-tsvwg\n
 \n
 Session materials: https://datatracker.ietf.org/meeting/72/session/tsvwg\n
 \n
 See in schedule: https://datatracker.ietf.org/meeting/72/agenda#row-72-2008-07-28-mon-1520-tsv-tsvwg\n
END:VEVENT
BEGIN:VEVENT
UID:ietf-72-968-tcpm
SUMMARY:tcpm - TCP Maintenance and Minor Extensions
LOCATION:Ballroom 2
STATUS:CONFIRMED
CLASS:PUBLIC
DTSTART;TZID=Europe/Dublin:20080728T174000
DTEND;TZID=Europe/Dublin:20080728T195000
DTSTAMP:20161222T095710Z
URL:https://datatracker.ietf.org/meeting/72/materials/agenda-72-tcpm
DESCRIPTION:Afternoon Session III\n
 \n
 Agenda https://datatracker.ietf.org/meeting/72/materials/agenda-72-tcpm\n
 \n
 Session materials: https://datatracker.ietf.org/meeting/72/session/tcpm\n
 \n
 See in schedule: https://datatracker.ietf.org/meeting/72/agenda#row-72-2008-07-28-mon-1740-tsv-tcpm\n
END:VEVENT
BEGIN:VEVENT
UID:ietf-72-995-alto
SUMMARY:alto - Application-Layer Traffic Optimization
LOCATION:Convention 3
STATUS:CONFIRMED
CLASS:PUBLIC
DTSTART;TZID=Europe/Dublin:20080729T090000
DTEND;TZID=Europe/Dublin:20080729T113000
DTSTAMP:20161222T095710Z
URL:https://datatracker.ietf.org/meeting/72/materials/agenda-72-alto
DESCRIPTION:Morning Session I\n
 \n
 Agenda https://datatracker.ietf.org/meeting/72/materials/agenda-72-alto\n
 \n
 Session materials: https://datatracker.ietf.org/meeting/72/session/alto\n
 \n
 See in schedule: https://datatracker.ietf.org/meeting/72/agenda#row-72-2008-07-29-tue-0900-tsv-alto\n
END:VEVENT
BEGIN:VEVENT
UID:ietf-72-964-rmt
SUMMARY:rmt - Reliable Multicast Transport
LOCATION:Rathcoole
STATUS:CONFIRMED
CLASS:PUBLIC
DTSTART;TZID=Europe/Dublin:20080729T090000
DTEND;TZID=Europe/Dublin:20080729T113000
DTSTAMP:20161222T095710Z
URL:https://datatracker.ietf.org/meeting/72/materials/agenda-72-rmt
DESCRIPTION:Morning Session I\n
 \n
 Agenda https://datatracker.ietf.org/meeting/72/materials/agenda-72-rmt\n
 \n
 Session materials: https://datatracker.ietf.org/meeting/72/session/rmt\n
 \n
 See in schedule: https://datatracker.ietf.org/meeting/72/agenda#row-72-2008-07-29-tue-0900-tsv-rmt\n
END:VEVENT
BEGIN:VEVENT
UID:ietf-72-923-tsvarea
SUMMARY:tsvarea - Transport Area Open Meeting
LOCATION:Convention 1
STATUS:CONFIRMED
CLASS:PUBLIC
DTSTART;TZID=Europe/Dublin:20080729T130000
DTEND;TZID=Europe/Dublin:20080729T150000
DTSTAMP:20161222T095710Z
URL:https://datatracker.ietf.org/meeting/72/materials/agenda-72-tsvarea
DESCRIPTION:Afternoon Session I\n
 \n
 Agenda https://datatracker.ietf.org/meeting/72/materials/agenda-72-tsvarea\n
 \n
 Session materials: https://datatracker.ietf.org/meeting/72/session/tsvarea\n
 \n
 See in schedule: https://datatracker.ietf.org/meeting/72/agenda#row-72-2008-07-29-tue-1300-tsv-tsvarea\n
END:VEVENT
BEGIN:VEVENT
UID:ietf-72-920-behave
SUMMARY:behave - Behavior Engineering for Hindrance Avoidance (Room Change)
LOCATION:Convention 2
STATUS:CONFIRMED
CLASS:PUBLIC
DTSTART;TZID=Europe/Dublin:20080729T152000
DTEND;TZID=Europe/Dublin:20080729T172000
DTSTAMP:20161222T095710Z
URL:https://datatracker.ietf.org/meeting/72/materials/agenda-72-behave
DESCRIPTION:Afternoon Session II\n
 Note: Room Change\n
 \n
 Agenda https://datatracker.ietf.org/meeting/72/materials/agenda-72-behave\n
 \n
 Session materials: https://datatracker.ietf.org/meeting/72/session/behave\n
 \n
 See in schedule: https://datatracker.ietf.org/meeting/72/agenda#row-72-2008-07-29-tue-1520-tsv-behave\n
END:VEVENT
BEGIN:VEVENT
UID:ietf-72-946-nsis
SUMMARY:nsis - Next Steps in Signaling
LOCATION:Newcastle
STATUS:CONFIRMED
CLASS:PUBLIC
DTSTART;TZID=Europe/Dublin:20080729T174000
DTEND;TZID=Europe/Dublin:20080729T184000
DTSTAMP:20161222T095710Z
URL:https://datatracker.ietf.org/meeting/72/materials/agenda-72-nsis
DESCRIPTION:Afternoon Session III\n
 \n
 Agenda https://datatracker.ietf.org/meeting/72/materials/agenda-72-nsis\n
 \n
 Session materials: https://datatracker.ietf.org/meeting/72/session/nsis\n
 \n
 See in schedule: https://datatracker.ietf.org/meeting/72/agenda#row-72-2008-07-29-tue-1740-tsv-nsis\n
END:VEVENT
BEGIN:VEVENT
UID:ietf-72-921-behave
SUMMARY:behave - Behavior Engineering for Hindrance Avoidance (Room Change)
LOCATION:Convention 2
STATUS:CONFIRMED
CLASS:PUBLIC
DTSTART;TZID=Europe/Dublin:20080729T185000
DTEND;TZID=Europe/Dublin:20080729T195000
DTSTAMP:20161222T095710Z
URL:https://datatracker.ietf.org/meeting/72/materials/agenda-72-behave
DESCRIPTION:Afternoon Session IV\n
 Note: Room Change\n
 \n
 Agenda https://datatracker.ietf.org/meeting/72/materials/agenda-72-behave\n
 \n
 Session materials: https://datatracker.ietf.org/meeting/72/session/behave\n
 \n
 See in schedule: https://datatracker.ietf.org/meeting/72/agenda#row-72-2008-07-29-tue-1850-tsv-behave\n
END:VEVENT
BEGIN:VEVENT
UID:ietf-72-1002-ippmxx
SUMMARY:ippmxx - IP Performance Metrics, Next Steps
LOCATION:Newcastle
STATUS:CONFIRMED
CLASS:PUBLIC
DTSTART;TZID=Europe/Dublin:20080730T090000
DTEND;TZID=Europe/Dublin:20080730T113000
DTSTAMP:20161222T095710Z
URL:https://datatracker.ietf.org/meeting/72/materials/agenda-72-ippm++
DESCRIPTION:Morning Session I\n
 \n
 Agenda https://datatracker.ietf.org/meeting/72/materials/agenda-72-ippm++\n
 \n
 Session materials: https://datatracker.ietf.org/meeting/72/session/ippmxx\n
 \n
 See in schedule: https://datatracker.ietf.org/meeting/72/agenda#row-72-2008-07-30-wed-0900-tsv-ippmxx\n
END:VEVENT
BEGIN:VEVENT
UID:ietf-72-972-fecframe
SUMMARY:fecframe - FEC Framework
LOCATION:Conservatory
STATUS:CONFIRMED
CLASS:PUBLIC
DTSTART;TZID=Europe/Dublin:20080730T130000
DTEND;TZID=Europe/Dublin:20080730T150000
DTSTAMP:20161222T095710Z
URL:https://datatracker.ietf.org/meeting/72/materials/agenda-72-fecframe
DESCRIPTION:Afternoon Session I\n
 \n
 Agenda https://datatracker.ietf.org/meeting/72/materials/agenda-72-fecframe\n
 \n
 Session materials: https://datatracker.ietf.org/meeting/72/session/fecframe\n
 \n
 See in schedule: https://datatracker.ietf.org/meeting/72/agenda#row-72-2008-07-30-wed-1300-tsv-fecframe\n
END:VEVENT
BEGIN:VEVENT
UID:ietf-72-963-ippm
SUMMARY:ippm - IP Performance Metrics
LOCATION:Rathcoole
STATUS:CONFIRMED
CLASS:PUBLIC
DTSTART;TZID=Europe/Dublin:20080730T130000
DTEND;TZID=Europe/Dublin:20080730T150000
DTSTAMP:20161222T095710Z
URL:https://datatracker.ietf.org/meeting/72/materials/agenda-72-ippm
DESCRIPTION:Afternoon Session I\n
 \n
 Agenda https://datatracker.ietf.org/meeting/72/materials/agenda-72-ippm\n
 \n
 Session materials: https://datatracker.ietf.org/meeting/72/session/ippm\n
 \n
 See in schedule: https://datatracker.ietf.org/meeting/72/agenda#row-72-2008-07-30-wed-1300-tsv-ippm\n
END:VEVENT
BEGIN:VEVENT
UID:ietf-72-976-pcn
SUMMARY:pcn - Congestion and Pre-Congestion Notification
LOCATION:Rathcoole
STATUS:CONFIRMED
CLASS:PUBLIC
DTSTART;TZID=Europe/Dublin:20080731T090000
DTEND;TZID=Europe/Dublin:20080731T113000
DTSTAMP:20161222T095710Z
URL:https://datatracker.ietf.org/meeting/72/materials/agenda-72-pcn
DESCRIPTION:Morning Session I\n
 \n
 Agenda https://datatracker.ietf.org/meeting/72/materials/agenda-72-pcn\n
 \n
 Session materials: https://datatracker.ietf.org/meeting/72/session/pcn\n
 \n
 See in schedule: https://datatracker.ietf.org/meeting/72/agenda#row-72-2008-07-31-thu-0900-tsv-pcn\n
END:VEVENT
BEGIN:VEVENT
UID:ietf-72-998-tana
SUMMARY:tana - Techniques for Advanced Networking Applications
LOCATION:Convention 1
STATUS:CONFIRMED
CLASS:PUBLIC
DTSTART;TZID=Europe/Dublin:20080731T130000
DTEND;TZID=Europe/Dublin:20080731T150000
DTSTAMP:20161222T095710Z
URL:https://datatracker.ietf.org/meeting/72/materials/agenda-72-tana
DESCRIPTION:Afternoon Session I\n
 \n
 Agenda https://datatracker.ietf.org/meeting/72/materials/agenda-72-tana\n
 \n
 Session materials: https://datatracker.ietf.org/meeting/72/session/tana\n
 \n
 See in schedule: https://datatracker.ietf.org/meeting/72/agenda#row-72-2008-07-31-thu-1300-tsv-tana\n
END:VEVENT
END:VCALENDAR
