BEGIN:VCALENDAR
VERSION:2.0
METHOD:PUBLISH
PRODID:-//IETF//datatracker.ietf.org ical agenda//EN
BEGIN:VTIMEZONE
TZID:America/Menominee
X-LIC-LOCATION:America/Menominee
BEGIN:DAYLIGHT
TZOFFSETFROM:-0600
TZOFFSETTO:-0500
TZNAME:CDT
DTSTART:20070311T020000
RRULE:FREQ=YEARLY;BYMONTH=3;BYDAY=2SU
END:DAYLIGHT
BEGIN:STANDARD
TZOFFSETFROM:-0500
TZOFFSETTO:-0600
TZNAME:CST
DTSTART:20071104T020000
RRULE:FREQ=YEARLY;BYMONTH=11;BYDAY=1SU
END:STANDARD
BEGIN:STANDARD
TZOFFSETFROM:-055027
TZOFFSETTO:-0600
TZNAME:CST
DTSTART:18850918T120000
RDATE:18850918T120000
END:STANDARD
BEGIN:DAYLIGHT
TZOFFSETFROM:-0600
TZOFFSETTO:-0500
TZNAME:CDT
DTSTART:19180331T020000
RDATE:19180331T020000
RDATE:19190330T020000
RDATE:19460428T020000
RDATE:19660424T020000
RDATE:19740106T020000
RDATE:19750223T020000
RDATE:19760425T020000
RDATE:19770424T020000
RDATE:19780430T020000
RDATE:19790429T020000
RDATE:19800427T020000
RDATE:19810426T020000
RDATE:19820425T020000
RDATE:19830424T020000
RDATE:19840429T020000
RDATE:19850428T020000
RDATE:19860427T020000
RDATE:19870405T020000
RDATE:19880403T020000
RDATE:19890402T020000
RDATE:19900401T020000
RDATE:19910407T020000
RDATE:19920405T020000
RDATE:19930404T020000
RDATE:19940403T020000
RDATE:19950402T020000
RDATE:19960407T020000
RDATE:19970406T020000
RDATE:19980405T020000
RDATE:19990404T020000
RDATE:20000402T020000
RDATE:20010401T020000
RDATE:20020407T020000
RDATE:20030406T020000
RDATE:20040404T020000
RDATE:20050403T020000
RDATE:20060402T020000
END:DAYLIGHT
BEGIN:STANDARD
TZOFFSETFROM:-0500
TZOFFSETTO:-0600
TZNAME:CST
DTSTART:19181027T020000
RDATE:19181027T020000
RDATE:19191026T020000
RDATE:19450930T020000
RDATE:19460929T020000
RDATE:19661030T020000
RDATE:19731028T020000
RDATE:19741027T020000
RDATE:19751026T020000
RDATE:19761031T020000
RDATE:19771030T020000
RDATE:19781029T020000
RDATE:19791028T020000
RDATE:19801026T020000
RDATE:19811025T020000
RDATE:19821031T020000
RDATE:19831030T020000
RDATE:19841028T020000
RDATE:19851027T020000
RDATE:19861026T020000
RDATE:19871025T020000
RDATE:19881030T020000
RDATE:19891029T020000
RDATE:19901028T020000
RDATE:19911027T020000
RDATE:19921025T020000
RDATE:19931031T020000
RDATE:19941030T020000
RDATE:19951029T020000
RDATE:19961027T020000
RDATE:19971026T020000
RDATE:19981025T020000
RDATE:19991031T020000
RDATE:20001029T020000
RDATE:20011028T020000
RDATE:20021027T020000
RDATE:20031026T020000
RDATE:20041031T020000
RDATE:20051030T020000
RDATE:20061029T020000
END:STANDARD
BEGIN:DAYLIGHT
TZOFFSETFROM:-0600
TZOFFSETTO:-0500
TZNAME:CWT
DTSTART:19420209T020000
RDATE:19420209T020000
END:DAYLIGHT
BEGIN:DAYLIGHT
TZOFFSETFROM:-0500
TZOFFSETTO:-0500
TZNAME:CPT
DTSTART:19450814T180000
RDATE:19450814T180000
END:DAYLIGHT
BEGIN:STANDARD
TZOFFSETFROM:-0600
TZOFFSETTO:-0600
TZNAME:CST
DTSTART:19460101T000000
RDATE:19460101T000000
END:STANDARD
BEGIN:STANDARD
TZOFFSETFROM:-0600
TZOFFSETTO:-0500
TZNAME:EST
DTSTART:19690427T020000
RDATE:19690427T020000
END:STANDARD
BEGIN:DAYLIGHT
TZOFFSETFROM:-0500
TZOFFSETTO:-0500
TZNAME:CDT
DTSTART:19730429T020000
RDATE:19730429T020000
END:DAYLIGHT
END:VTIMEZONE
BEGIN:VEVENT
UID:ietf-73-1047-tools
SUMMARY:Code Sprint
LOCATION:Marquette/Lasalle
STATUS:CONFIRMED
CLASS:PUBLIC
DTSTART;TZID=America/Menominee:20081115T093000
DTEND;TZID=America/Menominee:20081115T170000
DTSTAMP:20161222T095710Z
DESCRIPTION:Code Sprint\n
 \n
 Session materials: https://datatracker.ietf.org/meeting/73/session/tools\n
 \n
 See in schedule: https://datatracker.ietf.org/meeting/73/agenda#row-73-2008-11-15-sat-0930-tools-code-sprint\n
END:VEVENT
BEGIN:VEVENT
UID:ietf-73-1049-iepg
SUMMARY:IEPG Meeting
LOCATION:Salon F
STATUS:CONFIRMED
CLASS:PUBLIC
DTSTART;TZID=America/Menominee:20081116T100000
DTEND;TZID=America/Menominee:20081116T120000
DTSTAMP:20161222T095710Z
DESCRIPTION:IEPG Meeting\n
 \n
 Session materials: https://datatracker.ietf.org/meeting/73/session/iepg\n
 \n
 See in schedule: https://datatracker.ietf.org/meeting/73/agenda#row-73-2008-11-16-sun-1000-iepg-iepg-meeting\n
END:VEVENT
BEGIN:VEVENT
UID:ietf-73-1042-edu
SUMMARY:Bringing New Work to the IETF
LOCATION:Salon F
STATUS:CONFIRMED
CLASS:PUBLIC
DTSTART;TZID=America/Menominee:20081116T130000
DTEND;TZID=America/Menominee:20081116T144500
DTSTAMP:20161222T095710Z
DESCRIPTION:Bringing New Work to the IETF\n
 \n
 Session materials: https://datatracker.ietf.org/meeting/73/session/edu\n
 \n
 See in schedule: https://datatracker.ietf.org/meeting/73/agenda#row-73-2008-11-16-sun-1300-edu-bringing-new-work-to-the-ietf\n
END:VEVENT
BEGIN:VEVENT
UID:ietf-73-1041-edu
SUMMARY:Inter-Domain Routing from an IETF Perspective
LOCATION:Salon C
STATUS:CONFIRMED
CLASS:PUBLIC
DTSTART;TZID=America/Menominee:20081116T130000
DTEND;TZID=America/Menominee:20081116T144500
DTSTAMP:20161222T095710Z
DESCRIPTION:Inter-Domain Routing from an IETF Perspective\n
 \n
 Session materials: https://datatracker.ietf.org/meeting/73/session/edu\n
 \n
 See in schedule: https://datatracker.ietf.org/meeting/73/agenda#row-73-2008-11-16-sun-1300-edu-inter-domain-routing-from-an-ietf-perspective\n
END:VEVENT
BEGIN:VEVENT
UID:ietf-73-1040-edu
SUMMARY:Newcomer's Training
LOCATION:Salon E
STATUS:CONFIRMED
CLASS:PUBLIC
DTSTART;TZID=America/Menominee:20081116T130000
DTEND;TZID=America/Menominee:20081116T144500
DTSTAMP:20161222T095710Z
DESCRIPTION:Newcomer's Training\n
 \n
 Session materials: https://datatracker.ietf.org/meeting/73/session/edu\n
 \n
 See in schedule: https://datatracker.ietf.org/meeting/73/agenda#row-73-2008-11-16-sun-1300-edu-newcomers-training\n
END:VEVENT
BEGIN:VEVENT
UID:ietf-73-1043-edu
SUMMARY:Document Lifecycle
LOCATION:Salon E
STATUS:CONFIRMED
CLASS:PUBLIC
DTSTART;TZID=America/Menominee:20081116T150000
DTEND;TZID=America/Menominee:20081116T164500
DTSTAMP:20161222T095710Z
DESCRIPTION:Document Lifecycle\n
 \n
 Session materials: https://datatracker.ietf.org/meeting/73/session/edu\n
 \n
 See in schedule: https://datatracker.ietf.org/meeting/73/agenda#row-73-2008-11-16-sun-1500-edu-document-lifecycle\n
END:VEVENT
BEGIN:VEVENT
UID:ietf-73-1044-edu
SUMMARY:Security Tutorial
LOCATION:Salon C
STATUS:CONFIRMED
CLASS:PUBLIC
DTSTART;TZID=America/Menominee:20081116T150000
DTEND;TZID=America/Menominee:20081116T164500
DTSTAMP:20161222T095710Z
DESCRIPTION:Security Tutorial\n
 \n
 Session materials: https://datatracker.ietf.org/meeting/73/session/edu\n
 \n
 See in schedule: https://datatracker.ietf.org/meeting/73/agenda#row-73-2008-11-16-sun-1500-edu-security-tutorial\n
END:VEVENT
BEGIN:VEVENT
UID:ietf-73-1011-ietf
SUMMARY:IETF Operations and Administration Plenary
LOCATION:Salon D
STATUS:CONFIRMED
CLASS:PUBLIC
DTSTART;TZID=America/Menominee:20081119T152000
DTEND;TZID=America/Menominee:20081119T172000
DTSTAMP:20161222T095709Z
URL:https://datatracker.ietf.org/meeting/73/materials/agenda-73-ietf-ietf-operations-and-administration-plenary
DESCRIPTION:Technical Plenary\n
 \n
 Agenda https://datatracker.ietf.org/meeting/73/materials/agenda-73-ietf-ietf-operations-and-administration-plenary\n
 \n
 Session materials: https://datatracker.ietf.org/meeting/73/session/ietf\n
 \n
 See in schedule: https://datatracker.ietf.org/meeting/73/agenda#row-73-2008-11-19-wed-1520-1plenary-ietf\n
END:VEVENT
BEGIN:VEVENT
UID:ietf-73-1046-ietf
SUMMARY:Technical Plenary
LOCATION:Salon D
STATUS:CONFIRMED
CLASS:PUBLIC
DTSTART;TZID=America/Menominee:20081119T174000
DTEND;TZID=America/Menominee:20081119T200000
DTSTAMP:20161222T095709Z
URL:https://datatracker.ietf.org/meeting/73/materials/agenda-73-ietf-technical-plenary
DESCRIPTION:IETF Operations and Administration Plenary\n
 \n
 Agenda https://datatracker.ietf.org/meeting/73/materials/agenda-73-ietf-technical-plenary\n
 \n
 Session materials: https://datatracker.ietf.org/meeting/73/session/ietf\n
 \n
 See in schedule: https://datatracker.ietf.org/meeting/73/agenda#row-73-2008-11-19-wed-1740-1plenary-ietf\n
END:VEVENT
END:VCALENDAR
