BEGIN:VCALENDAR
VERSION:2.0
METHOD:PUBLISH
PRODID:-//IETF//datatracker.ietf.org ical agenda//EN
BEGIN:VTIMEZONE
TZID:America/Menominee
X-LIC-LOCATION:America/Menominee
BEGIN:DAYLIGHT
TZOFFSETFROM:-0600
TZOFFSETTO:-0500
TZNAME:CDT
DTSTART:20070311T020000
RRULE:FREQ=YEARLY;BYMONTH=3;BYDAY=2SU
END:DAYLIGHT
BEGIN:STANDARD
TZOFFSETFROM:-0500
TZOFFSETTO:-0600
TZNAME:CST
DTSTART:20071104T020000
RRULE:FREQ=YEARLY;BYMONTH=11;BYDAY=1SU
END:STANDARD
BEGIN:STANDARD
TZOFFSETFROM:-055027
TZOFFSETTO:-0600
TZNAME:CST
DTSTART:18850918T120000
RDATE:18850918T120000
END:STANDARD
BEGIN:DAYLIGHT
TZOFFSETFROM:-0600
TZOFFSETTO:-0500
TZNAME:CDT
DTSTART:19180331T020000
RDATE:19180331T020000
RDATE:19190330T020000
RDATE:19460428T020000
RDATE:19660424T020000
RDATE:19740106T020000
RDATE:19750223T020000
RDATE:19760425T020000
RDATE:19770424T020000
RDATE:19780430T020000
RDATE:19790429T020000
RDATE:19800427T020000
RDATE:19810426T020000
RDATE:19820425T020000
RDATE:19830424T020000
RDATE:19840429T020000
RDATE:19850428T020000
RDATE:19860427T020000
RDATE:19870405T020000
RDATE:19880403T020000
RDATE:19890402T020000
RDATE:19900401T020000
RDATE:19910407T020000
RDATE:19920405T020000
RDATE:19930404T020000
RDATE:19940403T020000
RDATE:19950402T020000
RDATE:19960407T020000
RDATE:19970406T020000
RDATE:19980405T020000
RDATE:19990404T020000
RDATE:20000402T020000
RDATE:20010401T020000
RDATE:20020407T020000
RDATE:20030406T020000
RDATE:20040404T020000
RDATE:20050403T020000
RDATE:20060402T020000
END:DAYLIGHT
BEGIN:STANDARD
TZOFFSETFROM:-0500
TZOFFSETTO:-0600
TZNAME:CST
DTSTART:19181027T020000
RDATE:19181027T020000
RDATE:19191026T020000
RDATE:19450930T020000
RDATE:19460929T020000
RDATE:19661030T020000
RDATE:19731028T020000
RDATE:19741027T020000
RDATE:19751026T020000
RDATE:19761031T020000
RDATE:19771030T020000
RDATE:19781029T020000
RDATE:19791028T020000
RDATE:19801026T020000
RDATE:19811025T020000
RDATE:19821031T020000
RDATE:19831030T020000
RDATE:19841028T020000
RDATE:19851027T020000
RDATE:19861026T020000
RDATE:19871025T020000
RDATE:19881030T020000
RDATE:19891029T020000
RDATE:19901028T020000
RDATE:19911027T020000
RDATE:19921025T020000
RDATE:19931031T020000
RDATE:19941030T020000
RDATE:19951029T020000
RDATE:19961027T020000
RDATE:19971026T020000
RDATE:19981025T020000
RDATE:19991031T020000
RDATE:20001029T020000
RDATE:20011028T020000
RDATE:20021027T020000
RDATE:20031026T020000
RDATE:20041031T020000
RDATE:20051030T020000
RDATE:20061029T020000
END:STANDARD
BEGIN:DAYLIGHT
TZOFFSETFROM:-0600
TZOFFSETTO:-0500
TZNAME:CWT
DTSTART:19420209T020000
RDATE:19420209T020000
END:DAYLIGHT
BEGIN:DAYLIGHT
TZOFFSETFROM:-0500
TZOFFSETTO:-0500
TZNAME:CPT
DTSTART:19450814T180000
RDATE:19450814T180000
END:DAYLIGHT
BEGIN:STANDARD
TZOFFSETFROM:-0600
TZOFFSETTO:-0600
TZNAME:CST
DTSTART:19460101T000000
RDATE:19460101T000000
END:STANDARD
BEGIN:STANDARD
TZOFFSETFROM:-0600
TZOFFSETTO:-0500
TZNAME:EST
DTSTART:19690427T020000
RDATE:19690427T020000
END:STANDARD
BEGIN:DAYLIGHT
TZOFFSETFROM:-0500
TZOFFSETTO:-0500
TZNAME:CDT
DTSTART:19730429T020000
RDATE:19730429T020000
END:DAYLIGHT
END:VTIMEZONE
BEGIN:VEVENT
UID:ietf-73-1126-savi
SUMMARY:savi - Source Address Validation Improvements
LOCATION:Salon AB
STATUS:CONFIRMED
CLASS:PUBLIC
DTSTART;TZID=America/Menominee:20081117T090000
DTEND;TZID=America/Menominee:20081117T113000
DTSTAMP:20161222T095710Z
URL:https://datatracker.ietf.org/meeting/73/materials/agenda-73-savi
DESCRIPTION:Morning Session I\n
 \n
 Agenda https://datatracker.ietf.org/meeting/73/materials/agenda-73-savi\n
 \n
 Session materials: https://datatracker.ietf.org/meeting/73/session/savi\n
 \n
 See in schedule: https://datatracker.ietf.org/meeting/73/agenda#row-73-2008-11-17-mon-0900-int-savi\n
END:VEVENT
BEGIN:VEVENT
UID:ietf-73-1110-6man
SUMMARY:6man - IPv6 Maintenance
LOCATION:Salon F
STATUS:CONFIRMED
CLASS:PUBLIC
DTSTART;TZID=America/Menominee:20081117T130000
DTEND;TZID=America/Menominee:20081117T150000
DTSTAMP:20161222T095709Z
URL:https://datatracker.ietf.org/meeting/73/materials/agenda-73-6man
DESCRIPTION:Afternoon Session I\n
 \n
 Agenda https://datatracker.ietf.org/meeting/73/materials/agenda-73-6man\n
 \n
 Session materials: https://datatracker.ietf.org/meeting/73/session/6man\n
 \n
 See in schedule: https://datatracker.ietf.org/meeting/73/agenda#row-73-2008-11-17-mon-1300-int-6man\n
END:VEVENT
BEGIN:VEVENT
UID:ietf-73-1033-trill
SUMMARY:trill - Transparent Interconnection of Lots of Links
LOCATION:Duluth
STATUS:CONFIRMED
CLASS:PUBLIC
DTSTART;TZID=America/Menominee:20081117T130000
DTEND;TZID=America/Menominee:20081117T150000
DTSTAMP:20161222T095709Z
URL:https://datatracker.ietf.org/meeting/73/materials/agenda-73-trill
DESCRIPTION:Afternoon Session I\n
 \n
 Agenda https://datatracker.ietf.org/meeting/73/materials/agenda-73-trill\n
 \n
 Session materials: https://datatracker.ietf.org/meeting/73/session/trill\n
 \n
 See in schedule: https://datatracker.ietf.org/meeting/73/agenda#row-73-2008-11-17-mon-1300-int-trill\n
END:VEVENT
BEGIN:VEVENT
UID:ietf-73-1133-multimob
SUMMARY:multimob - Multicast Mobility
LOCATION:Duluth
STATUS:CONFIRMED
CLASS:PUBLIC
DTSTART;TZID=America/Menominee:20081117T152000
DTEND;TZID=America/Menominee:20081117T172000
DTSTAMP:20161222T095709Z
URL:https://datatracker.ietf.org/meeting/73/materials/agenda-73-multimob
DESCRIPTION:Afternoon Session II\n
 \n
 Agenda https://datatracker.ietf.org/meeting/73/materials/agenda-73-multimob\n
 \n
 Session materials: https://datatracker.ietf.org/meeting/73/session/multimob\n
 \n
 See in schedule: https://datatracker.ietf.org/meeting/73/agenda#row-73-2008-11-17-mon-1520-int-multimob\n
END:VEVENT
BEGIN:VEVENT
UID:ietf-73-1061-tictoc
SUMMARY:tictoc - Timing over IP Connection and Transfer of Clock
LOCATION:Salon F
STATUS:CONFIRMED
CLASS:PUBLIC
DTSTART;TZID=America/Menominee:20081117T152000
DTEND;TZID=America/Menominee:20081117T172000
DTSTAMP:20161222T095709Z
URL:https://datatracker.ietf.org/meeting/73/materials/agenda-73-tictoc
DESCRIPTION:Afternoon Session II\n
 \n
 Agenda https://datatracker.ietf.org/meeting/73/materials/agenda-73-tictoc\n
 \n
 Session materials: https://datatracker.ietf.org/meeting/73/session/tictoc\n
 \n
 See in schedule: https://datatracker.ietf.org/meeting/73/agenda#row-73-2008-11-17-mon-1520-int-tictoc\n
END:VEVENT
BEGIN:VEVENT
UID:ietf-73-1027-mext
SUMMARY:mext - Mobility EXTensions for IPv6
LOCATION:Salon AB
STATUS:CONFIRMED
CLASS:PUBLIC
DTSTART;TZID=America/Menominee:20081117T174000
DTEND;TZID=America/Menominee:20081117T193000
DTSTAMP:20161222T095709Z
URL:https://datatracker.ietf.org/meeting/73/materials/agenda-73-mext
DESCRIPTION:Afternoon Session III\n
 \n
 Agenda https://datatracker.ietf.org/meeting/73/materials/agenda-73-mext\n
 \n
 Session materials: https://datatracker.ietf.org/meeting/73/session/mext\n
 \n
 See in schedule: https://datatracker.ietf.org/meeting/73/agenda#row-73-2008-11-17-mon-1740-int-mext\n
END:VEVENT
BEGIN:VEVENT
UID:ietf-73-1109-ntp
SUMMARY:ntp - Network Time Protocol
LOCATION:Duluth
STATUS:CONFIRMED
CLASS:PUBLIC
DTSTART;TZID=America/Menominee:20081117T174000
DTEND;TZID=America/Menominee:20081117T193000
DTSTAMP:20161222T095709Z
URL:https://datatracker.ietf.org/meeting/73/materials/agenda-73-ntp
DESCRIPTION:Afternoon Session III\n
 \n
 Agenda https://datatracker.ietf.org/meeting/73/materials/agenda-73-ntp\n
 \n
 Session materials: https://datatracker.ietf.org/meeting/73/session/ntp\n
 \n
 See in schedule: https://datatracker.ietf.org/meeting/73/agenda#row-73-2008-11-17-mon-1740-int-ntp\n
END:VEVENT
BEGIN:VEVENT
UID:ietf-73-1055-6lowpan
SUMMARY:6lowpan - IPv6 over Low power WPAN
LOCATION:Salon F
STATUS:CONFIRMED
CLASS:PUBLIC
DTSTART;TZID=America/Menominee:20081118T090000
DTEND;TZID=America/Menominee:20081118T113000
DTSTAMP:20161222T095709Z
URL:https://datatracker.ietf.org/meeting/73/materials/agenda-73-6lowpan
DESCRIPTION:Morning Session I\n
 \n
 Agenda https://datatracker.ietf.org/meeting/73/materials/agenda-73-6lowpan\n
 \n
 Session materials: https://datatracker.ietf.org/meeting/73/session/6lowpan\n
 \n
 See in schedule: https://datatracker.ietf.org/meeting/73/agenda#row-73-2008-11-18-tue-0900-int-6lowpan\n
END:VEVENT
BEGIN:VEVENT
UID:ietf-73-1036-mipshop
SUMMARY:mipshop - Mobility for IP: Performance, Signaling and Handoff Optimization
LOCATION:Salon G
STATUS:CONFIRMED
CLASS:PUBLIC
DTSTART;TZID=America/Menominee:20081118T130000
DTEND;TZID=America/Menominee:20081118T150000
DTSTAMP:20161222T095709Z
URL:https://datatracker.ietf.org/meeting/73/materials/agenda-73-mipshop
DESCRIPTION:Afternoon Session I\n
 \n
 Agenda https://datatracker.ietf.org/meeting/73/materials/agenda-73-mipshop\n
 \n
 Session materials: https://datatracker.ietf.org/meeting/73/session/mipshop\n
 \n
 See in schedule: https://datatracker.ietf.org/meeting/73/agenda#row-73-2008-11-18-tue-1300-int-mipshop\n
END:VEVENT
BEGIN:VEVENT
UID:ietf-73-1120-autoconf
SUMMARY:autoconf - Ad-Hoc Network Autoconfiguration
LOCATION:Salon G
STATUS:CONFIRMED
CLASS:PUBLIC
DTSTART;TZID=America/Menominee:20081118T152000
DTEND;TZID=America/Menominee:20081118T170000
DTSTAMP:20161222T095709Z
URL:https://datatracker.ietf.org/meeting/73/materials/agenda-73-autoconf
DESCRIPTION:Afternoon Session II\n
 \n
 Agenda https://datatracker.ietf.org/meeting/73/materials/agenda-73-autoconf\n
 \n
 Session materials: https://datatracker.ietf.org/meeting/73/session/autoconf\n
 \n
 See in schedule: https://datatracker.ietf.org/meeting/73/agenda#row-73-2008-11-18-tue-1520-int-autoconf\n
END:VEVENT
BEGIN:VEVENT
UID:ietf-73-1058-dnsext
SUMMARY:dnsext - DNS Extensions
LOCATION:Salon AB
STATUS:CONFIRMED
CLASS:PUBLIC
DTSTART;TZID=America/Menominee:20081118T152000
DTEND;TZID=America/Menominee:20081118T170000
DTSTAMP:20161222T095709Z
URL:https://datatracker.ietf.org/meeting/73/materials/agenda-73-dnsext
DESCRIPTION:Afternoon Session II\n
 \n
 Agenda https://datatracker.ietf.org/meeting/73/materials/agenda-73-dnsext\n
 \n
 Session materials: https://datatracker.ietf.org/meeting/73/session/dnsext\n
 \n
 See in schedule: https://datatracker.ietf.org/meeting/73/agenda#row-73-2008-11-18-tue-1520-int-dnsext\n
END:VEVENT
BEGIN:VEVENT
UID:ietf-73-1066-16ng
SUMMARY:16ng - IP over IEEE 802.16 Networks
LOCATION:Salon F
STATUS:CONFIRMED
CLASS:PUBLIC
DTSTART;TZID=America/Menominee:20081118T171000
DTEND;TZID=America/Menominee:20081118T181000
DTSTAMP:20161222T095709Z
URL:https://datatracker.ietf.org/meeting/73/materials/agenda-73-16ng
DESCRIPTION:Afternoon Session III\n
 \n
 Agenda https://datatracker.ietf.org/meeting/73/materials/agenda-73-16ng\n
 \n
 Session materials: https://datatracker.ietf.org/meeting/73/session/16ng\n
 \n
 See in schedule: https://datatracker.ietf.org/meeting/73/agenda#row-73-2008-11-18-tue-1710-int-16ng\n
END:VEVENT
BEGIN:VEVENT
UID:ietf-73-1051-dna
SUMMARY:dna - Detecting Network Attachment
LOCATION:Salon C
STATUS:CONFIRMED
CLASS:PUBLIC
DTSTART;TZID=America/Menominee:20081118T171000
DTEND;TZID=America/Menominee:20081118T181000
DTSTAMP:20161222T095709Z
URL:https://datatracker.ietf.org/meeting/73/materials/agenda-73-dna
DESCRIPTION:Afternoon Session III\n
 \n
 Agenda https://datatracker.ietf.org/meeting/73/materials/agenda-73-dna\n
 \n
 Session materials: https://datatracker.ietf.org/meeting/73/session/dna\n
 \n
 See in schedule: https://datatracker.ietf.org/meeting/73/agenda#row-73-2008-11-18-tue-1710-int-dna\n
END:VEVENT
BEGIN:VEVENT
UID:ietf-73-1039-mip4
SUMMARY:mip4 - Mobility for IPv4
LOCATION:Duluth
STATUS:CONFIRMED
CLASS:PUBLIC
DTSTART;TZID=America/Menominee:20081119T103000
DTEND;TZID=America/Menominee:20081119T113000
DTSTAMP:20161222T095709Z
URL:https://datatracker.ietf.org/meeting/73/materials/agenda-73-mip4
DESCRIPTION:Morning Session II\n
 \n
 Agenda https://datatracker.ietf.org/meeting/73/materials/agenda-73-mip4\n
 \n
 Session materials: https://datatracker.ietf.org/meeting/73/session/mip4\n
 \n
 See in schedule: https://datatracker.ietf.org/meeting/73/agenda#row-73-2008-11-19-wed-1030-int-mip4\n
END:VEVENT
BEGIN:VEVENT
UID:ietf-73-1029-csi
SUMMARY:csi - Cga & Send maIntenance
LOCATION:Salon F
STATUS:CONFIRMED
CLASS:PUBLIC
DTSTART;TZID=America/Menominee:20081119T130000
DTEND;TZID=America/Menominee:20081119T150000
DTSTAMP:20161222T095709Z
URL:https://datatracker.ietf.org/meeting/73/materials/agenda-73-csi
DESCRIPTION:Afternoon Session I\n
 \n
 Agenda https://datatracker.ietf.org/meeting/73/materials/agenda-73-csi\n
 \n
 Session materials: https://datatracker.ietf.org/meeting/73/session/csi\n
 \n
 See in schedule: https://datatracker.ietf.org/meeting/73/agenda#row-73-2008-11-19-wed-1300-int-csi\n
END:VEVENT
BEGIN:VEVENT
UID:ietf-73-1059-dhc
SUMMARY:dhc - Dynamic Host Configuration
LOCATION:Salon F
STATUS:CONFIRMED
CLASS:PUBLIC
DTSTART;TZID=America/Menominee:20081120T090000
DTEND;TZID=America/Menominee:20081120T113000
DTSTAMP:20161222T095709Z
URL:https://datatracker.ietf.org/meeting/73/materials/agenda-73-dhc
DESCRIPTION:Morning Session I\n
 \n
 Agenda https://datatracker.ietf.org/meeting/73/materials/agenda-73-dhc\n
 \n
 Session materials: https://datatracker.ietf.org/meeting/73/session/dhc\n
 \n
 See in schedule: https://datatracker.ietf.org/meeting/73/agenda#row-73-2008-11-20-thu-0900-int-dhc\n
END:VEVENT
BEGIN:VEVENT
UID:ietf-73-1112-ancp
SUMMARY:ancp - Access Node Control Protocol
LOCATION:Rochester
STATUS:CONFIRMED
CLASS:PUBLIC
DTSTART;TZID=America/Menominee:20081120T130000
DTEND;TZID=America/Menominee:20081120T150000
DTSTAMP:20161222T095709Z
URL:https://datatracker.ietf.org/meeting/73/materials/agenda-73-ancp
DESCRIPTION:Afternoon Session I\n
 \n
 Agenda https://datatracker.ietf.org/meeting/73/materials/agenda-73-ancp\n
 \n
 Session materials: https://datatracker.ietf.org/meeting/73/session/ancp\n
 \n
 See in schedule: https://datatracker.ietf.org/meeting/73/agenda#row-73-2008-11-20-thu-1300-int-ancp\n
END:VEVENT
BEGIN:VEVENT
UID:ietf-73-1028-mext
SUMMARY:mext - Mobility EXTensions for IPv6
LOCATION:Salon AB
STATUS:CONFIRMED
CLASS:PUBLIC
DTSTART;TZID=America/Menominee:20081120T130000
DTEND;TZID=America/Menominee:20081120T150000
DTSTAMP:20161222T095709Z
DESCRIPTION:Afternoon Session I\n
 \n
 Session materials: https://datatracker.ietf.org/meeting/73/session/mext\n
 \n
 See in schedule: https://datatracker.ietf.org/meeting/73/agenda#row-73-2008-11-20-thu-1300-int-mext\n
END:VEVENT
BEGIN:VEVENT
UID:ietf-73-1030-intarea
SUMMARY:intarea - Internet Area Working Group
LOCATION:Salon AB
STATUS:CONFIRMED
CLASS:PUBLIC
DTSTART;TZID=America/Menominee:20081120T152000
DTEND;TZID=America/Menominee:20081120T172000
DTSTAMP:20161222T095709Z
DESCRIPTION:Afternoon Session II\n
 \n
 Session materials: https://datatracker.ietf.org/meeting/73/session/intarea\n
 \n
 See in schedule: https://datatracker.ietf.org/meeting/73/agenda#row-73-2008-11-20-thu-1520-int-intarea\n
END:VEVENT
BEGIN:VEVENT
UID:ietf-73-1123-pana
SUMMARY:pana - Protocol for carrying Authentication for Network Access
LOCATION:Rochester
STATUS:CONFIRMED
CLASS:PUBLIC
DTSTART;TZID=America/Menominee:20081120T174000
DTEND;TZID=America/Menominee:20081120T193000
DTSTAMP:20161222T095709Z
URL:https://datatracker.ietf.org/meeting/73/materials/agenda-73-pana
DESCRIPTION:Afternoon Session III\n
 \n
 Agenda https://datatracker.ietf.org/meeting/73/materials/agenda-73-pana\n
 \n
 Session materials: https://datatracker.ietf.org/meeting/73/session/pana\n
 \n
 See in schedule: https://datatracker.ietf.org/meeting/73/agenda#row-73-2008-11-20-thu-1740-int-pana\n
END:VEVENT
BEGIN:VEVENT
UID:ietf-73-1135-softwire
SUMMARY:softwire - Softwires
LOCATION:Salon D
STATUS:CONFIRMED
CLASS:PUBLIC
DTSTART;TZID=America/Menominee:20081120T174000
DTEND;TZID=America/Menominee:20081120T193000
DTSTAMP:20161222T095709Z
URL:https://datatracker.ietf.org/meeting/73/materials/agenda-73-softwire
DESCRIPTION:Afternoon Session III\n
 \n
 Agenda https://datatracker.ietf.org/meeting/73/materials/agenda-73-softwire\n
 \n
 Session materials: https://datatracker.ietf.org/meeting/73/session/softwire\n
 \n
 See in schedule: https://datatracker.ietf.org/meeting/73/agenda#row-73-2008-11-20-thu-1740-int-softwire\n
END:VEVENT
BEGIN:VEVENT
UID:ietf-73-1122-netlmm
SUMMARY:netlmm - Network-based Localized Mobility Management (ROOM CHANGE)
LOCATION:Salon G
STATUS:CONFIRMED
CLASS:PUBLIC
DTSTART;TZID=America/Menominee:20081121T090000
DTEND;TZID=America/Menominee:20081121T113000
DTSTAMP:20161222T095709Z
URL:https://datatracker.ietf.org/meeting/73/materials/agenda-73-netlmm
DESCRIPTION:Morning Session I\n
 Note: ROOM CHANGE\n
 \n
 Agenda https://datatracker.ietf.org/meeting/73/materials/agenda-73-netlmm\n
 \n
 Session materials: https://datatracker.ietf.org/meeting/73/session/netlmm\n
 \n
 See in schedule: https://datatracker.ietf.org/meeting/73/agenda#row-73-2008-11-21-fri-0900-int-netlmm\n
END:VEVENT
END:VCALENDAR
