BEGIN:VCALENDAR
VERSION:2.0
METHOD:PUBLISH
PRODID:-//IETF//datatracker.ietf.org ical agenda//EN
BEGIN:VTIMEZONE
TZID:America/Menominee
X-LIC-LOCATION:America/Menominee
BEGIN:DAYLIGHT
TZOFFSETFROM:-0600
TZOFFSETTO:-0500
TZNAME:CDT
DTSTART:20070311T020000
RRULE:FREQ=YEARLY;BYMONTH=3;BYDAY=2SU
END:DAYLIGHT
BEGIN:STANDARD
TZOFFSETFROM:-0500
TZOFFSETTO:-0600
TZNAME:CST
DTSTART:20071104T020000
RRULE:FREQ=YEARLY;BYMONTH=11;BYDAY=1SU
END:STANDARD
BEGIN:STANDARD
TZOFFSETFROM:-055027
TZOFFSETTO:-0600
TZNAME:CST
DTSTART:18850918T120000
RDATE:18850918T120000
END:STANDARD
BEGIN:DAYLIGHT
TZOFFSETFROM:-0600
TZOFFSETTO:-0500
TZNAME:CDT
DTSTART:19180331T020000
RDATE:19180331T020000
RDATE:19190330T020000
RDATE:19460428T020000
RDATE:19660424T020000
RDATE:19740106T020000
RDATE:19750223T020000
RDATE:19760425T020000
RDATE:19770424T020000
RDATE:19780430T020000
RDATE:19790429T020000
RDATE:19800427T020000
RDATE:19810426T020000
RDATE:19820425T020000
RDATE:19830424T020000
RDATE:19840429T020000
RDATE:19850428T020000
RDATE:19860427T020000
RDATE:19870405T020000
RDATE:19880403T020000
RDATE:19890402T020000
RDATE:19900401T020000
RDATE:19910407T020000
RDATE:19920405T020000
RDATE:19930404T020000
RDATE:19940403T020000
RDATE:19950402T020000
RDATE:19960407T020000
RDATE:19970406T020000
RDATE:19980405T020000
RDATE:19990404T020000
RDATE:20000402T020000
RDATE:20010401T020000
RDATE:20020407T020000
RDATE:20030406T020000
RDATE:20040404T020000
RDATE:20050403T020000
RDATE:20060402T020000
END:DAYLIGHT
BEGIN:STANDARD
TZOFFSETFROM:-0500
TZOFFSETTO:-0600
TZNAME:CST
DTSTART:19181027T020000
RDATE:19181027T020000
RDATE:19191026T020000
RDATE:19450930T020000
RDATE:19460929T020000
RDATE:19661030T020000
RDATE:19731028T020000
RDATE:19741027T020000
RDATE:19751026T020000
RDATE:19761031T020000
RDATE:19771030T020000
RDATE:19781029T020000
RDATE:19791028T020000
RDATE:19801026T020000
RDATE:19811025T020000
RDATE:19821031T020000
RDATE:19831030T020000
RDATE:19841028T020000
RDATE:19851027T020000
RDATE:19861026T020000
RDATE:19871025T020000
RDATE:19881030T020000
RDATE:19891029T020000
RDATE:19901028T020000
RDATE:19911027T020000
RDATE:19921025T020000
RDATE:19931031T020000
RDATE:19941030T020000
RDATE:19951029T020000
RDATE:19961027T020000
RDATE:19971026T020000
RDATE:19981025T020000
RDATE:19991031T020000
RDATE:20001029T020000
RDATE:20011028T020000
RDATE:20021027T020000
RDATE:20031026T020000
RDATE:20041031T020000
RDATE:20051030T020000
RDATE:20061029T020000
END:STANDARD
BEGIN:DAYLIGHT
TZOFFSETFROM:-0600
TZOFFSETTO:-0500
TZNAME:CWT
DTSTART:19420209T020000
RDATE:19420209T020000
END:DAYLIGHT
BEGIN:DAYLIGHT
TZOFFSETFROM:-0500
TZOFFSETTO:-0500
TZNAME:CPT
DTSTART:19450814T180000
RDATE:19450814T180000
END:DAYLIGHT
BEGIN:STANDARD
TZOFFSETFROM:-0600
TZOFFSETTO:-0600
TZNAME:CST
DTSTART:19460101T000000
RDATE:19460101T000000
END:STANDARD
BEGIN:STANDARD
TZOFFSETFROM:-0600
TZOFFSETTO:-0500
TZNAME:EST
DTSTART:19690427T020000
RDATE:19690427T020000
END:STANDARD
BEGIN:DAYLIGHT
TZOFFSETFROM:-0500
TZOFFSETTO:-0500
TZNAME:CDT
DTSTART:19730429T020000
RDATE:19730429T020000
END:DAYLIGHT
END:VTIMEZONE
BEGIN:VEVENT
UID:ietf-73-1056-iccrg
SUMMARY:iccrg - Internet Congestion Control Research Group
LOCATION:Rochester
STATUS:CONFIRMED
CLASS:PUBLIC
DTSTART;TZID=America/Menominee:20081117T152000
DTEND;TZID=America/Menominee:20081117T172000
DTSTAMP:20161222T095709Z
URL:https://datatracker.ietf.org/meeting/73/materials/agenda-73-iccrg
DESCRIPTION:Afternoon Session II\n
 \n
 Agenda https://datatracker.ietf.org/meeting/73/materials/agenda-73-iccrg\n
 \n
 Session materials: https://datatracker.ietf.org/meeting/73/session/iccrg\n
 \n
 See in schedule: https://datatracker.ietf.org/meeting/73/agenda#row-73-2008-11-17-mon-1520-irtf-iccrg\n
END:VEVENT
BEGIN:VEVENT
UID:ietf-73-1090-mobopts
SUMMARY:mobopts - IP Mobility Optimizations Research Group
LOCATION:Duluth
STATUS:CONFIRMED
CLASS:PUBLIC
DTSTART;TZID=America/Menominee:20081118T090000
DTEND;TZID=America/Menominee:20081118T113000
DTSTAMP:20161222T095709Z
URL:https://datatracker.ietf.org/meeting/73/materials/agenda-73-mobopts
DESCRIPTION:Morning Session I\n
 \n
 Agenda https://datatracker.ietf.org/meeting/73/materials/agenda-73-mobopts\n
 \n
 Session materials: https://datatracker.ietf.org/meeting/73/session/mobopts\n
 \n
 See in schedule: https://datatracker.ietf.org/meeting/73/agenda#row-73-2008-11-18-tue-0900-irtf-mobopts\n
END:VEVENT
BEGIN:VEVENT
UID:ietf-73-1111-dtnrg
SUMMARY:dtnrg - Delay-Tolerant Networking Research Group
LOCATION:Duluth
STATUS:CONFIRMED
CLASS:PUBLIC
DTSTART;TZID=America/Menominee:20081120T090000
DTEND;TZID=America/Menominee:20081120T113000
DTSTAMP:20161222T095709Z
URL:https://datatracker.ietf.org/meeting/73/materials/agenda-73-dtnrg
DESCRIPTION:Morning Session I\n
 \n
 Agenda https://datatracker.ietf.org/meeting/73/materials/agenda-73-dtnrg\n
 \n
 Session materials: https://datatracker.ietf.org/meeting/73/session/dtnrg\n
 \n
 See in schedule: https://datatracker.ietf.org/meeting/73/agenda#row-73-2008-11-20-thu-0900-irtf-dtnrg\n
END:VEVENT
BEGIN:VEVENT
UID:ietf-73-1125-hiprg
SUMMARY:hiprg - Host Identity Protocol
LOCATION:Duluth
STATUS:CONFIRMED
CLASS:PUBLIC
DTSTART;TZID=America/Menominee:20081121T090000
DTEND;TZID=America/Menominee:20081121T113000
DTSTAMP:20161222T095709Z
URL:https://datatracker.ietf.org/meeting/73/materials/agenda-73-hiprg
DESCRIPTION:Morning Session I\n
 \n
 Agenda https://datatracker.ietf.org/meeting/73/materials/agenda-73-hiprg\n
 \n
 Session materials: https://datatracker.ietf.org/meeting/73/session/hiprg\n
 \n
 See in schedule: https://datatracker.ietf.org/meeting/73/agenda#row-73-2008-11-21-fri-0900-irtf-hiprg\n
END:VEVENT
BEGIN:VEVENT
UID:ietf-73-1021-rrg
SUMMARY:rrg - Routing Research Group
LOCATION:Salon F
STATUS:CONFIRMED
CLASS:PUBLIC
DTSTART;TZID=America/Menominee:20081121T090000
DTEND;TZID=America/Menominee:20081121T113000
DTSTAMP:20161222T095709Z
URL:https://datatracker.ietf.org/meeting/73/materials/agenda-73-rrg
DESCRIPTION:Morning Session I\n
 \n
 Agenda https://datatracker.ietf.org/meeting/73/materials/agenda-73-rrg\n
 \n
 Session materials: https://datatracker.ietf.org/meeting/73/session/rrg\n
 \n
 See in schedule: https://datatracker.ietf.org/meeting/73/agenda#row-73-2008-11-21-fri-0900-irtf-rrg\n
END:VEVENT
BEGIN:VEVENT
UID:ietf-73-1022-rrg
SUMMARY:rrg - Routing Research Group
LOCATION:Salon F
STATUS:CONFIRMED
CLASS:PUBLIC
DTSTART;TZID=America/Menominee:20081121T130000
DTEND;TZID=America/Menominee:20081121T140000
DTSTAMP:20161222T095709Z
URL:https://datatracker.ietf.org/meeting/73/materials/agenda-73-rrg
DESCRIPTION:Afternoon Session I\n
 \n
 Agenda https://datatracker.ietf.org/meeting/73/materials/agenda-73-rrg\n
 \n
 Session materials: https://datatracker.ietf.org/meeting/73/session/rrg\n
 \n
 See in schedule: https://datatracker.ietf.org/meeting/73/agenda#row-73-2008-11-21-fri-1300-irtf-rrg\n
END:VEVENT
BEGIN:VEVENT
UID:ietf-73-1023-rrg
SUMMARY:rrg - Routing Research Group
LOCATION:Salon F
STATUS:CONFIRMED
CLASS:PUBLIC
DTSTART;TZID=America/Menominee:20081121T141500
DTEND;TZID=America/Menominee:20081121T151500
DTSTAMP:20161222T095709Z
URL:https://datatracker.ietf.org/meeting/73/materials/agenda-73-rrg
DESCRIPTION:Afternoon Session II\n
 \n
 Agenda https://datatracker.ietf.org/meeting/73/materials/agenda-73-rrg\n
 \n
 Session materials: https://datatracker.ietf.org/meeting/73/session/rrg\n
 \n
 See in schedule: https://datatracker.ietf.org/meeting/73/agenda#row-73-2008-11-21-fri-1415-irtf-rrg\n
END:VEVENT
END:VCALENDAR
