BEGIN:VCALENDAR
VERSION:2.0
METHOD:PUBLISH
PRODID:-//IETF//datatracker.ietf.org ical agenda//EN
BEGIN:VTIMEZONE
TZID:America/Menominee
X-LIC-LOCATION:America/Menominee
BEGIN:DAYLIGHT
TZOFFSETFROM:-0600
TZOFFSETTO:-0500
TZNAME:CDT
DTSTART:20070311T020000
RRULE:FREQ=YEARLY;BYMONTH=3;BYDAY=2SU
END:DAYLIGHT
BEGIN:STANDARD
TZOFFSETFROM:-0500
TZOFFSETTO:-0600
TZNAME:CST
DTSTART:20071104T020000
RRULE:FREQ=YEARLY;BYMONTH=11;BYDAY=1SU
END:STANDARD
BEGIN:STANDARD
TZOFFSETFROM:-055027
TZOFFSETTO:-0600
TZNAME:CST
DTSTART:18850918T120000
RDATE:18850918T120000
END:STANDARD
BEGIN:DAYLIGHT
TZOFFSETFROM:-0600
TZOFFSETTO:-0500
TZNAME:CDT
DTSTART:19180331T020000
RDATE:19180331T020000
RDATE:19190330T020000
RDATE:19460428T020000
RDATE:19660424T020000
RDATE:19740106T020000
RDATE:19750223T020000
RDATE:19760425T020000
RDATE:19770424T020000
RDATE:19780430T020000
RDATE:19790429T020000
RDATE:19800427T020000
RDATE:19810426T020000
RDATE:19820425T020000
RDATE:19830424T020000
RDATE:19840429T020000
RDATE:19850428T020000
RDATE:19860427T020000
RDATE:19870405T020000
RDATE:19880403T020000
RDATE:19890402T020000
RDATE:19900401T020000
RDATE:19910407T020000
RDATE:19920405T020000
RDATE:19930404T020000
RDATE:19940403T020000
RDATE:19950402T020000
RDATE:19960407T020000
RDATE:19970406T020000
RDATE:19980405T020000
RDATE:19990404T020000
RDATE:20000402T020000
RDATE:20010401T020000
RDATE:20020407T020000
RDATE:20030406T020000
RDATE:20040404T020000
RDATE:20050403T020000
RDATE:20060402T020000
END:DAYLIGHT
BEGIN:STANDARD
TZOFFSETFROM:-0500
TZOFFSETTO:-0600
TZNAME:CST
DTSTART:19181027T020000
RDATE:19181027T020000
RDATE:19191026T020000
RDATE:19450930T020000
RDATE:19460929T020000
RDATE:19661030T020000
RDATE:19731028T020000
RDATE:19741027T020000
RDATE:19751026T020000
RDATE:19761031T020000
RDATE:19771030T020000
RDATE:19781029T020000
RDATE:19791028T020000
RDATE:19801026T020000
RDATE:19811025T020000
RDATE:19821031T020000
RDATE:19831030T020000
RDATE:19841028T020000
RDATE:19851027T020000
RDATE:19861026T020000
RDATE:19871025T020000
RDATE:19881030T020000
RDATE:19891029T020000
RDATE:19901028T020000
RDATE:19911027T020000
RDATE:19921025T020000
RDATE:19931031T020000
RDATE:19941030T020000
RDATE:19951029T020000
RDATE:19961027T020000
RDATE:19971026T020000
RDATE:19981025T020000
RDATE:19991031T020000
RDATE:20001029T020000
RDATE:20011028T020000
RDATE:20021027T020000
RDATE:20031026T020000
RDATE:20041031T020000
RDATE:20051030T020000
RDATE:20061029T020000
END:STANDARD
BEGIN:DAYLIGHT
TZOFFSETFROM:-0600
TZOFFSETTO:-0500
TZNAME:CWT
DTSTART:19420209T020000
RDATE:19420209T020000
END:DAYLIGHT
BEGIN:DAYLIGHT
TZOFFSETFROM:-0500
TZOFFSETTO:-0500
TZNAME:CPT
DTSTART:19450814T180000
RDATE:19450814T180000
END:DAYLIGHT
BEGIN:STANDARD
TZOFFSETFROM:-0600
TZOFFSETTO:-0600
TZNAME:CST
DTSTART:19460101T000000
RDATE:19460101T000000
END:STANDARD
BEGIN:STANDARD
TZOFFSETFROM:-0600
TZOFFSETTO:-0500
TZNAME:EST
DTSTART:19690427T020000
RDATE:19690427T020000
END:STANDARD
BEGIN:DAYLIGHT
TZOFFSETFROM:-0500
TZOFFSETTO:-0500
TZNAME:CDT
DTSTART:19730429T020000
RDATE:19730429T020000
END:DAYLIGHT
END:VTIMEZONE
BEGIN:VEVENT
UID:ietf-73-1072-bmwg
SUMMARY:bmwg - Benchmarking Methodology
LOCATION:Rochester
STATUS:CONFIRMED
CLASS:PUBLIC
DTSTART;TZID=America/Menominee:20081117T130000
DTEND;TZID=America/Menominee:20081117T150000
DTSTAMP:20161222T095709Z
URL:https://datatracker.ietf.org/meeting/73/materials/agenda-73-bmwg
DESCRIPTION:Afternoon Session I\n
 \n
 Agenda https://datatracker.ietf.org/meeting/73/materials/agenda-73-bmwg\n
 \n
 Session materials: https://datatracker.ietf.org/meeting/73/session/bmwg\n
 \n
 See in schedule: https://datatracker.ietf.org/meeting/73/agenda#row-73-2008-11-17-mon-1300-ops-bmwg\n
END:VEVENT
BEGIN:VEVENT
UID:ietf-73-1074-opsarea
SUMMARY:opsarea - Operations & Management Area Open Meeting
LOCATION:Salon C
STATUS:CONFIRMED
CLASS:PUBLIC
DTSTART;TZID=America/Menominee:20081117T152000
DTEND;TZID=America/Menominee:20081117T172000
DTSTAMP:20161222T095709Z
URL:https://datatracker.ietf.org/meeting/73/materials/agenda-73-opsarea
DESCRIPTION:Afternoon Session II\n
 \n
 Agenda https://datatracker.ietf.org/meeting/73/materials/agenda-73-opsarea\n
 \n
 Session materials: https://datatracker.ietf.org/meeting/73/session/opsarea\n
 \n
 See in schedule: https://datatracker.ietf.org/meeting/73/agenda#row-73-2008-11-17-mon-1520-ops-opsarea\n
END:VEVENT
BEGIN:VEVENT
UID:ietf-73-1084-netconf
SUMMARY:netconf - Network Configuration
LOCATION:Salon E
STATUS:CONFIRMED
CLASS:PUBLIC
DTSTART;TZID=America/Menominee:20081117T174000
DTEND;TZID=America/Menominee:20081117T193000
DTSTAMP:20161222T095709Z
URL:https://datatracker.ietf.org/meeting/73/materials/agenda-73-netconf
DESCRIPTION:Afternoon Session III\n
 \n
 Agenda https://datatracker.ietf.org/meeting/73/materials/agenda-73-netconf\n
 \n
 Session materials: https://datatracker.ietf.org/meeting/73/session/netconf\n
 \n
 See in schedule: https://datatracker.ietf.org/meeting/73/agenda#row-73-2008-11-17-mon-1740-ops-netconf\n
END:VEVENT
BEGIN:VEVENT
UID:ietf-73-1086-radext
SUMMARY:radext - RADIUS EXTensions
LOCATION:Rochester
STATUS:CONFIRMED
CLASS:PUBLIC
DTSTART;TZID=America/Menominee:20081118T090000
DTEND;TZID=America/Menominee:20081118T113000
DTSTAMP:20161222T095709Z
URL:https://datatracker.ietf.org/meeting/73/materials/agenda-73-radext
DESCRIPTION:Morning Session I\n
 \n
 Agenda https://datatracker.ietf.org/meeting/73/materials/agenda-73-radext\n
 \n
 Session materials: https://datatracker.ietf.org/meeting/73/session/radext\n
 \n
 See in schedule: https://datatracker.ietf.org/meeting/73/agenda#row-73-2008-11-18-tue-0900-ops-radext\n
END:VEVENT
BEGIN:VEVENT
UID:ietf-73-1065-v6ops
SUMMARY:v6ops - IPv6 Operations
LOCATION:Salon D
STATUS:CONFIRMED
CLASS:PUBLIC
DTSTART;TZID=America/Menominee:20081118T130000
DTEND;TZID=America/Menominee:20081118T150000
DTSTAMP:20161222T095709Z
URL:https://datatracker.ietf.org/meeting/73/materials/agenda-73-v6ops
DESCRIPTION:Afternoon Session I\n
 \n
 Agenda https://datatracker.ietf.org/meeting/73/materials/agenda-73-v6ops\n
 \n
 Session materials: https://datatracker.ietf.org/meeting/73/session/v6ops\n
 \n
 See in schedule: https://datatracker.ietf.org/meeting/73/agenda#row-73-2008-11-18-tue-1300-ops-v6ops\n
END:VEVENT
BEGIN:VEVENT
UID:ietf-73-1113-opsec
SUMMARY:opsec - Operational Security Capabilities for IP Network Infrastructure
LOCATION:Duluth
STATUS:CONFIRMED
CLASS:PUBLIC
DTSTART;TZID=America/Menominee:20081118T152000
DTEND;TZID=America/Menominee:20081118T170000
DTSTAMP:20161222T095709Z
URL:https://datatracker.ietf.org/meeting/73/materials/agenda-73-opsec
DESCRIPTION:Afternoon Session II\n
 \n
 Agenda https://datatracker.ietf.org/meeting/73/materials/agenda-73-opsec\n
 \n
 Session materials: https://datatracker.ietf.org/meeting/73/session/opsec\n
 \n
 See in schedule: https://datatracker.ietf.org/meeting/73/agenda#row-73-2008-11-18-tue-1520-ops-opsec\n
END:VEVENT
BEGIN:VEVENT
UID:ietf-73-1115-capwap
SUMMARY:capwap - Control And Provisioning of Wireless Access Points
LOCATION:Duluth
STATUS:CONFIRMED
CLASS:PUBLIC
DTSTART;TZID=America/Menominee:20081118T171000
DTEND;TZID=America/Menominee:20081118T181000
DTSTAMP:20161222T095709Z
URL:https://datatracker.ietf.org/meeting/73/materials/agenda-73-capwap
DESCRIPTION:Afternoon Session III\n
 \n
 Agenda https://datatracker.ietf.org/meeting/73/materials/agenda-73-capwap\n
 \n
 Session materials: https://datatracker.ietf.org/meeting/73/session/capwap\n
 \n
 See in schedule: https://datatracker.ietf.org/meeting/73/agenda#row-73-2008-11-18-tue-1710-ops-capwap\n
END:VEVENT
BEGIN:VEVENT
UID:ietf-73-1099-mboned
SUMMARY:mboned - MBONE Deployment
LOCATION:Salon D
STATUS:CONFIRMED
CLASS:PUBLIC
DTSTART;TZID=America/Menominee:20081118T171000
DTEND;TZID=America/Menominee:20081118T181000
DTSTAMP:20161222T095709Z
URL:https://datatracker.ietf.org/meeting/73/materials/agenda-73-mboned
DESCRIPTION:Afternoon Session III\n
 \n
 Agenda https://datatracker.ietf.org/meeting/73/materials/agenda-73-mboned\n
 \n
 Session materials: https://datatracker.ietf.org/meeting/73/session/mboned\n
 \n
 See in schedule: https://datatracker.ietf.org/meeting/73/agenda#row-73-2008-11-18-tue-1710-ops-mboned\n
END:VEVENT
BEGIN:VEVENT
UID:ietf-73-1117-grow
SUMMARY:grow - Global Routing Operations
LOCATION:Salon G
STATUS:CONFIRMED
CLASS:PUBLIC
DTSTART;TZID=America/Menominee:20081119T090000
DTEND;TZID=America/Menominee:20081119T101500
DTSTAMP:20161222T095709Z
URL:https://datatracker.ietf.org/meeting/73/materials/agenda-73-grow
DESCRIPTION:Morning Session I\n
 \n
 Agenda https://datatracker.ietf.org/meeting/73/materials/agenda-73-grow\n
 \n
 Session materials: https://datatracker.ietf.org/meeting/73/session/grow\n
 \n
 See in schedule: https://datatracker.ietf.org/meeting/73/agenda#row-73-2008-11-19-wed-0900-ops-grow\n
END:VEVENT
BEGIN:VEVENT
UID:ietf-73-1037-ipfix
SUMMARY:ipfix - IP Flow Information Export
LOCATION:Salon F
STATUS:CONFIRMED
CLASS:PUBLIC
DTSTART;TZID=America/Menominee:20081119T090000
DTEND;TZID=America/Menominee:20081119T101500
DTSTAMP:20161222T095709Z
URL:https://datatracker.ietf.org/meeting/73/materials/agenda-73-ipfix
DESCRIPTION:Morning Session I\n
 \n
 Agenda https://datatracker.ietf.org/meeting/73/materials/agenda-73-ipfix\n
 \n
 Session materials: https://datatracker.ietf.org/meeting/73/session/ipfix\n
 \n
 See in schedule: https://datatracker.ietf.org/meeting/73/agenda#row-73-2008-11-19-wed-0900-ops-ipfix\n
END:VEVENT
BEGIN:VEVENT
UID:ietf-73-1118-grow
SUMMARY:grow - Global Routing Operations
LOCATION:Salon G
STATUS:CONFIRMED
CLASS:PUBLIC
DTSTART;TZID=America/Menominee:20081119T103000
DTEND;TZID=America/Menominee:20081119T113000
DTSTAMP:20161222T095709Z
URL:https://datatracker.ietf.org/meeting/73/materials/agenda-73-grow
DESCRIPTION:Morning Session II\n
 \n
 Agenda https://datatracker.ietf.org/meeting/73/materials/agenda-73-grow\n
 \n
 Session materials: https://datatracker.ietf.org/meeting/73/session/grow\n
 \n
 See in schedule: https://datatracker.ietf.org/meeting/73/agenda#row-73-2008-11-19-wed-1030-ops-grow\n
END:VEVENT
BEGIN:VEVENT
UID:ietf-73-1038-ipfix
SUMMARY:ipfix - IP Flow Information Export
LOCATION:Salon F
STATUS:CONFIRMED
CLASS:PUBLIC
DTSTART;TZID=America/Menominee:20081119T103000
DTEND;TZID=America/Menominee:20081119T113000
DTSTAMP:20161222T095709Z
URL:https://datatracker.ietf.org/meeting/73/materials/agenda-73-ipfix
DESCRIPTION:Morning Session II\n
 \n
 Agenda https://datatracker.ietf.org/meeting/73/materials/agenda-73-ipfix\n
 \n
 Session materials: https://datatracker.ietf.org/meeting/73/session/ipfix\n
 \n
 See in schedule: https://datatracker.ietf.org/meeting/73/agenda#row-73-2008-11-19-wed-1030-ops-ipfix\n
END:VEVENT
BEGIN:VEVENT
UID:ietf-73-1075-dnsop
SUMMARY:dnsop - Domain Name System Operations
LOCATION:Salon E
STATUS:CONFIRMED
CLASS:PUBLIC
DTSTART;TZID=America/Menominee:20081119T130000
DTEND;TZID=America/Menominee:20081119T150000
DTSTAMP:20161222T095709Z
URL:https://datatracker.ietf.org/meeting/73/materials/agenda-73-dnsop
DESCRIPTION:Afternoon Session I\n
 \n
 Agenda https://datatracker.ietf.org/meeting/73/materials/agenda-73-dnsop\n
 \n
 Session materials: https://datatracker.ietf.org/meeting/73/session/dnsop\n
 \n
 See in schedule: https://datatracker.ietf.org/meeting/73/agenda#row-73-2008-11-19-wed-1300-ops-dnsop\n
END:VEVENT
BEGIN:VEVENT
UID:ietf-73-1107-dime
SUMMARY:dime - Diameter Maintenance and Extensions
LOCATION:Rochester
STATUS:CONFIRMED
CLASS:PUBLIC
DTSTART;TZID=America/Menominee:20081120T090000
DTEND;TZID=America/Menominee:20081120T113000
DTSTAMP:20161222T095709Z
URL:https://datatracker.ietf.org/meeting/73/materials/agenda-73-dime
DESCRIPTION:Morning Session I\n
 \n
 Agenda https://datatracker.ietf.org/meeting/73/materials/agenda-73-dime\n
 \n
 Session materials: https://datatracker.ietf.org/meeting/73/session/dime\n
 \n
 See in schedule: https://datatracker.ietf.org/meeting/73/agenda#row-73-2008-11-20-thu-0900-ops-dime\n
END:VEVENT
BEGIN:VEVENT
UID:ietf-73-1100-mboned
SUMMARY:mboned - MBONE Deployment
LOCATION:Salon G
STATUS:CONFIRMED
CLASS:PUBLIC
DTSTART;TZID=America/Menominee:20081120T090000
DTEND;TZID=America/Menominee:20081120T113000
DTSTAMP:20161222T095709Z
URL:https://datatracker.ietf.org/meeting/73/materials/agenda-73-mboned
DESCRIPTION:Morning Session I\n
 \n
 Agenda https://datatracker.ietf.org/meeting/73/materials/agenda-73-mboned\n
 \n
 Session materials: https://datatracker.ietf.org/meeting/73/session/mboned\n
 \n
 See in schedule: https://datatracker.ietf.org/meeting/73/agenda#row-73-2008-11-20-thu-0900-ops-mboned\n
END:VEVENT
BEGIN:VEVENT
UID:ietf-73-1116-opsawg
SUMMARY:opsawg - Operations and Management Area Working Group
LOCATION:Salon E
STATUS:CONFIRMED
CLASS:PUBLIC
DTSTART;TZID=America/Menominee:20081120T130000
DTEND;TZID=America/Menominee:20081120T150000
DTSTAMP:20161222T095709Z
URL:https://datatracker.ietf.org/meeting/73/materials/agenda-73-opsawg
DESCRIPTION:Afternoon Session I\n
 \n
 Agenda https://datatracker.ietf.org/meeting/73/materials/agenda-73-opsawg\n
 \n
 Session materials: https://datatracker.ietf.org/meeting/73/session/opsawg\n
 \n
 See in schedule: https://datatracker.ietf.org/meeting/73/agenda#row-73-2008-11-20-thu-1300-ops-opsawg\n
END:VEVENT
BEGIN:VEVENT
UID:ietf-73-1087-netmod
SUMMARY:netmod - NETCONF Data Modeling Language
LOCATION:Salon F
STATUS:CONFIRMED
CLASS:PUBLIC
DTSTART;TZID=America/Menominee:20081120T152000
DTEND;TZID=America/Menominee:20081120T172000
DTSTAMP:20161222T095709Z
URL:https://datatracker.ietf.org/meeting/73/materials/agenda-73-netmod
DESCRIPTION:Afternoon Session II\n
 \n
 Agenda https://datatracker.ietf.org/meeting/73/materials/agenda-73-netmod\n
 \n
 Session materials: https://datatracker.ietf.org/meeting/73/session/netmod\n
 \n
 See in schedule: https://datatracker.ietf.org/meeting/73/agenda#row-73-2008-11-20-thu-1520-ops-netmod\n
END:VEVENT
BEGIN:VEVENT
UID:ietf-73-1073-pmol
SUMMARY:pmol - Performance Metrics for Other Layers
LOCATION:Duluth
STATUS:CONFIRMED
CLASS:PUBLIC
DTSTART;TZID=America/Menominee:20081120T174000
DTEND;TZID=America/Menominee:20081120T193000
DTSTAMP:20161222T095709Z
URL:https://datatracker.ietf.org/meeting/73/materials/agenda-73-pmol
DESCRIPTION:Afternoon Session III\n
 \n
 Agenda https://datatracker.ietf.org/meeting/73/materials/agenda-73-pmol\n
 \n
 Session materials: https://datatracker.ietf.org/meeting/73/session/pmol\n
 \n
 See in schedule: https://datatracker.ietf.org/meeting/73/agenda#row-73-2008-11-20-thu-1740-ops-pmol\n
END:VEVENT
BEGIN:VEVENT
UID:ietf-73-1088-netmod
SUMMARY:netmod - NETCONF Data Modeling Language
LOCATION:Salon E
STATUS:CONFIRMED
CLASS:PUBLIC
DTSTART;TZID=America/Menominee:20081121T090000
DTEND;TZID=America/Menominee:20081121T113000
DTSTAMP:20161222T095709Z
URL:https://datatracker.ietf.org/meeting/73/materials/agenda-73-netmod
DESCRIPTION:Morning Session I\n
 \n
 Agenda https://datatracker.ietf.org/meeting/73/materials/agenda-73-netmod\n
 \n
 Session materials: https://datatracker.ietf.org/meeting/73/session/netmod\n
 \n
 See in schedule: https://datatracker.ietf.org/meeting/73/agenda#row-73-2008-11-21-fri-0900-ops-netmod\n
END:VEVENT
END:VCALENDAR
