BEGIN:VCALENDAR
VERSION:2.0
METHOD:PUBLISH
PRODID:-//IETF//datatracker.ietf.org ical agenda//EN
BEGIN:VTIMEZONE
TZID:America/Menominee
X-LIC-LOCATION:America/Menominee
BEGIN:DAYLIGHT
TZOFFSETFROM:-0600
TZOFFSETTO:-0500
TZNAME:CDT
DTSTART:20070311T020000
RRULE:FREQ=YEARLY;BYMONTH=3;BYDAY=2SU
END:DAYLIGHT
BEGIN:STANDARD
TZOFFSETFROM:-0500
TZOFFSETTO:-0600
TZNAME:CST
DTSTART:20071104T020000
RRULE:FREQ=YEARLY;BYMONTH=11;BYDAY=1SU
END:STANDARD
BEGIN:STANDARD
TZOFFSETFROM:-055027
TZOFFSETTO:-0600
TZNAME:CST
DTSTART:18850918T120000
RDATE:18850918T120000
END:STANDARD
BEGIN:DAYLIGHT
TZOFFSETFROM:-0600
TZOFFSETTO:-0500
TZNAME:CDT
DTSTART:19180331T020000
RDATE:19180331T020000
RDATE:19190330T020000
RDATE:19460428T020000
RDATE:19660424T020000
RDATE:19740106T020000
RDATE:19750223T020000
RDATE:19760425T020000
RDATE:19770424T020000
RDATE:19780430T020000
RDATE:19790429T020000
RDATE:19800427T020000
RDATE:19810426T020000
RDATE:19820425T020000
RDATE:19830424T020000
RDATE:19840429T020000
RDATE:19850428T020000
RDATE:19860427T020000
RDATE:19870405T020000
RDATE:19880403T020000
RDATE:19890402T020000
RDATE:19900401T020000
RDATE:19910407T020000
RDATE:19920405T020000
RDATE:19930404T020000
RDATE:19940403T020000
RDATE:19950402T020000
RDATE:19960407T020000
RDATE:19970406T020000
RDATE:19980405T020000
RDATE:19990404T020000
RDATE:20000402T020000
RDATE:20010401T020000
RDATE:20020407T020000
RDATE:20030406T020000
RDATE:20040404T020000
RDATE:20050403T020000
RDATE:20060402T020000
END:DAYLIGHT
BEGIN:STANDARD
TZOFFSETFROM:-0500
TZOFFSETTO:-0600
TZNAME:CST
DTSTART:19181027T020000
RDATE:19181027T020000
RDATE:19191026T020000
RDATE:19450930T020000
RDATE:19460929T020000
RDATE:19661030T020000
RDATE:19731028T020000
RDATE:19741027T020000
RDATE:19751026T020000
RDATE:19761031T020000
RDATE:19771030T020000
RDATE:19781029T020000
RDATE:19791028T020000
RDATE:19801026T020000
RDATE:19811025T020000
RDATE:19821031T020000
RDATE:19831030T020000
RDATE:19841028T020000
RDATE:19851027T020000
RDATE:19861026T020000
RDATE:19871025T020000
RDATE:19881030T020000
RDATE:19891029T020000
RDATE:19901028T020000
RDATE:19911027T020000
RDATE:19921025T020000
RDATE:19931031T020000
RDATE:19941030T020000
RDATE:19951029T020000
RDATE:19961027T020000
RDATE:19971026T020000
RDATE:19981025T020000
RDATE:19991031T020000
RDATE:20001029T020000
RDATE:20011028T020000
RDATE:20021027T020000
RDATE:20031026T020000
RDATE:20041031T020000
RDATE:20051030T020000
RDATE:20061029T020000
END:STANDARD
BEGIN:DAYLIGHT
TZOFFSETFROM:-0600
TZOFFSETTO:-0500
TZNAME:CWT
DTSTART:19420209T020000
RDATE:19420209T020000
END:DAYLIGHT
BEGIN:DAYLIGHT
TZOFFSETFROM:-0500
TZOFFSETTO:-0500
TZNAME:CPT
DTSTART:19450814T180000
RDATE:19450814T180000
END:DAYLIGHT
BEGIN:STANDARD
TZOFFSETFROM:-0600
TZOFFSETTO:-0600
TZNAME:CST
DTSTART:19460101T000000
RDATE:19460101T000000
END:STANDARD
BEGIN:STANDARD
TZOFFSETFROM:-0600
TZOFFSETTO:-0500
TZNAME:EST
DTSTART:19690427T020000
RDATE:19690427T020000
END:STANDARD
BEGIN:DAYLIGHT
TZOFFSETFROM:-0500
TZOFFSETTO:-0500
TZNAME:CDT
DTSTART:19730429T020000
RDATE:19730429T020000
END:DAYLIGHT
END:VTIMEZONE
BEGIN:VEVENT
UID:ietf-73-1032-mmusic
SUMMARY:mmusic - Multiparty Multimedia Session Control
LOCATION:Salon C
STATUS:CONFIRMED
CLASS:PUBLIC
DTSTART;TZID=America/Menominee:20081117T090000
DTEND;TZID=America/Menominee:20081117T113000
DTSTAMP:20161222T095709Z
URL:https://datatracker.ietf.org/meeting/73/materials/agenda-73-mmusic
DESCRIPTION:Morning Session I\n
 \n
 Agenda https://datatracker.ietf.org/meeting/73/materials/agenda-73-mmusic\n
 \n
 Session materials: https://datatracker.ietf.org/meeting/73/session/mmusic\n
 \n
 See in schedule: https://datatracker.ietf.org/meeting/73/agenda#row-73-2008-11-17-mon-0900-rai-mmusic\n
END:VEVENT
BEGIN:VEVENT
UID:ietf-73-1063-bliss
SUMMARY:bliss - Basic Level of Interoperability for SIP Services
LOCATION:Salon G
STATUS:CONFIRMED
CLASS:PUBLIC
DTSTART;TZID=America/Menominee:20081117T130000
DTEND;TZID=America/Menominee:20081117T150000
DTSTAMP:20161222T095709Z
URL:https://datatracker.ietf.org/meeting/73/materials/agenda-73-bliss
DESCRIPTION:Afternoon Session I\n
 \n
 Agenda https://datatracker.ietf.org/meeting/73/materials/agenda-73-bliss\n
 \n
 Session materials: https://datatracker.ietf.org/meeting/73/session/bliss\n
 \n
 See in schedule: https://datatracker.ietf.org/meeting/73/agenda#row-73-2008-11-17-mon-1300-rai-bliss\n
END:VEVENT
BEGIN:VEVENT
UID:ietf-73-1025-avt
SUMMARY:avt - Audio/Video Transport
LOCATION:Salon AB
STATUS:CONFIRMED
CLASS:PUBLIC
DTSTART;TZID=America/Menominee:20081117T152000
DTEND;TZID=America/Menominee:20081117T172000
DTSTAMP:20161222T095709Z
URL:https://datatracker.ietf.org/meeting/73/materials/agenda-73-avt
DESCRIPTION:Afternoon Session II\n
 \n
 Agenda https://datatracker.ietf.org/meeting/73/materials/agenda-73-avt\n
 \n
 Session materials: https://datatracker.ietf.org/meeting/73/session/avt\n
 \n
 See in schedule: https://datatracker.ietf.org/meeting/73/agenda#row-73-2008-11-17-mon-1520-rai-avt\n
END:VEVENT
BEGIN:VEVENT
UID:ietf-73-1013-geopriv
SUMMARY:geopriv - Geographic Location/Privacy
LOCATION:Salon G
STATUS:CONFIRMED
CLASS:PUBLIC
DTSTART;TZID=America/Menominee:20081118T090000
DTEND;TZID=America/Menominee:20081118T113000
DTSTAMP:20161222T095709Z
URL:https://datatracker.ietf.org/meeting/73/materials/agenda-73-geopriv
DESCRIPTION:Morning Session I\n
 \n
 Agenda https://datatracker.ietf.org/meeting/73/materials/agenda-73-geopriv\n
 \n
 Session materials: https://datatracker.ietf.org/meeting/73/session/geopriv\n
 \n
 See in schedule: https://datatracker.ietf.org/meeting/73/agenda#row-73-2008-11-18-tue-0900-rai-geopriv\n
END:VEVENT
BEGIN:VEVENT
UID:ietf-73-1048-drinks
SUMMARY:drinks - Data for Reachability of Inter/tra-NetworK SIP
LOCATION:Salon F
STATUS:CONFIRMED
CLASS:PUBLIC
DTSTART;TZID=America/Menominee:20081118T130000
DTEND;TZID=America/Menominee:20081118T150000
DTSTAMP:20161222T095709Z
URL:https://datatracker.ietf.org/meeting/73/materials/agenda-73-drinks
DESCRIPTION:Afternoon Session I\n
 \n
 Agenda https://datatracker.ietf.org/meeting/73/materials/agenda-73-drinks\n
 \n
 Session materials: https://datatracker.ietf.org/meeting/73/session/drinks\n
 \n
 See in schedule: https://datatracker.ietf.org/meeting/73/agenda#row-73-2008-11-18-tue-1300-rai-drinks\n
END:VEVENT
BEGIN:VEVENT
UID:ietf-73-1012-simple
SUMMARY:simple - SIP for Instant Messaging and Presence Leveraging Extensions
LOCATION:Salon C
STATUS:CONFIRMED
CLASS:PUBLIC
DTSTART;TZID=America/Menominee:20081118T152000
DTEND;TZID=America/Menominee:20081118T170000
DTSTAMP:20161222T095709Z
URL:https://datatracker.ietf.org/meeting/73/materials/agenda-73-simple
DESCRIPTION:Afternoon Session II\n
 \n
 Agenda https://datatracker.ietf.org/meeting/73/materials/agenda-73-simple\n
 \n
 Session materials: https://datatracker.ietf.org/meeting/73/session/simple\n
 \n
 See in schedule: https://datatracker.ietf.org/meeting/73/agenda#row-73-2008-11-18-tue-1520-rai-simple\n
END:VEVENT
BEGIN:VEVENT
UID:ietf-73-1026-avt
SUMMARY:avt - Audio/Video Transport
LOCATION:Salon AB
STATUS:CONFIRMED
CLASS:PUBLIC
DTSTART;TZID=America/Menominee:20081118T171000
DTEND;TZID=America/Menominee:20081118T181000
DTSTAMP:20161222T095709Z
URL:https://datatracker.ietf.org/meeting/73/materials/agenda-73-avt
DESCRIPTION:Afternoon Session III\n
 \n
 Agenda https://datatracker.ietf.org/meeting/73/materials/agenda-73-avt\n
 \n
 Session materials: https://datatracker.ietf.org/meeting/73/session/avt\n
 \n
 See in schedule: https://datatracker.ietf.org/meeting/73/agenda#row-73-2008-11-18-tue-1710-rai-avt\n
END:VEVENT
BEGIN:VEVENT
UID:ietf-73-1129-raiarea
SUMMARY:raiarea - Real-time Applications and Infrastructure Area Open Meeting
LOCATION:Salon AB
STATUS:CONFIRMED
CLASS:PUBLIC
DTSTART;TZID=America/Menominee:20081119T103000
DTEND;TZID=America/Menominee:20081119T113000
DTSTAMP:20161222T095709Z
URL:https://datatracker.ietf.org/meeting/73/materials/agenda-73-raiarea
DESCRIPTION:Morning Session II\n
 \n
 Agenda https://datatracker.ietf.org/meeting/73/materials/agenda-73-raiarea\n
 \n
 Session materials: https://datatracker.ietf.org/meeting/73/session/raiarea\n
 \n
 See in schedule: https://datatracker.ietf.org/meeting/73/agenda#row-73-2008-11-19-wed-1030-rai-raiarea\n
END:VEVENT
BEGIN:VEVENT
UID:ietf-73-1050-p2psip
SUMMARY:p2psip - Peer-to-Peer Session Initiation Protocol
LOCATION:Salon C
STATUS:CONFIRMED
CLASS:PUBLIC
DTSTART;TZID=America/Menominee:20081119T130000
DTEND;TZID=America/Menominee:20081119T150000
DTSTAMP:20161222T095709Z
URL:https://datatracker.ietf.org/meeting/73/materials/agenda-73-p2psip
DESCRIPTION:Afternoon Session I\n
 \n
 Agenda https://datatracker.ietf.org/meeting/73/materials/agenda-73-p2psip\n
 \n
 Session materials: https://datatracker.ietf.org/meeting/73/session/p2psip\n
 \n
 See in schedule: https://datatracker.ietf.org/meeting/73/agenda#row-73-2008-11-19-wed-1300-rai-p2psip\n
END:VEVENT
BEGIN:VEVENT
UID:ietf-73-1105-mediactrl
SUMMARY:mediactrl - Media Server Control
LOCATION:Salon C
STATUS:CONFIRMED
CLASS:PUBLIC
DTSTART;TZID=America/Menominee:20081120T090000
DTEND;TZID=America/Menominee:20081120T113000
DTSTAMP:20161222T095709Z
URL:https://datatracker.ietf.org/meeting/73/materials/agenda-73-mediactrl
DESCRIPTION:Morning Session I\n
 \n
 Agenda https://datatracker.ietf.org/meeting/73/materials/agenda-73-mediactrl\n
 \n
 Session materials: https://datatracker.ietf.org/meeting/73/session/mediactrl\n
 \n
 See in schedule: https://datatracker.ietf.org/meeting/73/agenda#row-73-2008-11-20-thu-0900-rai-mediactrl\n
END:VEVENT
BEGIN:VEVENT
UID:ietf-73-1077-speermint
SUMMARY:speermint - Session PEERing for Multimedia INTerconnect
LOCATION:Salon C
STATUS:CONFIRMED
CLASS:PUBLIC
DTSTART;TZID=America/Menominee:20081120T152000
DTEND;TZID=America/Menominee:20081120T172000
DTSTAMP:20161222T095709Z
URL:https://datatracker.ietf.org/meeting/73/materials/agenda-73-speermint
DESCRIPTION:Afternoon Session II\n
 \n
 Agenda https://datatracker.ietf.org/meeting/73/materials/agenda-73-speermint\n
 \n
 Session materials: https://datatracker.ietf.org/meeting/73/session/speermint\n
 \n
 See in schedule: https://datatracker.ietf.org/meeting/73/agenda#row-73-2008-11-20-thu-1520-rai-speermint\n
END:VEVENT
BEGIN:VEVENT
UID:ietf-73-1106-ecrit
SUMMARY:ecrit - Emergency Context Resolution with Internet Technologies
LOCATION:Salon F
STATUS:CONFIRMED
CLASS:PUBLIC
DTSTART;TZID=America/Menominee:20081120T174000
DTEND;TZID=America/Menominee:20081120T193000
DTSTAMP:20161222T095709Z
URL:https://datatracker.ietf.org/meeting/73/materials/agenda-73-ecrit
DESCRIPTION:Afternoon Session III\n
 \n
 Agenda https://datatracker.ietf.org/meeting/73/materials/agenda-73-ecrit\n
 \n
 Session materials: https://datatracker.ietf.org/meeting/73/session/ecrit\n
 \n
 See in schedule: https://datatracker.ietf.org/meeting/73/agenda#row-73-2008-11-20-thu-1740-rai-ecrit\n
END:VEVENT
BEGIN:VEVENT
UID:ietf-73-1054-xcon
SUMMARY:xcon - Centralized Conferencing
LOCATION:Salon E
STATUS:CONFIRMED
CLASS:PUBLIC
DTSTART;TZID=America/Menominee:20081120T174000
DTEND;TZID=America/Menominee:20081120T193000
DTSTAMP:20161222T095709Z
URL:https://datatracker.ietf.org/meeting/73/materials/agenda-73-xcon
DESCRIPTION:Afternoon Session III\n
 \n
 Agenda https://datatracker.ietf.org/meeting/73/materials/agenda-73-xcon\n
 \n
 Session materials: https://datatracker.ietf.org/meeting/73/session/xcon\n
 \n
 See in schedule: https://datatracker.ietf.org/meeting/73/agenda#row-73-2008-11-20-thu-1740-rai-xcon\n
END:VEVENT
BEGIN:VEVENT
UID:ietf-73-1020-sipping
SUMMARY:sipping - Session Initiation Proposal Investigation
LOCATION:Salon AB
STATUS:CONFIRMED
CLASS:PUBLIC
DTSTART;TZID=America/Menominee:20081121T090000
DTEND;TZID=America/Menominee:20081121T113000
DTSTAMP:20161222T095709Z
URL:https://datatracker.ietf.org/meeting/73/materials/agenda-73-sipping
DESCRIPTION:Morning Session I\n
 \n
 Agenda https://datatracker.ietf.org/meeting/73/materials/agenda-73-sipping\n
 \n
 Session materials: https://datatracker.ietf.org/meeting/73/session/sipping\n
 \n
 See in schedule: https://datatracker.ietf.org/meeting/73/agenda#row-73-2008-11-21-fri-0900-rai-sipping\n
END:VEVENT
BEGIN:VEVENT
UID:ietf-73-1089-enum
SUMMARY:enum - Telephone Number Mapping
LOCATION:Salon G
STATUS:CONFIRMED
CLASS:PUBLIC
DTSTART;TZID=America/Menominee:20081121T130000
DTEND;TZID=America/Menominee:20081121T140000
DTSTAMP:20161222T095709Z
URL:https://datatracker.ietf.org/meeting/73/materials/agenda-73-enum
DESCRIPTION:Afternoon Session I\n
 \n
 Agenda https://datatracker.ietf.org/meeting/73/materials/agenda-73-enum\n
 \n
 Session materials: https://datatracker.ietf.org/meeting/73/session/enum\n
 \n
 See in schedule: https://datatracker.ietf.org/meeting/73/agenda#row-73-2008-11-21-fri-1300-rai-enum\n
END:VEVENT
END:VCALENDAR
