BEGIN:VCALENDAR
VERSION:2.0
METHOD:PUBLISH
PRODID:-//IETF//datatracker.ietf.org ical agenda//EN
BEGIN:VTIMEZONE
TZID:America/Menominee
X-LIC-LOCATION:America/Menominee
BEGIN:DAYLIGHT
TZOFFSETFROM:-0600
TZOFFSETTO:-0500
TZNAME:CDT
DTSTART:20070311T020000
RRULE:FREQ=YEARLY;BYMONTH=3;BYDAY=2SU
END:DAYLIGHT
BEGIN:STANDARD
TZOFFSETFROM:-0500
TZOFFSETTO:-0600
TZNAME:CST
DTSTART:20071104T020000
RRULE:FREQ=YEARLY;BYMONTH=11;BYDAY=1SU
END:STANDARD
BEGIN:STANDARD
TZOFFSETFROM:-055027
TZOFFSETTO:-0600
TZNAME:CST
DTSTART:18850918T120000
RDATE:18850918T120000
END:STANDARD
BEGIN:DAYLIGHT
TZOFFSETFROM:-0600
TZOFFSETTO:-0500
TZNAME:CDT
DTSTART:19180331T020000
RDATE:19180331T020000
RDATE:19190330T020000
RDATE:19460428T020000
RDATE:19660424T020000
RDATE:19740106T020000
RDATE:19750223T020000
RDATE:19760425T020000
RDATE:19770424T020000
RDATE:19780430T020000
RDATE:19790429T020000
RDATE:19800427T020000
RDATE:19810426T020000
RDATE:19820425T020000
RDATE:19830424T020000
RDATE:19840429T020000
RDATE:19850428T020000
RDATE:19860427T020000
RDATE:19870405T020000
RDATE:19880403T020000
RDATE:19890402T020000
RDATE:19900401T020000
RDATE:19910407T020000
RDATE:19920405T020000
RDATE:19930404T020000
RDATE:19940403T020000
RDATE:19950402T020000
RDATE:19960407T020000
RDATE:19970406T020000
RDATE:19980405T020000
RDATE:19990404T020000
RDATE:20000402T020000
RDATE:20010401T020000
RDATE:20020407T020000
RDATE:20030406T020000
RDATE:20040404T020000
RDATE:20050403T020000
RDATE:20060402T020000
END:DAYLIGHT
BEGIN:STANDARD
TZOFFSETFROM:-0500
TZOFFSETTO:-0600
TZNAME:CST
DTSTART:19181027T020000
RDATE:19181027T020000
RDATE:19191026T020000
RDATE:19450930T020000
RDATE:19460929T020000
RDATE:19661030T020000
RDATE:19731028T020000
RDATE:19741027T020000
RDATE:19751026T020000
RDATE:19761031T020000
RDATE:19771030T020000
RDATE:19781029T020000
RDATE:19791028T020000
RDATE:19801026T020000
RDATE:19811025T020000
RDATE:19821031T020000
RDATE:19831030T020000
RDATE:19841028T020000
RDATE:19851027T020000
RDATE:19861026T020000
RDATE:19871025T020000
RDATE:19881030T020000
RDATE:19891029T020000
RDATE:19901028T020000
RDATE:19911027T020000
RDATE:19921025T020000
RDATE:19931031T020000
RDATE:19941030T020000
RDATE:19951029T020000
RDATE:19961027T020000
RDATE:19971026T020000
RDATE:19981025T020000
RDATE:19991031T020000
RDATE:20001029T020000
RDATE:20011028T020000
RDATE:20021027T020000
RDATE:20031026T020000
RDATE:20041031T020000
RDATE:20051030T020000
RDATE:20061029T020000
END:STANDARD
BEGIN:DAYLIGHT
TZOFFSETFROM:-0600
TZOFFSETTO:-0500
TZNAME:CWT
DTSTART:19420209T020000
RDATE:19420209T020000
END:DAYLIGHT
BEGIN:DAYLIGHT
TZOFFSETFROM:-0500
TZOFFSETTO:-0500
TZNAME:CPT
DTSTART:19450814T180000
RDATE:19450814T180000
END:DAYLIGHT
BEGIN:STANDARD
TZOFFSETFROM:-0600
TZOFFSETTO:-0600
TZNAME:CST
DTSTART:19460101T000000
RDATE:19460101T000000
END:STANDARD
BEGIN:STANDARD
TZOFFSETFROM:-0600
TZOFFSETTO:-0500
TZNAME:EST
DTSTART:19690427T020000
RDATE:19690427T020000
END:STANDARD
BEGIN:DAYLIGHT
TZOFFSETFROM:-0500
TZOFFSETTO:-0500
TZNAME:CDT
DTSTART:19730429T020000
RDATE:19730429T020000
END:DAYLIGHT
END:VTIMEZONE
BEGIN:VEVENT
UID:ietf-73-1010-ospf
SUMMARY:ospf - Open Shortest Path First IGP
LOCATION:Duluth
STATUS:CONFIRMED
CLASS:PUBLIC
DTSTART;TZID=America/Menominee:20081117T090000
DTEND;TZID=America/Menominee:20081117T113000
DTSTAMP:20161222T095709Z
URL:https://datatracker.ietf.org/meeting/73/materials/agenda-73-ospf
DESCRIPTION:Morning Session I\n
 \n
 Agenda https://datatracker.ietf.org/meeting/73/materials/agenda-73-ospf\n
 \n
 Session materials: https://datatracker.ietf.org/meeting/73/session/ospf\n
 \n
 See in schedule: https://datatracker.ietf.org/meeting/73/agenda#row-73-2008-11-17-mon-0900-rtg-ospf\n
END:VEVENT
BEGIN:VEVENT
UID:ietf-73-1062-pwe3
SUMMARY:pwe3 - Pseudowire Emulation Edge to Edge
LOCATION:Salon F
STATUS:CONFIRMED
CLASS:PUBLIC
DTSTART;TZID=America/Menominee:20081117T090000
DTEND;TZID=America/Menominee:20081117T113000
DTSTAMP:20161222T095709Z
URL:https://datatracker.ietf.org/meeting/73/materials/agenda-73-pwe3
DESCRIPTION:Morning Session I\n
 \n
 Agenda https://datatracker.ietf.org/meeting/73/materials/agenda-73-pwe3\n
 \n
 Session materials: https://datatracker.ietf.org/meeting/73/session/pwe3\n
 \n
 See in schedule: https://datatracker.ietf.org/meeting/73/agenda#row-73-2008-11-17-mon-0900-rtg-pwe3\n
END:VEVENT
BEGIN:VEVENT
UID:ietf-73-1067-sidr
SUMMARY:sidr - Secure Inter-Domain Routing
LOCATION:Salon AB
STATUS:CONFIRMED
CLASS:PUBLIC
DTSTART;TZID=America/Menominee:20081117T130000
DTEND;TZID=America/Menominee:20081117T150000
DTSTAMP:20161222T095709Z
URL:https://datatracker.ietf.org/meeting/73/materials/agenda-73-sidr
DESCRIPTION:Afternoon Session I\n
 \n
 Agenda https://datatracker.ietf.org/meeting/73/materials/agenda-73-sidr\n
 \n
 Session materials: https://datatracker.ietf.org/meeting/73/session/sidr\n
 \n
 See in schedule: https://datatracker.ietf.org/meeting/73/agenda#row-73-2008-11-17-mon-1300-rtg-sidr\n
END:VEVENT
BEGIN:VEVENT
UID:ietf-73-1071-isis
SUMMARY:isis - IS-IS for IP Internets
LOCATION:Salon G
STATUS:CONFIRMED
CLASS:PUBLIC
DTSTART;TZID=America/Menominee:20081117T152000
DTEND;TZID=America/Menominee:20081117T172000
DTSTAMP:20161222T095709Z
URL:https://datatracker.ietf.org/meeting/73/materials/agenda-73-isis
DESCRIPTION:Afternoon Session II\n
 \n
 Agenda https://datatracker.ietf.org/meeting/73/materials/agenda-73-isis\n
 \n
 Session materials: https://datatracker.ietf.org/meeting/73/session/isis\n
 \n
 See in schedule: https://datatracker.ietf.org/meeting/73/agenda#row-73-2008-11-17-mon-1520-rtg-isis\n
END:VEVENT
BEGIN:VEVENT
UID:ietf-73-1078-ccamp
SUMMARY:ccamp - Common Control and Measurement Plane
LOCATION:Salon G
STATUS:CONFIRMED
CLASS:PUBLIC
DTSTART;TZID=America/Menominee:20081117T174000
DTEND;TZID=America/Menominee:20081117T193000
DTSTAMP:20161222T095709Z
URL:https://datatracker.ietf.org/meeting/73/materials/agenda-73-ccamp
DESCRIPTION:Afternoon Session III\n
 \n
 Agenda https://datatracker.ietf.org/meeting/73/materials/agenda-73-ccamp\n
 \n
 Session materials: https://datatracker.ietf.org/meeting/73/session/ccamp\n
 \n
 See in schedule: https://datatracker.ietf.org/meeting/73/agenda#row-73-2008-11-17-mon-1740-rtg-ccamp\n
END:VEVENT
BEGIN:VEVENT
UID:ietf-73-1127-mpls
SUMMARY:mpls - Multiprotocol Label Switching
LOCATION:Salon D
STATUS:CONFIRMED
CLASS:PUBLIC
DTSTART;TZID=America/Menominee:20081118T090000
DTEND;TZID=America/Menominee:20081118T113000
DTSTAMP:20161222T095709Z
URL:https://datatracker.ietf.org/meeting/73/materials/agenda-73-mpls
DESCRIPTION:Morning Session I\n
 \n
 Agenda https://datatracker.ietf.org/meeting/73/materials/agenda-73-mpls\n
 \n
 Session materials: https://datatracker.ietf.org/meeting/73/session/mpls\n
 \n
 See in schedule: https://datatracker.ietf.org/meeting/73/agenda#row-73-2008-11-18-tue-0900-rtg-mpls\n
END:VEVENT
BEGIN:VEVENT
UID:ietf-73-1070-pce
SUMMARY:pce - Path Computation Element
LOCATION:Salon C
STATUS:CONFIRMED
CLASS:PUBLIC
DTSTART;TZID=America/Menominee:20081118T130000
DTEND;TZID=America/Menominee:20081118T150000
DTSTAMP:20161222T095709Z
URL:https://datatracker.ietf.org/meeting/73/materials/agenda-73-pce
DESCRIPTION:Afternoon Session I\n
 \n
 Agenda https://datatracker.ietf.org/meeting/73/materials/agenda-73-pce\n
 \n
 Session materials: https://datatracker.ietf.org/meeting/73/session/pce\n
 \n
 See in schedule: https://datatracker.ietf.org/meeting/73/agenda#row-73-2008-11-18-tue-1300-rtg-pce\n
END:VEVENT
BEGIN:VEVENT
UID:ietf-73-1068-pim
SUMMARY:pim - Protocol Independent Multicast
LOCATION:Salon E
STATUS:CONFIRMED
CLASS:PUBLIC
DTSTART;TZID=America/Menominee:20081118T130000
DTEND;TZID=America/Menominee:20081118T150000
DTSTAMP:20161222T095709Z
URL:https://datatracker.ietf.org/meeting/73/materials/agenda-73-pim
DESCRIPTION:Afternoon Session I\n
 \n
 Agenda https://datatracker.ietf.org/meeting/73/materials/agenda-73-pim\n
 \n
 Session materials: https://datatracker.ietf.org/meeting/73/session/pim\n
 \n
 See in schedule: https://datatracker.ietf.org/meeting/73/agenda#row-73-2008-11-18-tue-1300-rtg-pim\n
END:VEVENT
BEGIN:VEVENT
UID:ietf-73-1082-forces
SUMMARY:forces - Forwarding and Control Element Separation
LOCATION:Salon E
STATUS:CONFIRMED
CLASS:PUBLIC
DTSTART;TZID=America/Menominee:20081118T152000
DTEND;TZID=America/Menominee:20081118T170000
DTSTAMP:20161222T095709Z
URL:https://datatracker.ietf.org/meeting/73/materials/agenda-73-forces
DESCRIPTION:Afternoon Session II\n
 \n
 Agenda https://datatracker.ietf.org/meeting/73/materials/agenda-73-forces\n
 \n
 Session materials: https://datatracker.ietf.org/meeting/73/session/forces\n
 \n
 See in schedule: https://datatracker.ietf.org/meeting/73/agenda#row-73-2008-11-18-tue-1520-rtg-forces\n
END:VEVENT
BEGIN:VEVENT
UID:ietf-73-1069-roll
SUMMARY:roll - Routing Over Low power and Lossy networks
LOCATION:Salon D
STATUS:CONFIRMED
CLASS:PUBLIC
DTSTART;TZID=America/Menominee:20081118T152000
DTEND;TZID=America/Menominee:20081118T170000
DTSTAMP:20161222T095709Z
URL:https://datatracker.ietf.org/meeting/73/materials/agenda-73-roll
DESCRIPTION:Afternoon Session II\n
 \n
 Agenda https://datatracker.ietf.org/meeting/73/materials/agenda-73-roll\n
 \n
 Session materials: https://datatracker.ietf.org/meeting/73/session/roll\n
 \n
 See in schedule: https://datatracker.ietf.org/meeting/73/agenda#row-73-2008-11-18-tue-1520-rtg-roll\n
END:VEVENT
BEGIN:VEVENT
UID:ietf-73-1134-rtgwg
SUMMARY:rtgwg - Routing Area Working Group
LOCATION:Salon E
STATUS:CONFIRMED
CLASS:PUBLIC
DTSTART;TZID=America/Menominee:20081118T171000
DTEND;TZID=America/Menominee:20081118T181000
DTSTAMP:20161222T095709Z
URL:https://datatracker.ietf.org/meeting/73/materials/agenda-73-rtgwg
DESCRIPTION:Afternoon Session III\n
 \n
 Agenda https://datatracker.ietf.org/meeting/73/materials/agenda-73-rtgwg\n
 \n
 Session materials: https://datatracker.ietf.org/meeting/73/session/rtgwg\n
 \n
 See in schedule: https://datatracker.ietf.org/meeting/73/agenda#row-73-2008-11-18-tue-1710-rtg-rtgwg\n
END:VEVENT
BEGIN:VEVENT
UID:ietf-73-1079-ccamp
SUMMARY:ccamp - Common Control and Measurement Plane
LOCATION:Salon C
STATUS:CONFIRMED
CLASS:PUBLIC
DTSTART;TZID=America/Menominee:20081119T090000
DTEND;TZID=America/Menominee:20081119T101500
DTSTAMP:20161222T095709Z
URL:https://datatracker.ietf.org/meeting/73/materials/agenda-73-ccamp
DESCRIPTION:Morning Session I\n
 \n
 Agenda https://datatracker.ietf.org/meeting/73/materials/agenda-73-ccamp\n
 \n
 Session materials: https://datatracker.ietf.org/meeting/73/session/ccamp\n
 \n
 See in schedule: https://datatracker.ietf.org/meeting/73/agenda#row-73-2008-11-19-wed-0900-rtg-ccamp\n
END:VEVENT
BEGIN:VEVENT
UID:ietf-73-1080-ccamp
SUMMARY:ccamp - Common Control and Measurement Plane
LOCATION:Salon C
STATUS:CONFIRMED
CLASS:PUBLIC
DTSTART;TZID=America/Menominee:20081119T103000
DTEND;TZID=America/Menominee:20081119T113000
DTSTAMP:20161222T095709Z
URL:https://datatracker.ietf.org/meeting/73/materials/agenda-73-ccamp
DESCRIPTION:Morning Session II\n
 \n
 Agenda https://datatracker.ietf.org/meeting/73/materials/agenda-73-ccamp\n
 \n
 Session materials: https://datatracker.ietf.org/meeting/73/session/ccamp\n
 \n
 See in schedule: https://datatracker.ietf.org/meeting/73/agenda#row-73-2008-11-19-wed-1030-rtg-ccamp\n
END:VEVENT
BEGIN:VEVENT
UID:ietf-73-1031-manet
SUMMARY:manet - Mobile Ad-hoc Networks
LOCATION:Salon G
STATUS:CONFIRMED
CLASS:PUBLIC
DTSTART;TZID=America/Menominee:20081119T130000
DTEND;TZID=America/Menominee:20081119T150000
DTSTAMP:20161222T095709Z
URL:https://datatracker.ietf.org/meeting/73/materials/agenda-73-manet
DESCRIPTION:Afternoon Session I\n
 \n
 Agenda https://datatracker.ietf.org/meeting/73/materials/agenda-73-manet\n
 \n
 Session materials: https://datatracker.ietf.org/meeting/73/session/manet\n
 \n
 See in schedule: https://datatracker.ietf.org/meeting/73/agenda#row-73-2008-11-19-wed-1300-rtg-manet\n
END:VEVENT
BEGIN:VEVENT
UID:ietf-73-1128-mpls
SUMMARY:mpls - Multiprotocol Label Switching
LOCATION:Salon AB
STATUS:CONFIRMED
CLASS:PUBLIC
DTSTART;TZID=America/Menominee:20081119T130000
DTEND;TZID=America/Menominee:20081119T150000
DTSTAMP:20161222T095709Z
URL:https://datatracker.ietf.org/meeting/73/materials/agenda-73-mpls
DESCRIPTION:Afternoon Session I\n
 \n
 Agenda https://datatracker.ietf.org/meeting/73/materials/agenda-73-mpls\n
 \n
 Session materials: https://datatracker.ietf.org/meeting/73/session/mpls\n
 \n
 See in schedule: https://datatracker.ietf.org/meeting/73/agenda#row-73-2008-11-19-wed-1300-rtg-mpls\n
END:VEVENT
BEGIN:VEVENT
UID:ietf-73-1019-l2vpn
SUMMARY:l2vpn - Layer 2 Virtual Private Networks
LOCATION:Salon AB
STATUS:CONFIRMED
CLASS:PUBLIC
DTSTART;TZID=America/Menominee:20081120T090000
DTEND;TZID=America/Menominee:20081120T113000
DTSTAMP:20161222T095709Z
URL:https://datatracker.ietf.org/meeting/73/materials/agenda-73-l2vpn
DESCRIPTION:Morning Session I\n
 \n
 Agenda https://datatracker.ietf.org/meeting/73/materials/agenda-73-l2vpn\n
 \n
 Session materials: https://datatracker.ietf.org/meeting/73/session/l2vpn\n
 \n
 See in schedule: https://datatracker.ietf.org/meeting/73/agenda#row-73-2008-11-20-thu-0900-rtg-l2vpn\n
END:VEVENT
BEGIN:VEVENT
UID:ietf-73-1081-rtgarea
SUMMARY:rtgarea - Routing Area Open Meeting
LOCATION:Salon F
STATUS:CONFIRMED
CLASS:PUBLIC
DTSTART;TZID=America/Menominee:20081120T130000
DTEND;TZID=America/Menominee:20081120T150000
DTSTAMP:20161222T095709Z
URL:https://datatracker.ietf.org/meeting/73/materials/agenda-73-rtgarea
DESCRIPTION:Afternoon Session I\n
 \n
 Agenda https://datatracker.ietf.org/meeting/73/materials/agenda-73-rtgarea\n
 \n
 Session materials: https://datatracker.ietf.org/meeting/73/session/rtgarea\n
 \n
 See in schedule: https://datatracker.ietf.org/meeting/73/agenda#row-73-2008-11-20-thu-1300-rtg-rtgarea\n
END:VEVENT
BEGIN:VEVENT
UID:ietf-73-1064-idr
SUMMARY:idr - Inter-Domain Routing
LOCATION:Salon G
STATUS:CONFIRMED
CLASS:PUBLIC
DTSTART;TZID=America/Menominee:20081120T152000
DTEND;TZID=America/Menominee:20081120T172000
DTSTAMP:20161222T095709Z
URL:https://datatracker.ietf.org/meeting/73/materials/agenda-73-idr
DESCRIPTION:Afternoon Session II\n
 \n
 Agenda https://datatracker.ietf.org/meeting/73/materials/agenda-73-idr\n
 \n
 Session materials: https://datatracker.ietf.org/meeting/73/session/idr\n
 \n
 See in schedule: https://datatracker.ietf.org/meeting/73/agenda#row-73-2008-11-20-thu-1520-rtg-idr\n
END:VEVENT
BEGIN:VEVENT
UID:ietf-73-1098-l3vpn
SUMMARY:l3vpn - Layer 3 Virtual Private Networks
LOCATION:Salon AB
STATUS:CONFIRMED
CLASS:PUBLIC
DTSTART;TZID=America/Menominee:20081120T174000
DTEND;TZID=America/Menominee:20081120T193000
DTSTAMP:20161222T095709Z
URL:https://datatracker.ietf.org/meeting/73/materials/agenda-73-l3vpn
DESCRIPTION:Afternoon Session III\n
 \n
 Agenda https://datatracker.ietf.org/meeting/73/materials/agenda-73-l3vpn\n
 \n
 Session materials: https://datatracker.ietf.org/meeting/73/session/l3vpn\n
 \n
 See in schedule: https://datatracker.ietf.org/meeting/73/agenda#row-73-2008-11-20-thu-1740-rtg-l3vpn\n
END:VEVENT
END:VCALENDAR
