BEGIN:VCALENDAR
VERSION:2.0
METHOD:PUBLISH
PRODID:-//IETF//datatracker.ietf.org ical agenda//EN
BEGIN:VTIMEZONE
TZID:America/Menominee
X-LIC-LOCATION:America/Menominee
BEGIN:DAYLIGHT
TZOFFSETFROM:-0600
TZOFFSETTO:-0500
TZNAME:CDT
DTSTART:20070311T020000
RRULE:FREQ=YEARLY;BYMONTH=3;BYDAY=2SU
END:DAYLIGHT
BEGIN:STANDARD
TZOFFSETFROM:-0500
TZOFFSETTO:-0600
TZNAME:CST
DTSTART:20071104T020000
RRULE:FREQ=YEARLY;BYMONTH=11;BYDAY=1SU
END:STANDARD
BEGIN:STANDARD
TZOFFSETFROM:-055027
TZOFFSETTO:-0600
TZNAME:CST
DTSTART:18850918T120000
RDATE:18850918T120000
END:STANDARD
BEGIN:DAYLIGHT
TZOFFSETFROM:-0600
TZOFFSETTO:-0500
TZNAME:CDT
DTSTART:19180331T020000
RDATE:19180331T020000
RDATE:19190330T020000
RDATE:19460428T020000
RDATE:19660424T020000
RDATE:19740106T020000
RDATE:19750223T020000
RDATE:19760425T020000
RDATE:19770424T020000
RDATE:19780430T020000
RDATE:19790429T020000
RDATE:19800427T020000
RDATE:19810426T020000
RDATE:19820425T020000
RDATE:19830424T020000
RDATE:19840429T020000
RDATE:19850428T020000
RDATE:19860427T020000
RDATE:19870405T020000
RDATE:19880403T020000
RDATE:19890402T020000
RDATE:19900401T020000
RDATE:19910407T020000
RDATE:19920405T020000
RDATE:19930404T020000
RDATE:19940403T020000
RDATE:19950402T020000
RDATE:19960407T020000
RDATE:19970406T020000
RDATE:19980405T020000
RDATE:19990404T020000
RDATE:20000402T020000
RDATE:20010401T020000
RDATE:20020407T020000
RDATE:20030406T020000
RDATE:20040404T020000
RDATE:20050403T020000
RDATE:20060402T020000
END:DAYLIGHT
BEGIN:STANDARD
TZOFFSETFROM:-0500
TZOFFSETTO:-0600
TZNAME:CST
DTSTART:19181027T020000
RDATE:19181027T020000
RDATE:19191026T020000
RDATE:19450930T020000
RDATE:19460929T020000
RDATE:19661030T020000
RDATE:19731028T020000
RDATE:19741027T020000
RDATE:19751026T020000
RDATE:19761031T020000
RDATE:19771030T020000
RDATE:19781029T020000
RDATE:19791028T020000
RDATE:19801026T020000
RDATE:19811025T020000
RDATE:19821031T020000
RDATE:19831030T020000
RDATE:19841028T020000
RDATE:19851027T020000
RDATE:19861026T020000
RDATE:19871025T020000
RDATE:19881030T020000
RDATE:19891029T020000
RDATE:19901028T020000
RDATE:19911027T020000
RDATE:19921025T020000
RDATE:19931031T020000
RDATE:19941030T020000
RDATE:19951029T020000
RDATE:19961027T020000
RDATE:19971026T020000
RDATE:19981025T020000
RDATE:19991031T020000
RDATE:20001029T020000
RDATE:20011028T020000
RDATE:20021027T020000
RDATE:20031026T020000
RDATE:20041031T020000
RDATE:20051030T020000
RDATE:20061029T020000
END:STANDARD
BEGIN:DAYLIGHT
TZOFFSETFROM:-0600
TZOFFSETTO:-0500
TZNAME:CWT
DTSTART:19420209T020000
RDATE:19420209T020000
END:DAYLIGHT
BEGIN:DAYLIGHT
TZOFFSETFROM:-0500
TZOFFSETTO:-0500
TZNAME:CPT
DTSTART:19450814T180000
RDATE:19450814T180000
END:DAYLIGHT
BEGIN:STANDARD
TZOFFSETFROM:-0600
TZOFFSETTO:-0600
TZNAME:CST
DTSTART:19460101T000000
RDATE:19460101T000000
END:STANDARD
BEGIN:STANDARD
TZOFFSETFROM:-0600
TZOFFSETTO:-0500
TZNAME:EST
DTSTART:19690427T020000
RDATE:19690427T020000
END:STANDARD
BEGIN:DAYLIGHT
TZOFFSETFROM:-0500
TZOFFSETTO:-0500
TZNAME:CDT
DTSTART:19730429T020000
RDATE:19730429T020000
END:DAYLIGHT
END:VTIMEZONE
BEGIN:VEVENT
UID:ietf-73-1083-emu
SUMMARY:emu - EAP Method Update
LOCATION:Salon E
STATUS:CONFIRMED
CLASS:PUBLIC
DTSTART;TZID=America/Menominee:20081117T090000
DTEND;TZID=America/Menominee:20081117T113000
DTSTAMP:20161222T095709Z
URL:https://datatracker.ietf.org/meeting/73/materials/agenda-73-emu
DESCRIPTION:Morning Session I\n
 \n
 Agenda https://datatracker.ietf.org/meeting/73/materials/agenda-73-emu\n
 \n
 Session materials: https://datatracker.ietf.org/meeting/73/session/emu\n
 \n
 See in schedule: https://datatracker.ietf.org/meeting/73/agenda#row-73-2008-11-17-mon-0900-sec-emu\n
END:VEVENT
BEGIN:VEVENT
UID:ietf-73-1137-oauth
SUMMARY:oauth - Web Authorization Protocol
LOCATION:Salon C
STATUS:CONFIRMED
CLASS:PUBLIC
DTSTART;TZID=America/Menominee:20081117T130000
DTEND;TZID=America/Menominee:20081117T150000
DTSTAMP:20161222T095709Z
URL:https://datatracker.ietf.org/meeting/73/materials/agenda-73-oauth
DESCRIPTION:Afternoon Session I\n
 \n
 Agenda https://datatracker.ietf.org/meeting/73/materials/agenda-73-oauth\n
 \n
 Session materials: https://datatracker.ietf.org/meeting/73/session/oauth\n
 \n
 See in schedule: https://datatracker.ietf.org/meeting/73/agenda#row-73-2008-11-17-mon-1300-sec-oauth\n
END:VEVENT
BEGIN:VEVENT
UID:ietf-73-1035-ipsecme
SUMMARY:ipsecme - IP Security Maintenance and Extensions
LOCATION:Salon AB
STATUS:CONFIRMED
CLASS:PUBLIC
DTSTART;TZID=America/Menominee:20081118T090000
DTEND;TZID=America/Menominee:20081118T113000
DTSTAMP:20161222T095709Z
URL:https://datatracker.ietf.org/meeting/73/materials/agenda-73-ipsecme
DESCRIPTION:Morning Session I\n
 \n
 Agenda https://datatracker.ietf.org/meeting/73/materials/agenda-73-ipsecme\n
 \n
 Session materials: https://datatracker.ietf.org/meeting/73/session/ipsecme\n
 \n
 See in schedule: https://datatracker.ietf.org/meeting/73/agenda#row-73-2008-11-18-tue-0900-sec-ipsecme\n
END:VEVENT
BEGIN:VEVENT
UID:ietf-73-1119-krb-wg
SUMMARY:krb-wg - Kerberos
LOCATION:Rochester
STATUS:CONFIRMED
CLASS:PUBLIC
DTSTART;TZID=America/Menominee:20081118T130000
DTEND;TZID=America/Menominee:20081118T150000
DTSTAMP:20161222T095709Z
URL:https://datatracker.ietf.org/meeting/73/materials/agenda-73-krb-wg
DESCRIPTION:Afternoon Session I\n
 \n
 Agenda https://datatracker.ietf.org/meeting/73/materials/agenda-73-krb-wg\n
 \n
 Session materials: https://datatracker.ietf.org/meeting/73/session/krb-wg\n
 \n
 See in schedule: https://datatracker.ietf.org/meeting/73/agenda#row-73-2008-11-18-tue-1300-sec-krb-wg\n
END:VEVENT
BEGIN:VEVENT
UID:ietf-73-1121-sasl
SUMMARY:sasl - Simple Authentication and Security Layer
LOCATION:Rochester
STATUS:CONFIRMED
CLASS:PUBLIC
DTSTART;TZID=America/Menominee:20081118T152000
DTEND;TZID=America/Menominee:20081118T170000
DTSTAMP:20161222T095709Z
URL:https://datatracker.ietf.org/meeting/73/materials/agenda-73-sasl
DESCRIPTION:Afternoon Session II\n
 \n
 Agenda https://datatracker.ietf.org/meeting/73/materials/agenda-73-sasl\n
 \n
 Session materials: https://datatracker.ietf.org/meeting/73/session/sasl\n
 \n
 See in schedule: https://datatracker.ietf.org/meeting/73/agenda#row-73-2008-11-18-tue-1520-sec-sasl\n
END:VEVENT
BEGIN:VEVENT
UID:ietf-73-1092-kitten
SUMMARY:kitten - Common Authentication Technology Next Generation
LOCATION:Rochester
STATUS:CONFIRMED
CLASS:PUBLIC
DTSTART;TZID=America/Menominee:20081118T171000
DTEND;TZID=America/Menominee:20081118T181000
DTSTAMP:20161222T095709Z
URL:https://datatracker.ietf.org/meeting/73/materials/agenda-73-kitten
DESCRIPTION:Afternoon Session III\n
 \n
 Agenda https://datatracker.ietf.org/meeting/73/materials/agenda-73-kitten\n
 \n
 Session materials: https://datatracker.ietf.org/meeting/73/session/kitten\n
 \n
 See in schedule: https://datatracker.ietf.org/meeting/73/agenda#row-73-2008-11-18-tue-1710-sec-kitten\n
END:VEVENT
BEGIN:VEVENT
UID:ietf-73-1132-hokey
SUMMARY:hokey - Handover Keying
LOCATION:Salon E
STATUS:CONFIRMED
CLASS:PUBLIC
DTSTART;TZID=America/Menominee:20081119T090000
DTEND;TZID=America/Menominee:20081119T101500
DTSTAMP:20161222T095709Z
URL:https://datatracker.ietf.org/meeting/73/materials/agenda-73-hokey
DESCRIPTION:Morning Session I\n
 \n
 Agenda https://datatracker.ietf.org/meeting/73/materials/agenda-73-hokey\n
 \n
 Session materials: https://datatracker.ietf.org/meeting/73/session/hokey\n
 \n
 See in schedule: https://datatracker.ietf.org/meeting/73/agenda#row-73-2008-11-19-wed-0900-sec-hokey\n
END:VEVENT
BEGIN:VEVENT
UID:ietf-73-1108-keyprov
SUMMARY:keyprov - Provisioning of Symmetric Keys
LOCATION:Rochester
STATUS:CONFIRMED
CLASS:PUBLIC
DTSTART;TZID=America/Menominee:20081119T090000
DTEND;TZID=America/Menominee:20081119T101500
DTSTAMP:20161222T095709Z
URL:https://datatracker.ietf.org/meeting/73/materials/agenda-73-keyprov
DESCRIPTION:Morning Session I\n
 \n
 Agenda https://datatracker.ietf.org/meeting/73/materials/agenda-73-keyprov\n
 \n
 Session materials: https://datatracker.ietf.org/meeting/73/session/keyprov\n
 \n
 See in schedule: https://datatracker.ietf.org/meeting/73/agenda#row-73-2008-11-19-wed-0900-sec-keyprov\n
END:VEVENT
BEGIN:VEVENT
UID:ietf-73-1124-msec
SUMMARY:msec - Multicast Security
LOCATION:Salon E
STATUS:CONFIRMED
CLASS:PUBLIC
DTSTART;TZID=America/Menominee:20081119T103000
DTEND;TZID=America/Menominee:20081119T113000
DTSTAMP:20161222T095709Z
URL:https://datatracker.ietf.org/meeting/73/materials/agenda-73-msec
DESCRIPTION:Morning Session II\n
 \n
 Agenda https://datatracker.ietf.org/meeting/73/materials/agenda-73-msec\n
 \n
 Session materials: https://datatracker.ietf.org/meeting/73/session/msec\n
 \n
 See in schedule: https://datatracker.ietf.org/meeting/73/agenda#row-73-2008-11-19-wed-1030-sec-msec\n
END:VEVENT
BEGIN:VEVENT
UID:ietf-73-1024-nea
SUMMARY:nea - Network Endpoint Assessment
LOCATION:Duluth
STATUS:CONFIRMED
CLASS:PUBLIC
DTSTART;TZID=America/Menominee:20081119T130000
DTEND;TZID=America/Menominee:20081119T150000
DTSTAMP:20161222T095709Z
URL:https://datatracker.ietf.org/meeting/73/materials/agenda-73-nea
DESCRIPTION:Afternoon Session I\n
 \n
 Agenda https://datatracker.ietf.org/meeting/73/materials/agenda-73-nea\n
 \n
 Session materials: https://datatracker.ietf.org/meeting/73/session/nea\n
 \n
 See in schedule: https://datatracker.ietf.org/meeting/73/agenda#row-73-2008-11-19-wed-1300-sec-nea\n
END:VEVENT
BEGIN:VEVENT
UID:ietf-73-1091-tls
SUMMARY:tls - Transport Layer Security
LOCATION:Salon E
STATUS:CONFIRMED
CLASS:PUBLIC
DTSTART;TZID=America/Menominee:20081120T090000
DTEND;TZID=America/Menominee:20081120T113000
DTSTAMP:20161222T095709Z
URL:https://datatracker.ietf.org/meeting/73/materials/agenda-73-tls
DESCRIPTION:Morning Session I\n
 \n
 Agenda https://datatracker.ietf.org/meeting/73/materials/agenda-73-tls\n
 \n
 Session materials: https://datatracker.ietf.org/meeting/73/session/tls\n
 \n
 See in schedule: https://datatracker.ietf.org/meeting/73/agenda#row-73-2008-11-20-thu-0900-sec-tls\n
END:VEVENT
BEGIN:VEVENT
UID:ietf-73-1014-dkim
SUMMARY:dkim - Domain Keys Identified Mail
LOCATION:Duluth
STATUS:CONFIRMED
CLASS:PUBLIC
DTSTART;TZID=America/Menominee:20081120T130000
DTEND;TZID=America/Menominee:20081120T150000
DTSTAMP:20161222T095709Z
URL:https://datatracker.ietf.org/meeting/73/materials/agenda-73-dkim
DESCRIPTION:Afternoon Session I\n
 \n
 Agenda https://datatracker.ietf.org/meeting/73/materials/agenda-73-dkim\n
 \n
 Session materials: https://datatracker.ietf.org/meeting/73/session/dkim\n
 \n
 See in schedule: https://datatracker.ietf.org/meeting/73/agenda#row-73-2008-11-20-thu-1300-sec-dkim\n
END:VEVENT
BEGIN:VEVENT
UID:ietf-73-1034-pkix
SUMMARY:pkix - Public-Key Infrastructure (X.509)
LOCATION:Salon E
STATUS:CONFIRMED
CLASS:PUBLIC
DTSTART;TZID=America/Menominee:20081120T152000
DTEND;TZID=America/Menominee:20081120T172000
DTSTAMP:20161222T095709Z
URL:https://datatracker.ietf.org/meeting/73/materials/agenda-73-pkix
DESCRIPTION:Afternoon Session II\n
 \n
 Agenda https://datatracker.ietf.org/meeting/73/materials/agenda-73-pkix\n
 \n
 Session materials: https://datatracker.ietf.org/meeting/73/session/pkix\n
 \n
 See in schedule: https://datatracker.ietf.org/meeting/73/agenda#row-73-2008-11-20-thu-1520-sec-pkix\n
END:VEVENT
BEGIN:VEVENT
UID:ietf-73-1085-saag
SUMMARY:saag - Security Area Open Meeting
LOCATION:Salon G
STATUS:CONFIRMED
CLASS:PUBLIC
DTSTART;TZID=America/Menominee:20081120T174000
DTEND;TZID=America/Menominee:20081120T193000
DTSTAMP:20161222T095709Z
URL:https://datatracker.ietf.org/meeting/73/materials/agenda-73-saag
DESCRIPTION:Afternoon Session III\n
 \n
 Agenda https://datatracker.ietf.org/meeting/73/materials/agenda-73-saag\n
 \n
 Session materials: https://datatracker.ietf.org/meeting/73/session/saag\n
 \n
 See in schedule: https://datatracker.ietf.org/meeting/73/agenda#row-73-2008-11-20-thu-1740-sec-saag\n
END:VEVENT
END:VCALENDAR
