BEGIN:VCALENDAR
VERSION:2.0
METHOD:PUBLISH
PRODID:-//IETF//datatracker.ietf.org ical agenda//EN
BEGIN:VTIMEZONE
TZID:America/Los_Angeles
X-LIC-LOCATION:America/Los_Angeles
BEGIN:DAYLIGHT
TZOFFSETFROM:-0800
TZOFFSETTO:-0700
TZNAME:PDT
DTSTART:20070311T020000
RRULE:FREQ=YEARLY;BYMONTH=3;BYDAY=2SU
END:DAYLIGHT
BEGIN:STANDARD
TZOFFSETFROM:-0700
TZOFFSETTO:-0800
TZNAME:PST
DTSTART:20071104T020000
RRULE:FREQ=YEARLY;BYMONTH=11;BYDAY=1SU
END:STANDARD
BEGIN:STANDARD
TZOFFSETFROM:-075258
TZOFFSETTO:-0800
TZNAME:PST
DTSTART:18831118T120702
RDATE:18831118T120702
END:STANDARD
BEGIN:DAYLIGHT
TZOFFSETFROM:-0800
TZOFFSETTO:-0700
TZNAME:PDT
DTSTART:19180331T020000
RDATE:19180331T020000
RDATE:19190330T020000
RDATE:19480314T020000
RDATE:19500430T020000
RDATE:19510429T020000
RDATE:19520427T020000
RDATE:19530426T020000
RDATE:19540425T020000
RDATE:19550424T020000
RDATE:19560429T020000
RDATE:19570428T020000
RDATE:19580427T020000
RDATE:19590426T020000
RDATE:19600424T020000
RDATE:19610430T020000
RDATE:19620429T020000
RDATE:19630428T020000
RDATE:19640426T020000
RDATE:19650425T020000
RDATE:19660424T020000
RDATE:19670430T020000
RDATE:19680428T020000
RDATE:19690427T020000
RDATE:19700426T020000
RDATE:19710425T020000
RDATE:19720430T020000
RDATE:19730429T020000
RDATE:19740106T020000
RDATE:19750223T020000
RDATE:19760425T020000
RDATE:19770424T020000
RDATE:19780430T020000
RDATE:19790429T020000
RDATE:19800427T020000
RDATE:19810426T020000
RDATE:19820425T020000
RDATE:19830424T020000
RDATE:19840429T020000
RDATE:19850428T020000
RDATE:19860427T020000
RDATE:19870405T020000
RDATE:19880403T020000
RDATE:19890402T020000
RDATE:19900401T020000
RDATE:19910407T020000
RDATE:19920405T020000
RDATE:19930404T020000
RDATE:19940403T020000
RDATE:19950402T020000
RDATE:19960407T020000
RDATE:19970406T020000
RDATE:19980405T020000
RDATE:19990404T020000
RDATE:20000402T020000
RDATE:20010401T020000
RDATE:20020407T020000
RDATE:20030406T020000
RDATE:20040404T020000
RDATE:20050403T020000
RDATE:20060402T020000
END:DAYLIGHT
BEGIN:STANDARD
TZOFFSETFROM:-0700
TZOFFSETTO:-0800
TZNAME:PST
DTSTART:19181027T020000
RDATE:19181027T020000
RDATE:19191026T020000
RDATE:19450930T020000
RDATE:19490101T020000
RDATE:19500924T020000
RDATE:19510930T020000
RDATE:19520928T020000
RDATE:19530927T020000
RDATE:19540926T020000
RDATE:19550925T020000
RDATE:19560930T020000
RDATE:19570929T020000
RDATE:19580928T020000
RDATE:19590927T020000
RDATE:19600925T020000
RDATE:19610924T020000
RDATE:19621028T020000
RDATE:19631027T020000
RDATE:19641025T020000
RDATE:19651031T020000
RDATE:19661030T020000
RDATE:19671029T020000
RDATE:19681027T020000
RDATE:19691026T020000
RDATE:19701025T020000
RDATE:19711031T020000
RDATE:19721029T020000
RDATE:19731028T020000
RDATE:19741027T020000
RDATE:19751026T020000
RDATE:19761031T020000
RDATE:19771030T020000
RDATE:19781029T020000
RDATE:19791028T020000
RDATE:19801026T020000
RDATE:19811025T020000
RDATE:19821031T020000
RDATE:19831030T020000
RDATE:19841028T020000
RDATE:19851027T020000
RDATE:19861026T020000
RDATE:19871025T020000
RDATE:19881030T020000
RDATE:19891029T020000
RDATE:19901028T020000
RDATE:19911027T020000
RDATE:19921025T020000
RDATE:19931031T020000
RDATE:19941030T020000
RDATE:19951029T020000
RDATE:19961027T020000
RDATE:19971026T020000
RDATE:19981025T020000
RDATE:19991031T020000
RDATE:20001029T020000
RDATE:20011028T020000
RDATE:20021027T020000
RDATE:20031026T020000
RDATE:20041031T020000
RDATE:20051030T020000
RDATE:20061029T020000
END:STANDARD
BEGIN:DAYLIGHT
TZOFFSETFROM:-0800
TZOFFSETTO:-0700
TZNAME:PWT
DTSTART:19420209T020000
RDATE:19420209T020000
END:DAYLIGHT
BEGIN:DAYLIGHT
TZOFFSETFROM:-0700
TZOFFSETTO:-0700
TZNAME:PPT
DTSTART:19450814T160000
RDATE:19450814T160000
END:DAYLIGHT
BEGIN:STANDARD
TZOFFSETFROM:-0800
TZOFFSETTO:-0800
TZNAME:PST
DTSTART:19460101T000000
RDATE:19460101T000000
RDATE:19670101T000000
END:STANDARD
END:VTIMEZONE
BEGIN:VEVENT
UID:ietf-74-1239-mmusic
SUMMARY:mmusic - Multiparty Multimedia Session Control
LOCATION:Continental 4
STATUS:CONFIRMED
CLASS:PUBLIC
DTSTART;TZID=America/Los_Angeles:20090323T090000
DTEND;TZID=America/Los_Angeles:20090323T113000
DTSTAMP:20161222T095709Z
URL:https://datatracker.ietf.org/meeting/74/materials/agenda-74-mmusic
DESCRIPTION:Morning Session I\n
 \n
 Agenda https://datatracker.ietf.org/meeting/74/materials/agenda-74-mmusic\n
 \n
 Session materials: https://datatracker.ietf.org/meeting/74/session/mmusic\n
 \n
 See in schedule: https://datatracker.ietf.org/meeting/74/agenda#row-74-2009-03-23-mon-0900-rai-mmusic\n
END:VEVENT
BEGIN:VEVENT
UID:ietf-74-1147-avt
SUMMARY:avt - Audio/Video Transport
LOCATION:Continental 5
STATUS:CONFIRMED
CLASS:PUBLIC
DTSTART;TZID=America/Los_Angeles:20090323T130000
DTEND;TZID=America/Los_Angeles:20090323T150000
DTSTAMP:20161222T095709Z
URL:https://datatracker.ietf.org/meeting/74/materials/agenda-74-avt
DESCRIPTION:Afternoon Session I\n
 \n
 Agenda https://datatracker.ietf.org/meeting/74/materials/agenda-74-avt\n
 \n
 Session materials: https://datatracker.ietf.org/meeting/74/session/avt\n
 \n
 See in schedule: https://datatracker.ietf.org/meeting/74/agenda#row-74-2009-03-23-mon-1300-rai-avt\n
END:VEVENT
BEGIN:VEVENT
UID:ietf-74-1201-ecrit
SUMMARY:ecrit - Emergency Context Resolution with Internet Technologies
LOCATION:Continental 5
STATUS:CONFIRMED
CLASS:PUBLIC
DTSTART;TZID=America/Los_Angeles:20090323T152000
DTEND;TZID=America/Los_Angeles:20090323T172000
DTSTAMP:20161222T095709Z
URL:https://datatracker.ietf.org/meeting/74/materials/agenda-74-ecrit
DESCRIPTION:Afternoon Session II\n
 \n
 Agenda https://datatracker.ietf.org/meeting/74/materials/agenda-74-ecrit\n
 \n
 Session materials: https://datatracker.ietf.org/meeting/74/session/ecrit\n
 \n
 See in schedule: https://datatracker.ietf.org/meeting/74/agenda#row-74-2009-03-23-mon-1520-rai-ecrit\n
END:VEVENT
BEGIN:VEVENT
UID:ietf-74-1264-xmpp
SUMMARY:xmpp - Extensible Messaging and Presence Protocol
LOCATION:Imperial A
STATUS:CONFIRMED
CLASS:PUBLIC
DTSTART;TZID=America/Los_Angeles:20090323T174000
DTEND;TZID=America/Los_Angeles:20090323T194000
DTSTAMP:20161222T095709Z
URL:https://datatracker.ietf.org/meeting/74/materials/agenda-74-xmpp
DESCRIPTION:Afternoon Session III\n
 \n
 Agenda https://datatracker.ietf.org/meeting/74/materials/agenda-74-xmpp\n
 \n
 Session materials: https://datatracker.ietf.org/meeting/74/session/xmpp\n
 \n
 See in schedule: https://datatracker.ietf.org/meeting/74/agenda#row-74-2009-03-23-mon-1740-rai-xmpp\n
END:VEVENT
BEGIN:VEVENT
UID:ietf-74-1158-drinks
SUMMARY:drinks - Data for Reachability of Inter/tra-NetworK SIP
LOCATION:Continental 1&2
STATUS:CONFIRMED
CLASS:PUBLIC
DTSTART;TZID=America/Los_Angeles:20090324T090000
DTEND;TZID=America/Los_Angeles:20090324T113000
DTSTAMP:20161222T095709Z
URL:https://datatracker.ietf.org/meeting/74/materials/agenda-74-drinks
DESCRIPTION:Morning Session I\n
 \n
 Agenda https://datatracker.ietf.org/meeting/74/materials/agenda-74-drinks\n
 \n
 Session materials: https://datatracker.ietf.org/meeting/74/session/drinks\n
 \n
 See in schedule: https://datatracker.ietf.org/meeting/74/agenda#row-74-2009-03-24-tue-0900-rai-drinks\n
END:VEVENT
BEGIN:VEVENT
UID:ietf-74-1157-speermint
SUMMARY:speermint - Session PEERing for Multimedia INTerconnect
LOCATION:Imperial B
STATUS:CONFIRMED
CLASS:PUBLIC
DTSTART;TZID=America/Los_Angeles:20090324T152000
DTEND;TZID=America/Los_Angeles:20090324T170000
DTSTAMP:20161222T095709Z
URL:https://datatracker.ietf.org/meeting/74/materials/agenda-74-speermint
DESCRIPTION:Afternoon Session II\n
 \n
 Agenda https://datatracker.ietf.org/meeting/74/materials/agenda-74-speermint\n
 \n
 Session materials: https://datatracker.ietf.org/meeting/74/session/speermint\n
 \n
 See in schedule: https://datatracker.ietf.org/meeting/74/agenda#row-74-2009-03-24-tue-1520-rai-speermint\n
END:VEVENT
BEGIN:VEVENT
UID:ietf-74-1166-xcon
SUMMARY:xcon - Centralized Conferencing
LOCATION:Continental 4
STATUS:CONFIRMED
CLASS:PUBLIC
DTSTART;TZID=America/Los_Angeles:20090324T171000
DTEND;TZID=America/Los_Angeles:20090324T181000
DTSTAMP:20161222T095709Z
URL:https://datatracker.ietf.org/meeting/74/materials/agenda-74-xcon
DESCRIPTION:Afternoon Session III\n
 \n
 Agenda https://datatracker.ietf.org/meeting/74/materials/agenda-74-xcon\n
 \n
 Session materials: https://datatracker.ietf.org/meeting/74/session/xcon\n
 \n
 See in schedule: https://datatracker.ietf.org/meeting/74/agenda#row-74-2009-03-24-tue-1710-rai-xcon\n
END:VEVENT
BEGIN:VEVENT
UID:ietf-74-1253-atoca
SUMMARY:atoca - Authority-to-Citizen Alert
LOCATION:Imperial B
STATUS:CONFIRMED
CLASS:PUBLIC
DTSTART;TZID=America/Los_Angeles:20090325T090000
DTEND;TZID=America/Los_Angeles:20090325T101500
DTSTAMP:20161222T095709Z
URL:https://datatracker.ietf.org/meeting/74/materials/agenda-74-atoca
DESCRIPTION:Morning Session I\n
 \n
 Agenda https://datatracker.ietf.org/meeting/74/materials/agenda-74-atoca\n
 \n
 Session materials: https://datatracker.ietf.org/meeting/74/session/atoca\n
 \n
 See in schedule: https://datatracker.ietf.org/meeting/74/agenda#row-74-2009-03-25-wed-0900-rai-atoca\n
END:VEVENT
BEGIN:VEVENT
UID:ietf-74-1155-simple
SUMMARY:simple - SIP for Instant Messaging and Presence Leveraging Extensions
LOCATION:Imperial B
STATUS:CONFIRMED
CLASS:PUBLIC
DTSTART;TZID=America/Los_Angeles:20090325T103000
DTEND;TZID=America/Los_Angeles:20090325T113000
DTSTAMP:20161222T095709Z
URL:https://datatracker.ietf.org/meeting/74/materials/agenda-74-simple
DESCRIPTION:Morning Session II\n
 \n
 Agenda https://datatracker.ietf.org/meeting/74/materials/agenda-74-simple\n
 \n
 Session materials: https://datatracker.ietf.org/meeting/74/session/simple\n
 \n
 See in schedule: https://datatracker.ietf.org/meeting/74/agenda#row-74-2009-03-25-wed-1030-rai-simple\n
END:VEVENT
BEGIN:VEVENT
UID:ietf-74-1156-geopriv
SUMMARY:geopriv - Geographic Location/Privacy
LOCATION:Continental 4
STATUS:CONFIRMED
CLASS:PUBLIC
DTSTART;TZID=America/Los_Angeles:20090326T090000
DTEND;TZID=America/Los_Angeles:20090326T113000
DTSTAMP:20161222T095709Z
URL:https://datatracker.ietf.org/meeting/74/materials/agenda-74-geopriv
DESCRIPTION:Morning Session I\n
 \n
 Agenda https://datatracker.ietf.org/meeting/74/materials/agenda-74-geopriv\n
 \n
 Session materials: https://datatracker.ietf.org/meeting/74/session/geopriv\n
 \n
 See in schedule: https://datatracker.ietf.org/meeting/74/agenda#row-74-2009-03-26-thu-0900-rai-geopriv\n
END:VEVENT
BEGIN:VEVENT
UID:ietf-74-1223-mediactrl
SUMMARY:mediactrl - Media Server Control
LOCATION:Imperial A
STATUS:CONFIRMED
CLASS:PUBLIC
DTSTART;TZID=America/Los_Angeles:20090326T090000
DTEND;TZID=America/Los_Angeles:20090326T113000
DTSTAMP:20161222T095709Z
URL:https://datatracker.ietf.org/meeting/74/materials/agenda-74-mediactrl
DESCRIPTION:Morning Session I\n
 \n
 Agenda https://datatracker.ietf.org/meeting/74/materials/agenda-74-mediactrl\n
 \n
 Session materials: https://datatracker.ietf.org/meeting/74/session/mediactrl\n
 \n
 See in schedule: https://datatracker.ietf.org/meeting/74/agenda#row-74-2009-03-26-thu-0900-rai-mediactrl\n
END:VEVENT
BEGIN:VEVENT
UID:ietf-74-1188-bliss
SUMMARY:bliss - Basic Level of Interoperability for SIP Services
LOCATION:Imperial B
STATUS:CONFIRMED
CLASS:PUBLIC
DTSTART;TZID=America/Los_Angeles:20090326T130000
DTEND;TZID=America/Los_Angeles:20090326T150000
DTSTAMP:20161222T095709Z
URL:https://datatracker.ietf.org/meeting/74/materials/agenda-74-bliss
DESCRIPTION:Afternoon Session I\n
 \n
 Agenda https://datatracker.ietf.org/meeting/74/materials/agenda-74-bliss\n
 \n
 Session materials: https://datatracker.ietf.org/meeting/74/session/bliss\n
 \n
 See in schedule: https://datatracker.ietf.org/meeting/74/agenda#row-74-2009-03-26-thu-1300-rai-bliss\n
END:VEVENT
BEGIN:VEVENT
UID:ietf-74-1148-avt
SUMMARY:avt - Audio/Video Transport
LOCATION:Continental 4
STATUS:CONFIRMED
CLASS:PUBLIC
DTSTART;TZID=America/Los_Angeles:20090326T151000
DTEND;TZID=America/Los_Angeles:20090326T161000
DTSTAMP:20161222T095709Z
URL:https://datatracker.ietf.org/meeting/74/materials/agenda-74-avt
DESCRIPTION:Afternoon Session II\n
 \n
 Agenda https://datatracker.ietf.org/meeting/74/materials/agenda-74-avt\n
 \n
 Session materials: https://datatracker.ietf.org/meeting/74/session/avt\n
 \n
 See in schedule: https://datatracker.ietf.org/meeting/74/agenda#row-74-2009-03-26-thu-1510-rai-avt\n
END:VEVENT
BEGIN:VEVENT
UID:ietf-74-1162-sipping
SUMMARY:sipping - Session Initiation Proposal Investigation
LOCATION:Continental 6
STATUS:CONFIRMED
CLASS:PUBLIC
DTSTART;TZID=America/Los_Angeles:20090327T090000
DTEND;TZID=America/Los_Angeles:20090327T113000
DTSTAMP:20161222T095709Z
URL:https://datatracker.ietf.org/meeting/74/materials/agenda-74-sipping
DESCRIPTION:Morning Session I\n
 \n
 Agenda https://datatracker.ietf.org/meeting/74/materials/agenda-74-sipping\n
 \n
 Session materials: https://datatracker.ietf.org/meeting/74/session/sipping\n
 \n
 See in schedule: https://datatracker.ietf.org/meeting/74/agenda#row-74-2009-03-27-fri-0900-rai-sipping\n
END:VEVENT
BEGIN:VEVENT
UID:ietf-74-1224-p2psip
SUMMARY:p2psip - Peer-to-Peer Session Initiation Protocol
LOCATION:Continental 4
STATUS:CONFIRMED
CLASS:PUBLIC
DTSTART;TZID=America/Los_Angeles:20090327T130000
DTEND;TZID=America/Los_Angeles:20090327T140000
DTSTAMP:20161222T095709Z
URL:https://datatracker.ietf.org/meeting/74/materials/agenda-74-p2psip
DESCRIPTION:Afternoon Session I\n
 \n
 Agenda https://datatracker.ietf.org/meeting/74/materials/agenda-74-p2psip\n
 \n
 Session materials: https://datatracker.ietf.org/meeting/74/session/p2psip\n
 \n
 See in schedule: https://datatracker.ietf.org/meeting/74/agenda#row-74-2009-03-27-fri-1300-rai-p2psip\n
END:VEVENT
BEGIN:VEVENT
UID:ietf-74-1225-p2psip
SUMMARY:p2psip - Peer-to-Peer Session Initiation Protocol
LOCATION:Continental 4
STATUS:CONFIRMED
CLASS:PUBLIC
DTSTART;TZID=America/Los_Angeles:20090327T141500
DTEND;TZID=America/Los_Angeles:20090327T151500
DTSTAMP:20161222T095709Z
URL:https://datatracker.ietf.org/meeting/74/materials/agenda-74-p2psip
DESCRIPTION:Afternoon Session II\n
 \n
 Agenda https://datatracker.ietf.org/meeting/74/materials/agenda-74-p2psip\n
 \n
 Session materials: https://datatracker.ietf.org/meeting/74/session/p2psip\n
 \n
 See in schedule: https://datatracker.ietf.org/meeting/74/agenda#row-74-2009-03-27-fri-1415-rai-p2psip\n
END:VEVENT
END:VCALENDAR
