BEGIN:VCALENDAR
VERSION:2.0
METHOD:PUBLISH
PRODID:-//IETF//datatracker.ietf.org ical agenda//EN
BEGIN:VTIMEZONE
TZID:America/Los_Angeles
X-LIC-LOCATION:America/Los_Angeles
BEGIN:DAYLIGHT
TZOFFSETFROM:-0800
TZOFFSETTO:-0700
TZNAME:PDT
DTSTART:20070311T020000
RRULE:FREQ=YEARLY;BYMONTH=3;BYDAY=2SU
END:DAYLIGHT
BEGIN:STANDARD
TZOFFSETFROM:-0700
TZOFFSETTO:-0800
TZNAME:PST
DTSTART:20071104T020000
RRULE:FREQ=YEARLY;BYMONTH=11;BYDAY=1SU
END:STANDARD
BEGIN:STANDARD
TZOFFSETFROM:-075258
TZOFFSETTO:-0800
TZNAME:PST
DTSTART:18831118T120702
RDATE:18831118T120702
END:STANDARD
BEGIN:DAYLIGHT
TZOFFSETFROM:-0800
TZOFFSETTO:-0700
TZNAME:PDT
DTSTART:19180331T020000
RDATE:19180331T020000
RDATE:19190330T020000
RDATE:19480314T020000
RDATE:19500430T020000
RDATE:19510429T020000
RDATE:19520427T020000
RDATE:19530426T020000
RDATE:19540425T020000
RDATE:19550424T020000
RDATE:19560429T020000
RDATE:19570428T020000
RDATE:19580427T020000
RDATE:19590426T020000
RDATE:19600424T020000
RDATE:19610430T020000
RDATE:19620429T020000
RDATE:19630428T020000
RDATE:19640426T020000
RDATE:19650425T020000
RDATE:19660424T020000
RDATE:19670430T020000
RDATE:19680428T020000
RDATE:19690427T020000
RDATE:19700426T020000
RDATE:19710425T020000
RDATE:19720430T020000
RDATE:19730429T020000
RDATE:19740106T020000
RDATE:19750223T020000
RDATE:19760425T020000
RDATE:19770424T020000
RDATE:19780430T020000
RDATE:19790429T020000
RDATE:19800427T020000
RDATE:19810426T020000
RDATE:19820425T020000
RDATE:19830424T020000
RDATE:19840429T020000
RDATE:19850428T020000
RDATE:19860427T020000
RDATE:19870405T020000
RDATE:19880403T020000
RDATE:19890402T020000
RDATE:19900401T020000
RDATE:19910407T020000
RDATE:19920405T020000
RDATE:19930404T020000
RDATE:19940403T020000
RDATE:19950402T020000
RDATE:19960407T020000
RDATE:19970406T020000
RDATE:19980405T020000
RDATE:19990404T020000
RDATE:20000402T020000
RDATE:20010401T020000
RDATE:20020407T020000
RDATE:20030406T020000
RDATE:20040404T020000
RDATE:20050403T020000
RDATE:20060402T020000
END:DAYLIGHT
BEGIN:STANDARD
TZOFFSETFROM:-0700
TZOFFSETTO:-0800
TZNAME:PST
DTSTART:19181027T020000
RDATE:19181027T020000
RDATE:19191026T020000
RDATE:19450930T020000
RDATE:19490101T020000
RDATE:19500924T020000
RDATE:19510930T020000
RDATE:19520928T020000
RDATE:19530927T020000
RDATE:19540926T020000
RDATE:19550925T020000
RDATE:19560930T020000
RDATE:19570929T020000
RDATE:19580928T020000
RDATE:19590927T020000
RDATE:19600925T020000
RDATE:19610924T020000
RDATE:19621028T020000
RDATE:19631027T020000
RDATE:19641025T020000
RDATE:19651031T020000
RDATE:19661030T020000
RDATE:19671029T020000
RDATE:19681027T020000
RDATE:19691026T020000
RDATE:19701025T020000
RDATE:19711031T020000
RDATE:19721029T020000
RDATE:19731028T020000
RDATE:19741027T020000
RDATE:19751026T020000
RDATE:19761031T020000
RDATE:19771030T020000
RDATE:19781029T020000
RDATE:19791028T020000
RDATE:19801026T020000
RDATE:19811025T020000
RDATE:19821031T020000
RDATE:19831030T020000
RDATE:19841028T020000
RDATE:19851027T020000
RDATE:19861026T020000
RDATE:19871025T020000
RDATE:19881030T020000
RDATE:19891029T020000
RDATE:19901028T020000
RDATE:19911027T020000
RDATE:19921025T020000
RDATE:19931031T020000
RDATE:19941030T020000
RDATE:19951029T020000
RDATE:19961027T020000
RDATE:19971026T020000
RDATE:19981025T020000
RDATE:19991031T020000
RDATE:20001029T020000
RDATE:20011028T020000
RDATE:20021027T020000
RDATE:20031026T020000
RDATE:20041031T020000
RDATE:20051030T020000
RDATE:20061029T020000
END:STANDARD
BEGIN:DAYLIGHT
TZOFFSETFROM:-0800
TZOFFSETTO:-0700
TZNAME:PWT
DTSTART:19420209T020000
RDATE:19420209T020000
END:DAYLIGHT
BEGIN:DAYLIGHT
TZOFFSETFROM:-0700
TZOFFSETTO:-0700
TZNAME:PPT
DTSTART:19450814T160000
RDATE:19450814T160000
END:DAYLIGHT
BEGIN:STANDARD
TZOFFSETFROM:-0800
TZOFFSETTO:-0800
TZNAME:PST
DTSTART:19460101T000000
RDATE:19460101T000000
RDATE:19670101T000000
END:STANDARD
END:VTIMEZONE
BEGIN:VEVENT
UID:ietf-74-1246-mpls
SUMMARY:mpls - Multiprotocol Label Switching
LOCATION:Continental 6
STATUS:CONFIRMED
CLASS:PUBLIC
DTSTART;TZID=America/Los_Angeles:20090323T090000
DTEND;TZID=America/Los_Angeles:20090323T113000
DTSTAMP:20161222T095709Z
URL:https://datatracker.ietf.org/meeting/74/materials/agenda-74-mpls
DESCRIPTION:Morning Session I\n
 \n
 Agenda https://datatracker.ietf.org/meeting/74/materials/agenda-74-mpls\n
 \n
 Session materials: https://datatracker.ietf.org/meeting/74/session/mpls\n
 \n
 See in schedule: https://datatracker.ietf.org/meeting/74/agenda#row-74-2009-03-23-mon-0900-rtg-mpls\n
END:VEVENT
BEGIN:VEVENT
UID:ietf-74-1169-forces
SUMMARY:forces - Forwarding and Control Element Separation
LOCATION:Imperial A
STATUS:CONFIRMED
CLASS:PUBLIC
DTSTART;TZID=America/Los_Angeles:20090323T152000
DTEND;TZID=America/Los_Angeles:20090323T172000
DTSTAMP:20161222T095709Z
URL:https://datatracker.ietf.org/meeting/74/materials/agenda-74-forces
DESCRIPTION:Afternoon Session II\n
 \n
 Agenda https://datatracker.ietf.org/meeting/74/materials/agenda-74-forces\n
 \n
 Session materials: https://datatracker.ietf.org/meeting/74/session/forces\n
 \n
 See in schedule: https://datatracker.ietf.org/meeting/74/agenda#row-74-2009-03-23-mon-1520-rtg-forces\n
END:VEVENT
BEGIN:VEVENT
UID:ietf-74-1165-rtgwg
SUMMARY:rtgwg - Routing Area Working Group
LOCATION:Continental 1&2
STATUS:CONFIRMED
CLASS:PUBLIC
DTSTART;TZID=America/Los_Angeles:20090323T152000
DTEND;TZID=America/Los_Angeles:20090323T172000
DTSTAMP:20161222T095709Z
URL:https://datatracker.ietf.org/meeting/74/materials/agenda-74-rtgwg
DESCRIPTION:Afternoon Session II\n
 \n
 Agenda https://datatracker.ietf.org/meeting/74/materials/agenda-74-rtgwg\n
 \n
 Session materials: https://datatracker.ietf.org/meeting/74/session/rtgwg\n
 \n
 See in schedule: https://datatracker.ietf.org/meeting/74/agenda#row-74-2009-03-23-mon-1520-rtg-rtgwg\n
END:VEVENT
BEGIN:VEVENT
UID:ietf-74-1170-idr
SUMMARY:idr - Inter-Domain Routing
LOCATION:Imperial B
STATUS:CONFIRMED
CLASS:PUBLIC
DTSTART;TZID=America/Los_Angeles:20090323T174000
DTEND;TZID=America/Los_Angeles:20090323T194000
DTSTAMP:20161222T095709Z
URL:https://datatracker.ietf.org/meeting/74/materials/agenda-74-idr
DESCRIPTION:Afternoon Session III\n
 \n
 Agenda https://datatracker.ietf.org/meeting/74/materials/agenda-74-idr\n
 \n
 Session materials: https://datatracker.ietf.org/meeting/74/session/idr\n
 \n
 See in schedule: https://datatracker.ietf.org/meeting/74/agenda#row-74-2009-03-23-mon-1740-rtg-idr\n
END:VEVENT
BEGIN:VEVENT
UID:ietf-74-1182-roll
SUMMARY:roll - Routing Over Low power and Lossy networks
LOCATION:Continental 5
STATUS:CONFIRMED
CLASS:PUBLIC
DTSTART;TZID=America/Los_Angeles:20090323T174000
DTEND;TZID=America/Los_Angeles:20090323T194000
DTSTAMP:20161222T095709Z
URL:https://datatracker.ietf.org/meeting/74/materials/agenda-74-roll
DESCRIPTION:Afternoon Session III\n
 \n
 Agenda https://datatracker.ietf.org/meeting/74/materials/agenda-74-roll\n
 \n
 Session materials: https://datatracker.ietf.org/meeting/74/session/roll\n
 \n
 See in schedule: https://datatracker.ietf.org/meeting/74/agenda#row-74-2009-03-23-mon-1740-rtg-roll\n
END:VEVENT
BEGIN:VEVENT
UID:ietf-74-1196-l2vpn
SUMMARY:l2vpn - Layer 2 Virtual Private Networks
LOCATION:Continental 5
STATUS:CONFIRMED
CLASS:PUBLIC
DTSTART;TZID=America/Los_Angeles:20090324T090000
DTEND;TZID=America/Los_Angeles:20090324T113000
DTSTAMP:20161222T095709Z
URL:https://datatracker.ietf.org/meeting/74/materials/agenda-74-l2vpn
DESCRIPTION:Morning Session I\n
 \n
 Agenda https://datatracker.ietf.org/meeting/74/materials/agenda-74-l2vpn\n
 \n
 Session materials: https://datatracker.ietf.org/meeting/74/session/l2vpn\n
 \n
 See in schedule: https://datatracker.ietf.org/meeting/74/agenda#row-74-2009-03-24-tue-0900-rtg-l2vpn\n
END:VEVENT
BEGIN:VEVENT
UID:ietf-74-1163-sidr
SUMMARY:sidr - Secure Inter-Domain Routing
LOCATION:Continental 4
STATUS:CONFIRMED
CLASS:PUBLIC
DTSTART;TZID=America/Los_Angeles:20090324T090000
DTEND;TZID=America/Los_Angeles:20090324T113000
DTSTAMP:20161222T095709Z
URL:https://datatracker.ietf.org/meeting/74/materials/agenda-74-sidr
DESCRIPTION:Morning Session I\n
 \n
 Agenda https://datatracker.ietf.org/meeting/74/materials/agenda-74-sidr\n
 \n
 Session materials: https://datatracker.ietf.org/meeting/74/session/sidr\n
 \n
 See in schedule: https://datatracker.ietf.org/meeting/74/agenda#row-74-2009-03-24-tue-0900-rtg-sidr\n
END:VEVENT
BEGIN:VEVENT
UID:ietf-74-1154-pim
SUMMARY:pim - Protocol Independent Multicast
LOCATION:Continental 4
STATUS:CONFIRMED
CLASS:PUBLIC
DTSTART;TZID=America/Los_Angeles:20090324T130000
DTEND;TZID=America/Los_Angeles:20090324T150000
DTSTAMP:20161222T095709Z
URL:https://datatracker.ietf.org/meeting/74/materials/agenda-74-pim
DESCRIPTION:Afternoon Session I\n
 \n
 Agenda https://datatracker.ietf.org/meeting/74/materials/agenda-74-pim\n
 \n
 Session materials: https://datatracker.ietf.org/meeting/74/session/pim\n
 \n
 See in schedule: https://datatracker.ietf.org/meeting/74/agenda#row-74-2009-03-24-tue-1300-rtg-pim\n
END:VEVENT
BEGIN:VEVENT
UID:ietf-74-1174-rtgarea
SUMMARY:rtgarea - Routing Area Open Meeting
LOCATION:Continental 5
STATUS:CONFIRMED
CLASS:PUBLIC
DTSTART;TZID=America/Los_Angeles:20090324T152000
DTEND;TZID=America/Los_Angeles:20090324T170000
DTSTAMP:20161222T095709Z
URL:https://datatracker.ietf.org/meeting/74/materials/agenda-74-rtgarea
DESCRIPTION:Afternoon Session II\n
 \n
 Agenda https://datatracker.ietf.org/meeting/74/materials/agenda-74-rtgarea\n
 \n
 Session materials: https://datatracker.ietf.org/meeting/74/session/rtgarea\n
 \n
 See in schedule: https://datatracker.ietf.org/meeting/74/agenda#row-74-2009-03-24-tue-1520-rtg-rtgarea\n
END:VEVENT
BEGIN:VEVENT
UID:ietf-74-1181-pce
SUMMARY:pce - Path Computation Element
LOCATION:Continental 5
STATUS:CONFIRMED
CLASS:PUBLIC
DTSTART;TZID=America/Los_Angeles:20090324T171000
DTEND;TZID=America/Los_Angeles:20090324T181000
DTSTAMP:20161222T095709Z
URL:https://datatracker.ietf.org/meeting/74/materials/agenda-74-pce
DESCRIPTION:Afternoon Session III\n
 \n
 Agenda https://datatracker.ietf.org/meeting/74/materials/agenda-74-pce\n
 \n
 Session materials: https://datatracker.ietf.org/meeting/74/session/pce\n
 \n
 See in schedule: https://datatracker.ietf.org/meeting/74/agenda#row-74-2009-03-24-tue-1710-rtg-pce\n
END:VEVENT
BEGIN:VEVENT
UID:ietf-74-1247-mpls
SUMMARY:mpls - Multiprotocol Label Switching
LOCATION:Continental 5
STATUS:CONFIRMED
CLASS:PUBLIC
DTSTART;TZID=America/Los_Angeles:20090325T090000
DTEND;TZID=America/Los_Angeles:20090325T101500
DTSTAMP:20161222T095709Z
URL:https://datatracker.ietf.org/meeting/74/materials/agenda-74-mpls
DESCRIPTION:Morning Session I\n
 \n
 Agenda https://datatracker.ietf.org/meeting/74/materials/agenda-74-mpls\n
 \n
 Session materials: https://datatracker.ietf.org/meeting/74/session/mpls\n
 \n
 See in schedule: https://datatracker.ietf.org/meeting/74/agenda#row-74-2009-03-25-wed-0900-rtg-mpls\n
END:VEVENT
BEGIN:VEVENT
UID:ietf-74-1248-mpls
SUMMARY:mpls - Multiprotocol Label Switching
LOCATION:Continental 5
STATUS:CONFIRMED
CLASS:PUBLIC
DTSTART;TZID=America/Los_Angeles:20090325T103000
DTEND;TZID=America/Los_Angeles:20090325T113000
DTSTAMP:20161222T095709Z
URL:https://datatracker.ietf.org/meeting/74/materials/agenda-74-mpls
DESCRIPTION:Morning Session II\n
 \n
 Agenda https://datatracker.ietf.org/meeting/74/materials/agenda-74-mpls\n
 \n
 Session materials: https://datatracker.ietf.org/meeting/74/session/mpls\n
 \n
 See in schedule: https://datatracker.ietf.org/meeting/74/agenda#row-74-2009-03-25-wed-1030-rtg-mpls\n
END:VEVENT
BEGIN:VEVENT
UID:ietf-74-1216-l3vpn
SUMMARY:l3vpn - Layer 3 Virtual Private Networks
LOCATION:Continental 4
STATUS:CONFIRMED
CLASS:PUBLIC
DTSTART;TZID=America/Los_Angeles:20090325T130000
DTEND;TZID=America/Los_Angeles:20090325T150000
DTSTAMP:20161222T095709Z
URL:https://datatracker.ietf.org/meeting/74/materials/agenda-74-l3vpn
DESCRIPTION:Afternoon Session I\n
 \n
 Agenda https://datatracker.ietf.org/meeting/74/materials/agenda-74-l3vpn\n
 \n
 Session materials: https://datatracker.ietf.org/meeting/74/session/l3vpn\n
 \n
 See in schedule: https://datatracker.ietf.org/meeting/74/agenda#row-74-2009-03-25-wed-1300-rtg-l3vpn\n
END:VEVENT
BEGIN:VEVENT
UID:ietf-74-1209-ospf
SUMMARY:ospf - Open Shortest Path First IGP
LOCATION:Imperial A
STATUS:CONFIRMED
CLASS:PUBLIC
DTSTART;TZID=America/Los_Angeles:20090325T130000
DTEND;TZID=America/Los_Angeles:20090325T150000
DTSTAMP:20161222T095709Z
URL:https://datatracker.ietf.org/meeting/74/materials/agenda-74-ospf
DESCRIPTION:Afternoon Session I\n
 \n
 Agenda https://datatracker.ietf.org/meeting/74/materials/agenda-74-ospf\n
 \n
 Session materials: https://datatracker.ietf.org/meeting/74/session/ospf\n
 \n
 See in schedule: https://datatracker.ietf.org/meeting/74/agenda#row-74-2009-03-25-wed-1300-rtg-ospf\n
END:VEVENT
BEGIN:VEVENT
UID:ietf-74-1151-pwe3
SUMMARY:pwe3 - Pseudowire Emulation Edge to Edge
LOCATION:Imperial B
STATUS:CONFIRMED
CLASS:PUBLIC
DTSTART;TZID=America/Los_Angeles:20090325T130000
DTEND;TZID=America/Los_Angeles:20090325T150000
DTSTAMP:20161222T095709Z
URL:https://datatracker.ietf.org/meeting/74/materials/agenda-74-pwe3
DESCRIPTION:Afternoon Session I\n
 \n
 Agenda https://datatracker.ietf.org/meeting/74/materials/agenda-74-pwe3\n
 \n
 Session materials: https://datatracker.ietf.org/meeting/74/session/pwe3\n
 \n
 See in schedule: https://datatracker.ietf.org/meeting/74/agenda#row-74-2009-03-25-wed-1300-rtg-pwe3\n
END:VEVENT
BEGIN:VEVENT
UID:ietf-74-1172-ccamp
SUMMARY:ccamp - Common Control and Measurement Plane
LOCATION:Continental 6
STATUS:CONFIRMED
CLASS:PUBLIC
DTSTART;TZID=America/Los_Angeles:20090326T090000
DTEND;TZID=America/Los_Angeles:20090326T113000
DTSTAMP:20161222T095709Z
URL:https://datatracker.ietf.org/meeting/74/materials/agenda-74-ccamp
DESCRIPTION:Morning Session I\n
 \n
 Agenda https://datatracker.ietf.org/meeting/74/materials/agenda-74-ccamp\n
 \n
 Session materials: https://datatracker.ietf.org/meeting/74/session/ccamp\n
 \n
 See in schedule: https://datatracker.ietf.org/meeting/74/agenda#row-74-2009-03-26-thu-0900-rtg-ccamp\n
END:VEVENT
BEGIN:VEVENT
UID:ietf-74-1160-manet
SUMMARY:manet - Mobile Ad-hoc Networks
LOCATION:Continental 1&2
STATUS:CONFIRMED
CLASS:PUBLIC
DTSTART;TZID=America/Los_Angeles:20090326T130000
DTEND;TZID=America/Los_Angeles:20090326T150000
DTSTAMP:20161222T095709Z
URL:https://datatracker.ietf.org/meeting/74/materials/agenda-74-manet
DESCRIPTION:Afternoon Session I\n
 \n
 Agenda https://datatracker.ietf.org/meeting/74/materials/agenda-74-manet\n
 \n
 Session materials: https://datatracker.ietf.org/meeting/74/session/manet\n
 \n
 See in schedule: https://datatracker.ietf.org/meeting/74/agenda#row-74-2009-03-26-thu-1300-rtg-manet\n
END:VEVENT
BEGIN:VEVENT
UID:ietf-74-1173-ccamp
SUMMARY:ccamp - Common Control and Measurement Plane
LOCATION:Continental 5
STATUS:CONFIRMED
CLASS:PUBLIC
DTSTART;TZID=America/Los_Angeles:20090326T151000
DTEND;TZID=America/Los_Angeles:20090326T161000
DTSTAMP:20161222T095709Z
URL:https://datatracker.ietf.org/meeting/74/materials/agenda-74-ccamp
DESCRIPTION:Afternoon Session II\n
 \n
 Agenda https://datatracker.ietf.org/meeting/74/materials/agenda-74-ccamp\n
 \n
 Session materials: https://datatracker.ietf.org/meeting/74/session/ccamp\n
 \n
 See in schedule: https://datatracker.ietf.org/meeting/74/agenda#row-74-2009-03-26-thu-1510-rtg-ccamp\n
END:VEVENT
END:VCALENDAR
