BEGIN:VCALENDAR
VERSION:2.0
METHOD:PUBLISH
PRODID:-//IETF//datatracker.ietf.org ical agenda//EN
BEGIN:VTIMEZONE
TZID:Europe/Stockholm
X-LIC-LOCATION:Europe/Stockholm
BEGIN:DAYLIGHT
TZOFFSETFROM:+0100
TZOFFSETTO:+0200
TZNAME:CEST
DTSTART:19810329T020000
RRULE:FREQ=YEARLY;BYMONTH=3;BYDAY=-1SU
END:DAYLIGHT
BEGIN:STANDARD
TZOFFSETFROM:+0200
TZOFFSETTO:+0100
TZNAME:CET
DTSTART:19961027T030000
RRULE:FREQ=YEARLY;BYMONTH=10;BYDAY=-1SU
END:STANDARD
BEGIN:STANDARD
TZOFFSETFROM:+011212
TZOFFSETTO:+010014
TZNAME:SET
DTSTART:18790101T000000
RDATE:18790101T000000
END:STANDARD
BEGIN:STANDARD
TZOFFSETFROM:+010014
TZOFFSETTO:+0100
TZNAME:CET
DTSTART:19000101T000000
RDATE:19000101T000000
END:STANDARD
BEGIN:DAYLIGHT
TZOFFSETFROM:+0100
TZOFFSETTO:+0200
TZNAME:CEST
DTSTART:19160514T230000
RDATE:19160514T230000
RDATE:19800406T020000
END:DAYLIGHT
BEGIN:STANDARD
TZOFFSETFROM:+0200
TZOFFSETTO:+0100
TZNAME:CET
DTSTART:19161001T010000
RDATE:19161001T010000
RDATE:19800928T030000
RDATE:19810927T030000
RDATE:19820926T030000
RDATE:19830925T030000
RDATE:19840930T030000
RDATE:19850929T030000
RDATE:19860928T030000
RDATE:19870927T030000
RDATE:19880925T030000
RDATE:19890924T030000
RDATE:19900930T030000
RDATE:19910929T030000
RDATE:19920927T030000
RDATE:19930926T030000
RDATE:19940925T030000
RDATE:19950924T030000
END:STANDARD
BEGIN:STANDARD
TZOFFSETFROM:+0100
TZOFFSETTO:+0100
TZNAME:CET
DTSTART:19800101T000000
RDATE:19800101T000000
END:STANDARD
END:VTIMEZONE
BEGIN:VEVENT
UID:ietf-75-1388-apparea
SUMMARY:apparea - Applications Area Open Meeting
LOCATION:Large Stage
STATUS:CONFIRMED
CLASS:PUBLIC
DTSTART;TZID=Europe/Stockholm:20090727T090000
DTEND;TZID=Europe/Stockholm:20090727T113000
DTSTAMP:20161222T095709Z
URL:https://datatracker.ietf.org/meeting/75/materials/agenda-75-apparea
DESCRIPTION:Morning Session I\n
 \n
 Agenda https://datatracker.ietf.org/meeting/75/materials/agenda-75-apparea\n
 \n
 Session materials: https://datatracker.ietf.org/meeting/75/session/apparea\n
 \n
 See in schedule: https://datatracker.ietf.org/meeting/75/agenda#row-75-2009-07-27-mon-0900-app-apparea\n
END:VEVENT
BEGIN:VEVENT
UID:ietf-75-1375-idnabis
SUMMARY:idnabis - Internationalized Domain Names in Applications, Revised
LOCATION:Room 307
STATUS:CONFIRMED
CLASS:PUBLIC
DTSTART;TZID=Europe/Stockholm:20090727T130000
DTEND;TZID=Europe/Stockholm:20090727T150000
DTSTAMP:20161222T095709Z
URL:https://datatracker.ietf.org/meeting/75/materials/agenda-75-idnabis
DESCRIPTION:Afternoon Session I\n
 \n
 Agenda https://datatracker.ietf.org/meeting/75/materials/agenda-75-idnabis\n
 \n
 Session materials: https://datatracker.ietf.org/meeting/75/session/idnabis\n
 \n
 See in schedule: https://datatracker.ietf.org/meeting/75/agenda#row-75-2009-07-27-mon-1300-app-idnabis\n
END:VEVENT
BEGIN:VEVENT
UID:ietf-75-1373-eai
SUMMARY:eai - Email Address Internationalization
LOCATION:Room 300
STATUS:CONFIRMED
CLASS:PUBLIC
DTSTART;TZID=Europe/Stockholm:20090727T174000
DTEND;TZID=Europe/Stockholm:20090727T194000
DTSTAMP:20161222T095709Z
URL:https://datatracker.ietf.org/meeting/75/materials/agenda-75-eai
DESCRIPTION:Afternoon Session III\n
 \n
 Agenda https://datatracker.ietf.org/meeting/75/materials/agenda-75-eai\n
 \n
 Session materials: https://datatracker.ietf.org/meeting/75/session/eai\n
 \n
 See in schedule: https://datatracker.ietf.org/meeting/75/agenda#row-75-2009-07-27-mon-1740-app-eai\n
END:VEVENT
BEGIN:VEVENT
UID:ietf-75-1371-isms
SUMMARY:isms - Integrated Security Model for SNMP
LOCATION:Cabaret
STATUS:CONFIRMED
CLASS:PUBLIC
DTSTART;TZID=Europe/Stockholm:20090727T174000
DTEND;TZID=Europe/Stockholm:20090727T194000
DTSTAMP:20161222T095709Z
URL:https://datatracker.ietf.org/meeting/75/materials/agenda-75-isms
DESCRIPTION:Afternoon Session III\n
 \n
 Agenda https://datatracker.ietf.org/meeting/75/materials/agenda-75-isms\n
 \n
 Session materials: https://datatracker.ietf.org/meeting/75/session/isms\n
 \n
 See in schedule: https://datatracker.ietf.org/meeting/75/agenda#row-75-2009-07-27-mon-1740-app-isms\n
END:VEVENT
BEGIN:VEVENT
UID:ietf-75-1376-idnabis
SUMMARY:idnabis - Internationalized Domain Names in Applications, Revised
LOCATION:Small Stage
STATUS:CONFIRMED
CLASS:PUBLIC
DTSTART;TZID=Europe/Stockholm:20090728T090000
DTEND;TZID=Europe/Stockholm:20090728T113000
DTSTAMP:20161222T095709Z
URL:https://datatracker.ietf.org/meeting/75/materials/agenda-75-idnabis
DESCRIPTION:Morning Session I\n
 \n
 Agenda https://datatracker.ietf.org/meeting/75/materials/agenda-75-idnabis\n
 \n
 Session materials: https://datatracker.ietf.org/meeting/75/session/idnabis\n
 \n
 See in schedule: https://datatracker.ietf.org/meeting/75/agenda#row-75-2009-07-28-tue-0900-app-idnabis\n
END:VEVENT
BEGIN:VEVENT
UID:ietf-75-1390-ogpx
SUMMARY:ogpx - Open Grid Protocol
LOCATION:Room 300
STATUS:CONFIRMED
CLASS:PUBLIC
DTSTART;TZID=Europe/Stockholm:20090728T152000
DTEND;TZID=Europe/Stockholm:20090728T170000
DTSTAMP:20161222T095709Z
URL:https://datatracker.ietf.org/meeting/75/materials/agenda-75-ogpx
DESCRIPTION:Afternoon Session II\n
 \n
 Agenda https://datatracker.ietf.org/meeting/75/materials/agenda-75-ogpx\n
 \n
 Session materials: https://datatracker.ietf.org/meeting/75/session/ogpx\n
 \n
 See in schedule: https://datatracker.ietf.org/meeting/75/agenda#row-75-2009-07-28-tue-1520-app-ogpx\n
END:VEVENT
BEGIN:VEVENT
UID:ietf-75-1304-vcarddav
SUMMARY:vcarddav - vCard and CardDAV
LOCATION:Room 300
STATUS:CONFIRMED
CLASS:PUBLIC
DTSTART;TZID=Europe/Stockholm:20090728T171000
DTEND;TZID=Europe/Stockholm:20090728T181000
DTSTAMP:20161222T095709Z
URL:https://datatracker.ietf.org/meeting/75/materials/agenda-75-vcarddav
DESCRIPTION:Afternoon Session III\n
 \n
 Agenda https://datatracker.ietf.org/meeting/75/materials/agenda-75-vcarddav\n
 \n
 Session materials: https://datatracker.ietf.org/meeting/75/session/vcarddav\n
 \n
 See in schedule: https://datatracker.ietf.org/meeting/75/agenda#row-75-2009-07-28-tue-1710-app-vcarddav\n
END:VEVENT
BEGIN:VEVENT
UID:ietf-75-1350-sieve
SUMMARY:sieve - Sieve Mail Filtering Language
LOCATION:Room 300
STATUS:CONFIRMED
CLASS:PUBLIC
DTSTART;TZID=Europe/Stockholm:20090729T090000
DTEND;TZID=Europe/Stockholm:20090729T113000
DTSTAMP:20161222T095709Z
URL:https://datatracker.ietf.org/meeting/75/materials/agenda-75-sieve
DESCRIPTION:Morning Session I\n
 \n
 Agenda https://datatracker.ietf.org/meeting/75/materials/agenda-75-sieve\n
 \n
 Session materials: https://datatracker.ietf.org/meeting/75/session/sieve\n
 \n
 See in schedule: https://datatracker.ietf.org/meeting/75/agenda#row-75-2009-07-29-wed-0900-app-sieve\n
END:VEVENT
BEGIN:VEVENT
UID:ietf-75-1368-morg
SUMMARY:morg - Message Organization
LOCATION:Room 300
STATUS:CONFIRMED
CLASS:PUBLIC
DTSTART;TZID=Europe/Stockholm:20090729T130000
DTEND;TZID=Europe/Stockholm:20090729T150000
DTSTAMP:20161222T095709Z
URL:https://datatracker.ietf.org/meeting/75/materials/agenda-75-morg
DESCRIPTION:Afternoon Session I\n
 \n
 Agenda https://datatracker.ietf.org/meeting/75/materials/agenda-75-morg\n
 \n
 Session materials: https://datatracker.ietf.org/meeting/75/session/morg\n
 \n
 See in schedule: https://datatracker.ietf.org/meeting/75/agenda#row-75-2009-07-29-wed-1300-app-morg\n
END:VEVENT
BEGIN:VEVENT
UID:ietf-75-1387-httpbis
SUMMARY:httpbis - Hypertext Transfer Protocol Bis
LOCATION:Room 300
STATUS:CONFIRMED
CLASS:PUBLIC
DTSTART;TZID=Europe/Stockholm:20090730T130000
DTEND;TZID=Europe/Stockholm:20090730T150000
DTSTAMP:20161222T095709Z
URL:https://datatracker.ietf.org/meeting/75/materials/agenda-75-httpbis
DESCRIPTION:Afternoon Session I\n
 \n
 Agenda https://datatracker.ietf.org/meeting/75/materials/agenda-75-httpbis\n
 \n
 Session materials: https://datatracker.ietf.org/meeting/75/session/httpbis\n
 \n
 See in schedule: https://datatracker.ietf.org/meeting/75/agenda#row-75-2009-07-30-thu-1300-app-httpbis\n
END:VEVENT
BEGIN:VEVENT
UID:ietf-75-1402-yam
SUMMARY:yam - Yet Another Mail
LOCATION:Room 307
STATUS:CONFIRMED
CLASS:PUBLIC
DTSTART;TZID=Europe/Stockholm:20090730T130000
DTEND;TZID=Europe/Stockholm:20090730T150000
DTSTAMP:20161222T095709Z
URL:https://datatracker.ietf.org/meeting/75/materials/agenda-75-yam
DESCRIPTION:Afternoon Session I\n
 \n
 Agenda https://datatracker.ietf.org/meeting/75/materials/agenda-75-yam\n
 \n
 Session materials: https://datatracker.ietf.org/meeting/75/session/yam\n
 \n
 See in schedule: https://datatracker.ietf.org/meeting/75/agenda#row-75-2009-07-30-thu-1300-app-yam\n
END:VEVENT
BEGIN:VEVENT
UID:ietf-75-1335-ipdvb
SUMMARY:ipdvb - IP over DVB
LOCATION:Cabaret
STATUS:CONFIRMED
CLASS:PUBLIC
DTSTART;TZID=Europe/Stockholm:20090730T151000
DTEND;TZID=Europe/Stockholm:20090730T161000
DTSTAMP:20161222T095709Z
URL:https://datatracker.ietf.org/meeting/75/materials/agenda-75-ipdvb
DESCRIPTION:Afternoon Session II\n
 \n
 Agenda https://datatracker.ietf.org/meeting/75/materials/agenda-75-ipdvb\n
 \n
 Session materials: https://datatracker.ietf.org/meeting/75/session/ipdvb\n
 \n
 See in schedule: https://datatracker.ietf.org/meeting/75/agenda#row-75-2009-07-30-thu-1510-app-ipdvb\n
END:VEVENT
END:VCALENDAR
