BEGIN:VCALENDAR
VERSION:2.0
METHOD:PUBLISH
PRODID:-//IETF//datatracker.ietf.org ical agenda//EN
BEGIN:VTIMEZONE
TZID:Europe/Stockholm
X-LIC-LOCATION:Europe/Stockholm
BEGIN:DAYLIGHT
TZOFFSETFROM:+0100
TZOFFSETTO:+0200
TZNAME:CEST
DTSTART:19810329T020000
RRULE:FREQ=YEARLY;BYMONTH=3;BYDAY=-1SU
END:DAYLIGHT
BEGIN:STANDARD
TZOFFSETFROM:+0200
TZOFFSETTO:+0100
TZNAME:CET
DTSTART:19961027T030000
RRULE:FREQ=YEARLY;BYMONTH=10;BYDAY=-1SU
END:STANDARD
BEGIN:STANDARD
TZOFFSETFROM:+011212
TZOFFSETTO:+010014
TZNAME:SET
DTSTART:18790101T000000
RDATE:18790101T000000
END:STANDARD
BEGIN:STANDARD
TZOFFSETFROM:+010014
TZOFFSETTO:+0100
TZNAME:CET
DTSTART:19000101T000000
RDATE:19000101T000000
END:STANDARD
BEGIN:DAYLIGHT
TZOFFSETFROM:+0100
TZOFFSETTO:+0200
TZNAME:CEST
DTSTART:19160514T230000
RDATE:19160514T230000
RDATE:19800406T020000
END:DAYLIGHT
BEGIN:STANDARD
TZOFFSETFROM:+0200
TZOFFSETTO:+0100
TZNAME:CET
DTSTART:19161001T010000
RDATE:19161001T010000
RDATE:19800928T030000
RDATE:19810927T030000
RDATE:19820926T030000
RDATE:19830925T030000
RDATE:19840930T030000
RDATE:19850929T030000
RDATE:19860928T030000
RDATE:19870927T030000
RDATE:19880925T030000
RDATE:19890924T030000
RDATE:19900930T030000
RDATE:19910929T030000
RDATE:19920927T030000
RDATE:19930926T030000
RDATE:19940925T030000
RDATE:19950924T030000
END:STANDARD
BEGIN:STANDARD
TZOFFSETFROM:+0100
TZOFFSETTO:+0100
TZNAME:CET
DTSTART:19800101T000000
RDATE:19800101T000000
END:STANDARD
END:VTIMEZONE
BEGIN:VEVENT
UID:ietf-75-1392-tools
SUMMARY:Code Sprint
LOCATION:Room 503-504
STATUS:CONFIRMED
CLASS:PUBLIC
DTSTART;TZID=Europe/Stockholm:20090725T093000
DTEND;TZID=Europe/Stockholm:20090725T170000
DTSTAMP:20161222T095709Z
DESCRIPTION:Code Sprint\n
 \n
 Session materials: https://datatracker.ietf.org/meeting/75/session/tools\n
 \n
 See in schedule: https://datatracker.ietf.org/meeting/75/agenda#row-75-2009-07-25-sat-0930-tools-code-sprint\n
END:VEVENT
BEGIN:VEVENT
UID:ietf-75-1401-iepg
SUMMARY:IEPG Meeting
LOCATION:Small Stage
STATUS:CONFIRMED
CLASS:PUBLIC
DTSTART;TZID=Europe/Stockholm:20090726T100000
DTEND;TZID=Europe/Stockholm:20090726T120000
DTSTAMP:20161222T095709Z
DESCRIPTION:IEPG Meeting\n
 \n
 Session materials: https://datatracker.ietf.org/meeting/75/session/iepg\n
 \n
 See in schedule: https://datatracker.ietf.org/meeting/75/agenda#row-75-2009-07-26-sun-1000-iepg-iepg-meeting\n
END:VEVENT
BEGIN:VEVENT
UID:ietf-75-1398-edu
SUMMARY:Introduction to xml2rfc
LOCATION:Small Stage
STATUS:CONFIRMED
CLASS:PUBLIC
DTSTART;TZID=Europe/Stockholm:20090726T130000
DTEND;TZID=Europe/Stockholm:20090726T145000
DTSTAMP:20161222T095709Z
DESCRIPTION:Introduction to xml2rfc\n
 \n
 Session materials: https://datatracker.ietf.org/meeting/75/session/edu\n
 \n
 See in schedule: https://datatracker.ietf.org/meeting/75/agenda#row-75-2009-07-26-sun-1300-edu-introduction-to-xml2rfc\n
END:VEVENT
BEGIN:VEVENT
UID:ietf-75-1396-edu
SUMMARY:Newcomer's Training
LOCATION:Congresshall B
STATUS:CONFIRMED
CLASS:PUBLIC
DTSTART;TZID=Europe/Stockholm:20090726T130000
DTEND;TZID=Europe/Stockholm:20090726T145000
DTSTAMP:20161222T095709Z
DESCRIPTION:Newcomer's Training\n
 \n
 Session materials: https://datatracker.ietf.org/meeting/75/session/edu\n
 \n
 See in schedule: https://datatracker.ietf.org/meeting/75/agenda#row-75-2009-07-26-sun-1300-edu-newcomers-training\n
END:VEVENT
BEGIN:VEVENT
UID:ietf-75-1400-edu
SUMMARY:Inter-Domain Routing
LOCATION:Room 307
STATUS:CONFIRMED
CLASS:PUBLIC
DTSTART;TZID=Europe/Stockholm:20090726T150000
DTEND;TZID=Europe/Stockholm:20090726T165000
DTSTAMP:20161222T095709Z
DESCRIPTION:Inter-Domain Routing\n
 \n
 Session materials: https://datatracker.ietf.org/meeting/75/session/edu\n
 \n
 See in schedule: https://datatracker.ietf.org/meeting/75/agenda#row-75-2009-07-26-sun-1500-edu-inter-domain-routing\n
END:VEVENT
BEGIN:VEVENT
UID:ietf-75-1399-edu
SUMMARY:MIB
LOCATION:Small Stage
STATUS:CONFIRMED
CLASS:PUBLIC
DTSTART;TZID=Europe/Stockholm:20090726T150000
DTEND;TZID=Europe/Stockholm:20090726T165000
DTSTAMP:20161222T095709Z
DESCRIPTION:MIB\n
 \n
 Session materials: https://datatracker.ietf.org/meeting/75/session/edu\n
 \n
 See in schedule: https://datatracker.ietf.org/meeting/75/agenda#row-75-2009-07-26-sun-1500-edu-mib\n
END:VEVENT
BEGIN:VEVENT
UID:ietf-75-1397-edu
SUMMARY:Newcomer's Training (Swedish)
LOCATION:Congresshall B
STATUS:CONFIRMED
CLASS:PUBLIC
DTSTART;TZID=Europe/Stockholm:20090726T150000
DTEND;TZID=Europe/Stockholm:20090726T165000
DTSTAMP:20161222T095709Z
DESCRIPTION:Newcomer's Training (Swedish)\n
 \n
 Session materials: https://datatracker.ietf.org/meeting/75/session/edu\n
 \n
 See in schedule: https://datatracker.ietf.org/meeting/75/agenda#row-75-2009-07-26-sun-1500-edu-newcomers-training-swedish\n
END:VEVENT
BEGIN:VEVENT
UID:ietf-75-1405-ietf
SUMMARY:IETF Operations and Administration Plenary
LOCATION:Congresshall ABC
STATUS:CONFIRMED
CLASS:PUBLIC
DTSTART;TZID=Europe/Stockholm:20090729T163000
DTEND;TZID=Europe/Stockholm:20090729T193000
DTSTAMP:20161222T095709Z
URL:https://datatracker.ietf.org/meeting/75/materials/agenda-75-ietf-ietf-operations-and-administration-plenary
DESCRIPTION:IETF Operations and Administration Plenary\n
 \n
 Agenda https://datatracker.ietf.org/meeting/75/materials/agenda-75-ietf-ietf-operations-and-administration-plenary\n
 \n
 Session materials: https://datatracker.ietf.org/meeting/75/session/ietf\n
 \n
 See in schedule: https://datatracker.ietf.org/meeting/75/agenda#row-75-2009-07-29-wed-1630-1plenary-ietf\n
END:VEVENT
BEGIN:VEVENT
UID:ietf-75-1406-ietf
SUMMARY:Technical Plenary
LOCATION:Congresshall ABC
STATUS:CONFIRMED
CLASS:PUBLIC
DTSTART;TZID=Europe/Stockholm:20090730T163000
DTEND;TZID=Europe/Stockholm:20090730T193000
DTSTAMP:20161222T095709Z
URL:https://datatracker.ietf.org/meeting/75/materials/agenda-75-ietf-technical-plenary
DESCRIPTION:Technical Plenary\n
 \n
 Agenda https://datatracker.ietf.org/meeting/75/materials/agenda-75-ietf-technical-plenary\n
 \n
 Session materials: https://datatracker.ietf.org/meeting/75/session/ietf\n
 \n
 See in schedule: https://datatracker.ietf.org/meeting/75/agenda#row-75-2009-07-30-thu-1630-1plenary-ietf\n
END:VEVENT
END:VCALENDAR
