BEGIN:VCALENDAR
VERSION:2.0
METHOD:PUBLISH
PRODID:-//IETF//datatracker.ietf.org ical agenda//EN
BEGIN:VTIMEZONE
TZID:Europe/Stockholm
X-LIC-LOCATION:Europe/Stockholm
BEGIN:DAYLIGHT
TZOFFSETFROM:+0100
TZOFFSETTO:+0200
TZNAME:CEST
DTSTART:19810329T020000
RRULE:FREQ=YEARLY;BYMONTH=3;BYDAY=-1SU
END:DAYLIGHT
BEGIN:STANDARD
TZOFFSETFROM:+0200
TZOFFSETTO:+0100
TZNAME:CET
DTSTART:19961027T030000
RRULE:FREQ=YEARLY;BYMONTH=10;BYDAY=-1SU
END:STANDARD
BEGIN:STANDARD
TZOFFSETFROM:+011212
TZOFFSETTO:+010014
TZNAME:SET
DTSTART:18790101T000000
RDATE:18790101T000000
END:STANDARD
BEGIN:STANDARD
TZOFFSETFROM:+010014
TZOFFSETTO:+0100
TZNAME:CET
DTSTART:19000101T000000
RDATE:19000101T000000
END:STANDARD
BEGIN:DAYLIGHT
TZOFFSETFROM:+0100
TZOFFSETTO:+0200
TZNAME:CEST
DTSTART:19160514T230000
RDATE:19160514T230000
RDATE:19800406T020000
END:DAYLIGHT
BEGIN:STANDARD
TZOFFSETFROM:+0200
TZOFFSETTO:+0100
TZNAME:CET
DTSTART:19161001T010000
RDATE:19161001T010000
RDATE:19800928T030000
RDATE:19810927T030000
RDATE:19820926T030000
RDATE:19830925T030000
RDATE:19840930T030000
RDATE:19850929T030000
RDATE:19860928T030000
RDATE:19870927T030000
RDATE:19880925T030000
RDATE:19890924T030000
RDATE:19900930T030000
RDATE:19910929T030000
RDATE:19920927T030000
RDATE:19930926T030000
RDATE:19940925T030000
RDATE:19950924T030000
END:STANDARD
BEGIN:STANDARD
TZOFFSETFROM:+0100
TZOFFSETTO:+0100
TZNAME:CET
DTSTART:19800101T000000
RDATE:19800101T000000
END:STANDARD
END:VTIMEZONE
BEGIN:VEVENT
UID:ietf-75-1331-mip4
SUMMARY:mip4 - Mobility for IPv4
LOCATION:Cabaret
STATUS:CONFIRMED
CLASS:PUBLIC
DTSTART;TZID=Europe/Stockholm:20090727T090000
DTEND;TZID=Europe/Stockholm:20090727T113000
DTSTAMP:20161222T095709Z
URL:https://datatracker.ietf.org/meeting/75/materials/agenda-75-mip4
DESCRIPTION:Morning Session I\n
 \n
 Agenda https://datatracker.ietf.org/meeting/75/materials/agenda-75-mip4\n
 \n
 Session materials: https://datatracker.ietf.org/meeting/75/session/mip4\n
 \n
 See in schedule: https://datatracker.ietf.org/meeting/75/agenda#row-75-2009-07-27-mon-0900-int-mip4\n
END:VEVENT
BEGIN:VEVENT
UID:ietf-75-1341-ancp
SUMMARY:ancp - Access Node Control Protocol
LOCATION:Small Stage
STATUS:CONFIRMED
CLASS:PUBLIC
DTSTART;TZID=Europe/Stockholm:20090727T130000
DTEND;TZID=Europe/Stockholm:20090727T150000
DTSTAMP:20161222T095709Z
URL:https://datatracker.ietf.org/meeting/75/materials/agenda-75-ancp
DESCRIPTION:Afternoon Session I\n
 \n
 Agenda https://datatracker.ietf.org/meeting/75/materials/agenda-75-ancp\n
 \n
 Session materials: https://datatracker.ietf.org/meeting/75/session/ancp\n
 \n
 See in schedule: https://datatracker.ietf.org/meeting/75/agenda#row-75-2009-07-27-mon-1300-int-ancp\n
END:VEVENT
BEGIN:VEVENT
UID:ietf-75-1380-lisp
SUMMARY:lisp - Locator/ID Separation Protocol
LOCATION:Congresshall C
STATUS:CONFIRMED
CLASS:PUBLIC
DTSTART;TZID=Europe/Stockholm:20090727T130000
DTEND;TZID=Europe/Stockholm:20090727T150000
DTSTAMP:20161222T095709Z
URL:https://datatracker.ietf.org/meeting/75/materials/agenda-75-lisp
DESCRIPTION:Afternoon Session I\n
 \n
 Agenda https://datatracker.ietf.org/meeting/75/materials/agenda-75-lisp\n
 \n
 Session materials: https://datatracker.ietf.org/meeting/75/session/lisp\n
 \n
 See in schedule: https://datatracker.ietf.org/meeting/75/agenda#row-75-2009-07-27-mon-1300-int-lisp\n
END:VEVENT
BEGIN:VEVENT
UID:ietf-75-1349-autoconf
SUMMARY:autoconf - Ad-Hoc Network Autoconfiguration
LOCATION:Room 307
STATUS:CONFIRMED
CLASS:PUBLIC
DTSTART;TZID=Europe/Stockholm:20090727T152000
DTEND;TZID=Europe/Stockholm:20090727T172000
DTSTAMP:20161222T095709Z
URL:https://datatracker.ietf.org/meeting/75/materials/agenda-75-autoconf
DESCRIPTION:Afternoon Session II\n
 \n
 Agenda https://datatracker.ietf.org/meeting/75/materials/agenda-75-autoconf\n
 \n
 Session materials: https://datatracker.ietf.org/meeting/75/session/autoconf\n
 \n
 See in schedule: https://datatracker.ietf.org/meeting/75/agenda#row-75-2009-07-27-mon-1520-int-autoconf\n
END:VEVENT
BEGIN:VEVENT
UID:ietf-75-1342-tictoc
SUMMARY:tictoc - Timing over IP Connection and Transfer of Clock
LOCATION:Room 307
STATUS:CONFIRMED
CLASS:PUBLIC
DTSTART;TZID=Europe/Stockholm:20090727T174000
DTEND;TZID=Europe/Stockholm:20090727T194000
DTSTAMP:20161222T095709Z
URL:https://datatracker.ietf.org/meeting/75/materials/agenda-75-tictoc
DESCRIPTION:Afternoon Session III\n
 \n
 Agenda https://datatracker.ietf.org/meeting/75/materials/agenda-75-tictoc\n
 \n
 Session materials: https://datatracker.ietf.org/meeting/75/session/tictoc\n
 \n
 See in schedule: https://datatracker.ietf.org/meeting/75/agenda#row-75-2009-07-27-mon-1740-int-tictoc\n
END:VEVENT
BEGIN:VEVENT
UID:ietf-75-1301-6lowpan
SUMMARY:6lowpan - IPv6 over Low power WPAN
LOCATION:Cabaret
STATUS:CONFIRMED
CLASS:PUBLIC
DTSTART;TZID=Europe/Stockholm:20090728T090000
DTEND;TZID=Europe/Stockholm:20090728T113000
DTSTAMP:20161222T095709Z
URL:https://datatracker.ietf.org/meeting/75/materials/agenda-75-6lowpan
DESCRIPTION:Morning Session I\n
 \n
 Agenda https://datatracker.ietf.org/meeting/75/materials/agenda-75-6lowpan\n
 \n
 Session materials: https://datatracker.ietf.org/meeting/75/session/6lowpan\n
 \n
 See in schedule: https://datatracker.ietf.org/meeting/75/agenda#row-75-2009-07-28-tue-0900-int-6lowpan\n
END:VEVENT
BEGIN:VEVENT
UID:ietf-75-1338-mif
SUMMARY:mif - Multiple Interfaces
LOCATION:Large Stage
STATUS:CONFIRMED
CLASS:PUBLIC
DTSTART;TZID=Europe/Stockholm:20090728T090000
DTEND;TZID=Europe/Stockholm:20090728T113000
DTSTAMP:20161222T095709Z
URL:https://datatracker.ietf.org/meeting/75/materials/agenda-75-mif
DESCRIPTION:Morning Session I\n
 \n
 Agenda https://datatracker.ietf.org/meeting/75/materials/agenda-75-mif\n
 \n
 Session materials: https://datatracker.ietf.org/meeting/75/session/mif\n
 \n
 See in schedule: https://datatracker.ietf.org/meeting/75/agenda#row-75-2009-07-28-tue-0900-int-mif\n
END:VEVENT
BEGIN:VEVENT
UID:ietf-75-1389-netext2
SUMMARY:netext2 - Network-Based Mobilty Extension, 2nd Stage
LOCATION:Congresshall A
STATUS:CONFIRMED
CLASS:PUBLIC
DTSTART;TZID=Europe/Stockholm:20090728T130000
DTEND;TZID=Europe/Stockholm:20090728T150000
DTSTAMP:20161222T095709Z
URL:https://datatracker.ietf.org/meeting/75/materials/agenda-75-netext2
DESCRIPTION:Afternoon Session I\n
 \n
 Agenda https://datatracker.ietf.org/meeting/75/materials/agenda-75-netext2\n
 \n
 Session materials: https://datatracker.ietf.org/meeting/75/session/netext2\n
 \n
 See in schedule: https://datatracker.ietf.org/meeting/75/agenda#row-75-2009-07-28-tue-1300-int-netext2\n
END:VEVENT
BEGIN:VEVENT
UID:ietf-75-1332-mext
SUMMARY:mext - Mobility EXTensions for IPv6
LOCATION:Congresshall A
STATUS:CONFIRMED
CLASS:PUBLIC
DTSTART;TZID=Europe/Stockholm:20090728T152000
DTEND;TZID=Europe/Stockholm:20090728T170000
DTSTAMP:20161222T095709Z
URL:https://datatracker.ietf.org/meeting/75/materials/agenda-75-mext
DESCRIPTION:Afternoon Session II\n
 \n
 Agenda https://datatracker.ietf.org/meeting/75/materials/agenda-75-mext\n
 \n
 Session materials: https://datatracker.ietf.org/meeting/75/session/mext\n
 \n
 See in schedule: https://datatracker.ietf.org/meeting/75/agenda#row-75-2009-07-28-tue-1520-int-mext\n
END:VEVENT
BEGIN:VEVENT
UID:ietf-75-1333-mext
SUMMARY:mext - Mobility EXTensions for IPv6
LOCATION:Congresshall A
STATUS:CONFIRMED
CLASS:PUBLIC
DTSTART;TZID=Europe/Stockholm:20090728T171000
DTEND;TZID=Europe/Stockholm:20090728T181000
DTSTAMP:20161222T095709Z
URL:https://datatracker.ietf.org/meeting/75/materials/agenda-75-mext
DESCRIPTION:Afternoon Session III\n
 \n
 Agenda https://datatracker.ietf.org/meeting/75/materials/agenda-75-mext\n
 \n
 Session materials: https://datatracker.ietf.org/meeting/75/session/mext\n
 \n
 See in schedule: https://datatracker.ietf.org/meeting/75/agenda#row-75-2009-07-28-tue-1710-int-mext\n
END:VEVENT
BEGIN:VEVENT
UID:ietf-75-1395-multimob
SUMMARY:multimob - Multicast Mobility (room changed from Congresshall B)
LOCATION:Room 307
STATUS:CONFIRMED
CLASS:PUBLIC
DTSTART;TZID=Europe/Stockholm:20090728T171000
DTEND;TZID=Europe/Stockholm:20090728T181000
DTSTAMP:20161222T095709Z
URL:https://datatracker.ietf.org/meeting/75/materials/agenda-75-multimob
DESCRIPTION:Afternoon Session III\n
 Note: room changed from Congresshall B\n
 \n
 Agenda https://datatracker.ietf.org/meeting/75/materials/agenda-75-multimob\n
 \n
 Session materials: https://datatracker.ietf.org/meeting/75/session/multimob\n
 \n
 See in schedule: https://datatracker.ietf.org/meeting/75/agenda#row-75-2009-07-28-tue-1710-int-multimob\n
END:VEVENT
BEGIN:VEVENT
UID:ietf-75-1385-softwire
SUMMARY:softwire - Softwires
LOCATION:Congresshall C
STATUS:CONFIRMED
CLASS:PUBLIC
DTSTART;TZID=Europe/Stockholm:20090729T090000
DTEND;TZID=Europe/Stockholm:20090729T113000
DTSTAMP:20161222T095709Z
URL:https://datatracker.ietf.org/meeting/75/materials/agenda-75-softwire
DESCRIPTION:Morning Session I\n
 \n
 Agenda https://datatracker.ietf.org/meeting/75/materials/agenda-75-softwire\n
 \n
 Session materials: https://datatracker.ietf.org/meeting/75/session/softwire\n
 \n
 See in schedule: https://datatracker.ietf.org/meeting/75/agenda#row-75-2009-07-29-wed-0900-int-softwire\n
END:VEVENT
BEGIN:VEVENT
UID:ietf-75-1315-6man
SUMMARY:6man - IPv6 Maintenance
LOCATION:Small Stage
STATUS:CONFIRMED
CLASS:PUBLIC
DTSTART;TZID=Europe/Stockholm:20090729T130000
DTEND;TZID=Europe/Stockholm:20090729T150000
DTSTAMP:20161222T095709Z
URL:https://datatracker.ietf.org/meeting/75/materials/agenda-75-6man
DESCRIPTION:Afternoon Session I\n
 \n
 Agenda https://datatracker.ietf.org/meeting/75/materials/agenda-75-6man\n
 \n
 Session materials: https://datatracker.ietf.org/meeting/75/session/6man\n
 \n
 See in schedule: https://datatracker.ietf.org/meeting/75/agenda#row-75-2009-07-29-wed-1300-int-6man\n
END:VEVENT
BEGIN:VEVENT
UID:ietf-75-1318-dnsext
SUMMARY:dnsext - DNS Extensions
LOCATION:Large Stage
STATUS:CONFIRMED
CLASS:PUBLIC
DTSTART;TZID=Europe/Stockholm:20090729T130000
DTEND;TZID=Europe/Stockholm:20090729T150000
DTSTAMP:20161222T095709Z
URL:https://datatracker.ietf.org/meeting/75/materials/agenda-75-dnsext
DESCRIPTION:Afternoon Session I\n
 \n
 Agenda https://datatracker.ietf.org/meeting/75/materials/agenda-75-dnsext\n
 \n
 Session materials: https://datatracker.ietf.org/meeting/75/session/dnsext\n
 \n
 See in schedule: https://datatracker.ietf.org/meeting/75/agenda#row-75-2009-07-29-wed-1300-int-dnsext\n
END:VEVENT
BEGIN:VEVENT
UID:ietf-75-1289-intarea
SUMMARY:intarea - Internet Area Working Group
LOCATION:Large Stage
STATUS:CONFIRMED
CLASS:PUBLIC
DTSTART;TZID=Europe/Stockholm:20090729T151000
DTEND;TZID=Europe/Stockholm:20090729T161000
DTSTAMP:20161222T095709Z
URL:https://datatracker.ietf.org/meeting/75/materials/agenda-75-intarea
DESCRIPTION:Afternoon Session II\n
 \n
 Agenda https://datatracker.ietf.org/meeting/75/materials/agenda-75-intarea\n
 \n
 Session materials: https://datatracker.ietf.org/meeting/75/session/intarea\n
 \n
 See in schedule: https://datatracker.ietf.org/meeting/75/agenda#row-75-2009-07-29-wed-1510-int-intarea\n
END:VEVENT
BEGIN:VEVENT
UID:ietf-75-1337-savi
SUMMARY:savi - Source Address Validation Improvements
LOCATION:Cabaret
STATUS:CONFIRMED
CLASS:PUBLIC
DTSTART;TZID=Europe/Stockholm:20090730T090000
DTEND;TZID=Europe/Stockholm:20090730T113000
DTSTAMP:20161222T095709Z
URL:https://datatracker.ietf.org/meeting/75/materials/agenda-75-savi
DESCRIPTION:Morning Session I\n
 \n
 Agenda https://datatracker.ietf.org/meeting/75/materials/agenda-75-savi\n
 \n
 Session materials: https://datatracker.ietf.org/meeting/75/session/savi\n
 \n
 See in schedule: https://datatracker.ietf.org/meeting/75/agenda#row-75-2009-07-30-thu-0900-int-savi\n
END:VEVENT
BEGIN:VEVENT
UID:ietf-75-1336-netext
SUMMARY:netext - Network-Based Mobility Extensions
LOCATION:Cabaret
STATUS:CONFIRMED
CLASS:PUBLIC
DTSTART;TZID=Europe/Stockholm:20090730T130000
DTEND;TZID=Europe/Stockholm:20090730T150000
DTSTAMP:20161222T095709Z
URL:https://datatracker.ietf.org/meeting/75/materials/agenda-75-netext
DESCRIPTION:Afternoon Session I\n
 \n
 Agenda https://datatracker.ietf.org/meeting/75/materials/agenda-75-netext\n
 \n
 Session materials: https://datatracker.ietf.org/meeting/75/session/netext\n
 \n
 See in schedule: https://datatracker.ietf.org/meeting/75/agenda#row-75-2009-07-30-thu-1300-int-netext\n
END:VEVENT
BEGIN:VEVENT
UID:ietf-75-1361-hip
SUMMARY:hip - Host Identity Protocol
LOCATION:Congresshall C
STATUS:CONFIRMED
CLASS:PUBLIC
DTSTART;TZID=Europe/Stockholm:20090730T151000
DTEND;TZID=Europe/Stockholm:20090730T161000
DTSTAMP:20161222T095709Z
URL:https://datatracker.ietf.org/meeting/75/materials/agenda-75-hip
DESCRIPTION:Afternoon Session II\n
 \n
 Agenda https://datatracker.ietf.org/meeting/75/materials/agenda-75-hip\n
 \n
 Session materials: https://datatracker.ietf.org/meeting/75/session/hip\n
 \n
 See in schedule: https://datatracker.ietf.org/meeting/75/agenda#row-75-2009-07-30-thu-1510-int-hip\n
END:VEVENT
BEGIN:VEVENT
UID:ietf-75-1283-dhc
SUMMARY:dhc - Dynamic Host Configuration
LOCATION:Small Stage
STATUS:CONFIRMED
CLASS:PUBLIC
DTSTART;TZID=Europe/Stockholm:20090731T090000
DTEND;TZID=Europe/Stockholm:20090731T113000
DTSTAMP:20161222T095709Z
URL:https://datatracker.ietf.org/meeting/75/materials/agenda-75-dhc
DESCRIPTION:Morning Session I\n
 \n
 Agenda https://datatracker.ietf.org/meeting/75/materials/agenda-75-dhc\n
 \n
 Session materials: https://datatracker.ietf.org/meeting/75/session/dhc\n
 \n
 See in schedule: https://datatracker.ietf.org/meeting/75/agenda#row-75-2009-07-31-fri-0900-int-dhc\n
END:VEVENT
END:VCALENDAR
