BEGIN:VCALENDAR
VERSION:2.0
METHOD:PUBLISH
PRODID:-//IETF//datatracker.ietf.org ical agenda//EN
BEGIN:VTIMEZONE
TZID:Europe/Stockholm
X-LIC-LOCATION:Europe/Stockholm
BEGIN:DAYLIGHT
TZOFFSETFROM:+0100
TZOFFSETTO:+0200
TZNAME:CEST
DTSTART:19810329T020000
RRULE:FREQ=YEARLY;BYMONTH=3;BYDAY=-1SU
END:DAYLIGHT
BEGIN:STANDARD
TZOFFSETFROM:+0200
TZOFFSETTO:+0100
TZNAME:CET
DTSTART:19961027T030000
RRULE:FREQ=YEARLY;BYMONTH=10;BYDAY=-1SU
END:STANDARD
BEGIN:STANDARD
TZOFFSETFROM:+011212
TZOFFSETTO:+010014
TZNAME:SET
DTSTART:18790101T000000
RDATE:18790101T000000
END:STANDARD
BEGIN:STANDARD
TZOFFSETFROM:+010014
TZOFFSETTO:+0100
TZNAME:CET
DTSTART:19000101T000000
RDATE:19000101T000000
END:STANDARD
BEGIN:DAYLIGHT
TZOFFSETFROM:+0100
TZOFFSETTO:+0200
TZNAME:CEST
DTSTART:19160514T230000
RDATE:19160514T230000
RDATE:19800406T020000
END:DAYLIGHT
BEGIN:STANDARD
TZOFFSETFROM:+0200
TZOFFSETTO:+0100
TZNAME:CET
DTSTART:19161001T010000
RDATE:19161001T010000
RDATE:19800928T030000
RDATE:19810927T030000
RDATE:19820926T030000
RDATE:19830925T030000
RDATE:19840930T030000
RDATE:19850929T030000
RDATE:19860928T030000
RDATE:19870927T030000
RDATE:19880925T030000
RDATE:19890924T030000
RDATE:19900930T030000
RDATE:19910929T030000
RDATE:19920927T030000
RDATE:19930926T030000
RDATE:19940925T030000
RDATE:19950924T030000
END:STANDARD
BEGIN:STANDARD
TZOFFSETFROM:+0100
TZOFFSETTO:+0100
TZNAME:CET
DTSTART:19800101T000000
RDATE:19800101T000000
END:STANDARD
END:VTIMEZONE
BEGIN:VEVENT
UID:ietf-75-1391-p2prg
SUMMARY:p2prg - Peer-to-Peer Research Group
LOCATION:Room 307
STATUS:CONFIRMED
CLASS:PUBLIC
DTSTART;TZID=Europe/Stockholm:20090728T090000
DTEND;TZID=Europe/Stockholm:20090728T113000
DTSTAMP:20161222T095709Z
URL:https://datatracker.ietf.org/meeting/75/materials/agenda-75-p2prg
DESCRIPTION:Morning Session I\n
 \n
 Agenda https://datatracker.ietf.org/meeting/75/materials/agenda-75-p2prg\n
 \n
 Session materials: https://datatracker.ietf.org/meeting/75/session/p2prg\n
 \n
 See in schedule: https://datatracker.ietf.org/meeting/75/agenda#row-75-2009-07-28-tue-0900-irtf-p2prg\n
END:VEVENT
BEGIN:VEVENT
UID:ietf-75-1317-hiprg
SUMMARY:hiprg - Host Identity Protocol
LOCATION:Room 307
STATUS:CONFIRMED
CLASS:PUBLIC
DTSTART;TZID=Europe/Stockholm:20090728T130000
DTEND;TZID=Europe/Stockholm:20090728T150000
DTSTAMP:20161222T095709Z
URL:https://datatracker.ietf.org/meeting/75/materials/agenda-75-hiprg
DESCRIPTION:Afternoon Session I\n
 \n
 Agenda https://datatracker.ietf.org/meeting/75/materials/agenda-75-hiprg\n
 \n
 Session materials: https://datatracker.ietf.org/meeting/75/session/hiprg\n
 \n
 See in schedule: https://datatracker.ietf.org/meeting/75/agenda#row-75-2009-07-28-tue-1300-irtf-hiprg\n
END:VEVENT
BEGIN:VEVENT
UID:ietf-75-1321-iccrg
SUMMARY:iccrg - Internet Congestion Control Research Group
LOCATION:Small Stage
STATUS:CONFIRMED
CLASS:PUBLIC
DTSTART;TZID=Europe/Stockholm:20090729T090000
DTEND;TZID=Europe/Stockholm:20090729T113000
DTSTAMP:20161222T095709Z
URL:https://datatracker.ietf.org/meeting/75/materials/agenda-75-iccrg
DESCRIPTION:Morning Session I\n
 \n
 Agenda https://datatracker.ietf.org/meeting/75/materials/agenda-75-iccrg\n
 \n
 Session materials: https://datatracker.ietf.org/meeting/75/session/iccrg\n
 \n
 See in schedule: https://datatracker.ietf.org/meeting/75/agenda#row-75-2009-07-29-wed-0900-irtf-iccrg\n
END:VEVENT
BEGIN:VEVENT
UID:ietf-75-1374-dtnrg
SUMMARY:dtnrg - Delay-Tolerant Networking Research Group (room changed from Cabaret)
LOCATION:Large Stage
STATUS:CONFIRMED
CLASS:PUBLIC
DTSTART;TZID=Europe/Stockholm:20090731T090000
DTEND;TZID=Europe/Stockholm:20090731T113000
DTSTAMP:20161222T095709Z
URL:https://datatracker.ietf.org/meeting/75/materials/agenda-75-dtnrg
DESCRIPTION:Morning Session I\n
 Note: room changed from Cabaret\n
 \n
 Agenda https://datatracker.ietf.org/meeting/75/materials/agenda-75-dtnrg\n
 \n
 Session materials: https://datatracker.ietf.org/meeting/75/session/dtnrg\n
 \n
 See in schedule: https://datatracker.ietf.org/meeting/75/agenda#row-75-2009-07-31-fri-0900-irtf-dtnrg\n
END:VEVENT
BEGIN:VEVENT
UID:ietf-75-1362-rrg
SUMMARY:rrg - Routing Research Group
LOCATION:Congresshall C
STATUS:CONFIRMED
CLASS:PUBLIC
DTSTART;TZID=Europe/Stockholm:20090731T090000
DTEND;TZID=Europe/Stockholm:20090731T113000
DTSTAMP:20161222T095709Z
URL:https://datatracker.ietf.org/meeting/75/materials/agenda-75-rrg
DESCRIPTION:Morning Session I\n
 \n
 Agenda https://datatracker.ietf.org/meeting/75/materials/agenda-75-rrg\n
 \n
 Session materials: https://datatracker.ietf.org/meeting/75/session/rrg\n
 \n
 See in schedule: https://datatracker.ietf.org/meeting/75/agenda#row-75-2009-07-31-fri-0900-irtf-rrg\n
END:VEVENT
BEGIN:VEVENT
UID:ietf-75-1363-rrg
SUMMARY:rrg - Routing Research Group
LOCATION:Congresshall C
STATUS:CONFIRMED
CLASS:PUBLIC
DTSTART;TZID=Europe/Stockholm:20090731T130000
DTEND;TZID=Europe/Stockholm:20090731T140000
DTSTAMP:20161222T095709Z
URL:https://datatracker.ietf.org/meeting/75/materials/agenda-75-rrg
DESCRIPTION:Afternoon Session I\n
 \n
 Agenda https://datatracker.ietf.org/meeting/75/materials/agenda-75-rrg\n
 \n
 Session materials: https://datatracker.ietf.org/meeting/75/session/rrg\n
 \n
 See in schedule: https://datatracker.ietf.org/meeting/75/agenda#row-75-2009-07-31-fri-1300-irtf-rrg\n
END:VEVENT
BEGIN:VEVENT
UID:ietf-75-1364-rrg
SUMMARY:rrg - Routing Research Group
LOCATION:Congresshall C
STATUS:CONFIRMED
CLASS:PUBLIC
DTSTART;TZID=Europe/Stockholm:20090731T141500
DTEND;TZID=Europe/Stockholm:20090731T151500
DTSTAMP:20161222T095709Z
URL:https://datatracker.ietf.org/meeting/75/materials/agenda-75-rrg
DESCRIPTION:Afternoon Session II\n
 \n
 Agenda https://datatracker.ietf.org/meeting/75/materials/agenda-75-rrg\n
 \n
 Session materials: https://datatracker.ietf.org/meeting/75/session/rrg\n
 \n
 See in schedule: https://datatracker.ietf.org/meeting/75/agenda#row-75-2009-07-31-fri-1415-irtf-rrg\n
END:VEVENT
END:VCALENDAR
