BEGIN:VCALENDAR
VERSION:2.0
METHOD:PUBLISH
PRODID:-//IETF//datatracker.ietf.org ical agenda//EN
BEGIN:VTIMEZONE
TZID:Europe/Stockholm
X-LIC-LOCATION:Europe/Stockholm
BEGIN:DAYLIGHT
TZOFFSETFROM:+0100
TZOFFSETTO:+0200
TZNAME:CEST
DTSTART:19810329T020000
RRULE:FREQ=YEARLY;BYMONTH=3;BYDAY=-1SU
END:DAYLIGHT
BEGIN:STANDARD
TZOFFSETFROM:+0200
TZOFFSETTO:+0100
TZNAME:CET
DTSTART:19961027T030000
RRULE:FREQ=YEARLY;BYMONTH=10;BYDAY=-1SU
END:STANDARD
BEGIN:STANDARD
TZOFFSETFROM:+011212
TZOFFSETTO:+010014
TZNAME:SET
DTSTART:18790101T000000
RDATE:18790101T000000
END:STANDARD
BEGIN:STANDARD
TZOFFSETFROM:+010014
TZOFFSETTO:+0100
TZNAME:CET
DTSTART:19000101T000000
RDATE:19000101T000000
END:STANDARD
BEGIN:DAYLIGHT
TZOFFSETFROM:+0100
TZOFFSETTO:+0200
TZNAME:CEST
DTSTART:19160514T230000
RDATE:19160514T230000
RDATE:19800406T020000
END:DAYLIGHT
BEGIN:STANDARD
TZOFFSETFROM:+0200
TZOFFSETTO:+0100
TZNAME:CET
DTSTART:19161001T010000
RDATE:19161001T010000
RDATE:19800928T030000
RDATE:19810927T030000
RDATE:19820926T030000
RDATE:19830925T030000
RDATE:19840930T030000
RDATE:19850929T030000
RDATE:19860928T030000
RDATE:19870927T030000
RDATE:19880925T030000
RDATE:19890924T030000
RDATE:19900930T030000
RDATE:19910929T030000
RDATE:19920927T030000
RDATE:19930926T030000
RDATE:19940925T030000
RDATE:19950924T030000
END:STANDARD
BEGIN:STANDARD
TZOFFSETFROM:+0100
TZOFFSETTO:+0100
TZNAME:CET
DTSTART:19800101T000000
RDATE:19800101T000000
END:STANDARD
END:VTIMEZONE
BEGIN:VEVENT
UID:ietf-75-1286-avt
SUMMARY:avt - Audio/Video Transport
LOCATION:Congresshall C
STATUS:CONFIRMED
CLASS:PUBLIC
DTSTART;TZID=Europe/Stockholm:20090727T090000
DTEND;TZID=Europe/Stockholm:20090727T113000
DTSTAMP:20161222T095709Z
URL:https://datatracker.ietf.org/meeting/75/materials/agenda-75-avt
DESCRIPTION:Morning Session I\n
 \n
 Agenda https://datatracker.ietf.org/meeting/75/materials/agenda-75-avt\n
 \n
 Session materials: https://datatracker.ietf.org/meeting/75/session/avt\n
 \n
 See in schedule: https://datatracker.ietf.org/meeting/75/agenda#row-75-2009-07-27-mon-0900-rai-avt\n
END:VEVENT
BEGIN:VEVENT
UID:ietf-75-1276-geopriv
SUMMARY:geopriv - Geographic Location/Privacy
LOCATION:Large Stage
STATUS:CONFIRMED
CLASS:PUBLIC
DTSTART;TZID=Europe/Stockholm:20090727T130000
DTEND;TZID=Europe/Stockholm:20090727T150000
DTSTAMP:20161222T095709Z
URL:https://datatracker.ietf.org/meeting/75/materials/agenda-75-geopriv
DESCRIPTION:Afternoon Session I\n
 \n
 Agenda https://datatracker.ietf.org/meeting/75/materials/agenda-75-geopriv\n
 \n
 Session materials: https://datatracker.ietf.org/meeting/75/session/geopriv\n
 \n
 See in schedule: https://datatracker.ietf.org/meeting/75/agenda#row-75-2009-07-27-mon-1300-rai-geopriv\n
END:VEVENT
BEGIN:VEVENT
UID:ietf-75-1293-drinks
SUMMARY:drinks - Data for Reachability of Inter/tra-NetworK SIP
LOCATION:Congresshall A
STATUS:CONFIRMED
CLASS:PUBLIC
DTSTART;TZID=Europe/Stockholm:20090727T152000
DTEND;TZID=Europe/Stockholm:20090727T172000
DTSTAMP:20161222T095709Z
URL:https://datatracker.ietf.org/meeting/75/materials/agenda-75-drinks
DESCRIPTION:Afternoon Session II\n
 \n
 Agenda https://datatracker.ietf.org/meeting/75/materials/agenda-75-drinks\n
 \n
 Session materials: https://datatracker.ietf.org/meeting/75/session/drinks\n
 \n
 See in schedule: https://datatracker.ietf.org/meeting/75/agenda#row-75-2009-07-27-mon-1520-rai-drinks\n
END:VEVENT
BEGIN:VEVENT
UID:ietf-75-1316-dispatch
SUMMARY:dispatch - Dispatch (room changed from Congresshall B)
LOCATION:Large Stage
STATUS:CONFIRMED
CLASS:PUBLIC
DTSTART;TZID=Europe/Stockholm:20090727T174000
DTEND;TZID=Europe/Stockholm:20090727T194000
DTSTAMP:20161222T095709Z
URL:https://datatracker.ietf.org/meeting/75/materials/agenda-75-dispatch
DESCRIPTION:Afternoon Session III\n
 Note: room changed from Congresshall B\n
 \n
 Agenda https://datatracker.ietf.org/meeting/75/materials/agenda-75-dispatch\n
 \n
 Session materials: https://datatracker.ietf.org/meeting/75/session/dispatch\n
 \n
 See in schedule: https://datatracker.ietf.org/meeting/75/agenda#row-75-2009-07-27-mon-1740-rai-dispatch\n
END:VEVENT
BEGIN:VEVENT
UID:ietf-75-1403-xmpp
SUMMARY:xmpp - Extensible Messaging and Presence Protocol
LOCATION:Congresshall A
STATUS:CONFIRMED
CLASS:PUBLIC
DTSTART;TZID=Europe/Stockholm:20090728T090000
DTEND;TZID=Europe/Stockholm:20090728T113000
DTSTAMP:20161222T095709Z
URL:https://datatracker.ietf.org/meeting/75/materials/agenda-75-xmpp
DESCRIPTION:Morning Session I\n
 \n
 Agenda https://datatracker.ietf.org/meeting/75/materials/agenda-75-xmpp\n
 \n
 Session materials: https://datatracker.ietf.org/meeting/75/session/xmpp\n
 \n
 See in schedule: https://datatracker.ietf.org/meeting/75/agenda#row-75-2009-07-28-tue-0900-rai-xmpp\n
END:VEVENT
BEGIN:VEVENT
UID:ietf-75-1298-bliss
SUMMARY:bliss - Basic Level of Interoperability for SIP Services
LOCATION:Congresshall B
STATUS:CONFIRMED
CLASS:PUBLIC
DTSTART;TZID=Europe/Stockholm:20090728T130000
DTEND;TZID=Europe/Stockholm:20090728T150000
DTSTAMP:20161222T095709Z
URL:https://datatracker.ietf.org/meeting/75/materials/agenda-75-bliss
DESCRIPTION:Afternoon Session I\n
 \n
 Agenda https://datatracker.ietf.org/meeting/75/materials/agenda-75-bliss\n
 \n
 Session materials: https://datatracker.ietf.org/meeting/75/session/bliss\n
 \n
 See in schedule: https://datatracker.ietf.org/meeting/75/agenda#row-75-2009-07-28-tue-1300-rai-bliss\n
END:VEVENT
BEGIN:VEVENT
UID:ietf-75-1327-p2psip
SUMMARY:p2psip - Peer-to-Peer Session Initiation Protocol (room changed from Large Stage)
LOCATION:Congresshall B
STATUS:CONFIRMED
CLASS:PUBLIC
DTSTART;TZID=Europe/Stockholm:20090728T152000
DTEND;TZID=Europe/Stockholm:20090728T170000
DTSTAMP:20161222T095709Z
URL:https://datatracker.ietf.org/meeting/75/materials/agenda-75-p2psip
DESCRIPTION:Afternoon Session II\n
 Note: room changed from Large Stage\n
 \n
 Agenda https://datatracker.ietf.org/meeting/75/materials/agenda-75-p2psip\n
 \n
 Session materials: https://datatracker.ietf.org/meeting/75/session/p2psip\n
 \n
 See in schedule: https://datatracker.ietf.org/meeting/75/agenda#row-75-2009-07-28-tue-1520-rai-p2psip\n
END:VEVENT
BEGIN:VEVENT
UID:ietf-75-1328-p2psip
SUMMARY:p2psip - Peer-to-Peer Session Initiation Protocol (room changed from Large Stage)
LOCATION:Congresshall B
STATUS:CONFIRMED
CLASS:PUBLIC
DTSTART;TZID=Europe/Stockholm:20090728T171000
DTEND;TZID=Europe/Stockholm:20090728T181000
DTSTAMP:20161222T095709Z
URL:https://datatracker.ietf.org/meeting/75/materials/agenda-75-p2psip
DESCRIPTION:Afternoon Session III\n
 Note: room changed from Large Stage\n
 \n
 Agenda https://datatracker.ietf.org/meeting/75/materials/agenda-75-p2psip\n
 \n
 Session materials: https://datatracker.ietf.org/meeting/75/session/p2psip\n
 \n
 See in schedule: https://datatracker.ietf.org/meeting/75/agenda#row-75-2009-07-28-tue-1710-rai-p2psip\n
END:VEVENT
BEGIN:VEVENT
UID:ietf-75-1346-ecrit
SUMMARY:ecrit - Emergency Context Resolution with Internet Technologies
LOCATION:Congresshall B
STATUS:CONFIRMED
CLASS:PUBLIC
DTSTART;TZID=Europe/Stockholm:20090729T090000
DTEND;TZID=Europe/Stockholm:20090729T113000
DTSTAMP:20161222T095709Z
URL:https://datatracker.ietf.org/meeting/75/materials/agenda-75-ecrit
DESCRIPTION:Morning Session I\n
 \n
 Agenda https://datatracker.ietf.org/meeting/75/materials/agenda-75-ecrit\n
 \n
 Session materials: https://datatracker.ietf.org/meeting/75/session/ecrit\n
 \n
 See in schedule: https://datatracker.ietf.org/meeting/75/agenda#row-75-2009-07-29-wed-0900-rai-ecrit\n
END:VEVENT
BEGIN:VEVENT
UID:ietf-75-1305-simple
SUMMARY:simple - SIP for Instant Messaging and Presence Leveraging Extensions
LOCATION:Room 307
STATUS:CONFIRMED
CLASS:PUBLIC
DTSTART;TZID=Europe/Stockholm:20090729T151000
DTEND;TZID=Europe/Stockholm:20090729T161000
DTSTAMP:20161222T095709Z
URL:https://datatracker.ietf.org/meeting/75/materials/agenda-75-simple
DESCRIPTION:Afternoon Session II\n
 \n
 Agenda https://datatracker.ietf.org/meeting/75/materials/agenda-75-simple\n
 \n
 Session materials: https://datatracker.ietf.org/meeting/75/session/simple\n
 \n
 See in schedule: https://datatracker.ietf.org/meeting/75/agenda#row-75-2009-07-29-wed-1510-rai-simple\n
END:VEVENT
BEGIN:VEVENT
UID:ietf-75-1347-mmusic
SUMMARY:mmusic - Multiparty Multimedia Session Control
LOCATION:Congresshall C
STATUS:CONFIRMED
CLASS:PUBLIC
DTSTART;TZID=Europe/Stockholm:20090730T090000
DTEND;TZID=Europe/Stockholm:20090730T113000
DTSTAMP:20161222T095709Z
URL:https://datatracker.ietf.org/meeting/75/materials/agenda-75-mmusic
DESCRIPTION:Morning Session I\n
 \n
 Agenda https://datatracker.ietf.org/meeting/75/materials/agenda-75-mmusic\n
 \n
 Session materials: https://datatracker.ietf.org/meeting/75/session/mmusic\n
 \n
 See in schedule: https://datatracker.ietf.org/meeting/75/agenda#row-75-2009-07-30-thu-0900-rai-mmusic\n
END:VEVENT
BEGIN:VEVENT
UID:ietf-75-1290-mediactrl
SUMMARY:mediactrl - Media Server Control
LOCATION:Room 307
STATUS:CONFIRMED
CLASS:PUBLIC
DTSTART;TZID=Europe/Stockholm:20090730T090000
DTEND;TZID=Europe/Stockholm:20090730T113000
DTSTAMP:20161222T095709Z
URL:https://datatracker.ietf.org/meeting/75/materials/agenda-75-mediactrl
DESCRIPTION:Morning Session I\n
 \n
 Agenda https://datatracker.ietf.org/meeting/75/materials/agenda-75-mediactrl\n
 \n
 Session materials: https://datatracker.ietf.org/meeting/75/session/mediactrl\n
 \n
 See in schedule: https://datatracker.ietf.org/meeting/75/agenda#row-75-2009-07-30-thu-0900-rai-mediactrl\n
END:VEVENT
BEGIN:VEVENT
UID:ietf-75-1393-codec
SUMMARY:codec - Internet Wideband Audio Codec
LOCATION:Congresshall C
STATUS:CONFIRMED
CLASS:PUBLIC
DTSTART;TZID=Europe/Stockholm:20090730T130000
DTEND;TZID=Europe/Stockholm:20090730T150000
DTSTAMP:20161222T095709Z
URL:https://datatracker.ietf.org/meeting/75/materials/agenda-75-codec
DESCRIPTION:Afternoon Session I\n
 \n
 Agenda https://datatracker.ietf.org/meeting/75/materials/agenda-75-codec\n
 \n
 Session materials: https://datatracker.ietf.org/meeting/75/session/codec\n
 \n
 See in schedule: https://datatracker.ietf.org/meeting/75/agenda#row-75-2009-07-30-thu-1300-rai-codec\n
END:VEVENT
BEGIN:VEVENT
UID:ietf-75-1295-sipcore
SUMMARY:sipcore - Session Initiation Protocol Core
LOCATION:Congresshall A
STATUS:CONFIRMED
CLASS:PUBLIC
DTSTART;TZID=Europe/Stockholm:20090731T090000
DTEND;TZID=Europe/Stockholm:20090731T113000
DTSTAMP:20161222T095709Z
URL:https://datatracker.ietf.org/meeting/75/materials/agenda-75-sipcore
DESCRIPTION:Morning Session I\n
 \n
 Agenda https://datatracker.ietf.org/meeting/75/materials/agenda-75-sipcore\n
 \n
 Session materials: https://datatracker.ietf.org/meeting/75/session/sipcore\n
 \n
 See in schedule: https://datatracker.ietf.org/meeting/75/agenda#row-75-2009-07-31-fri-0900-rai-sipcore\n
END:VEVENT
BEGIN:VEVENT
UID:ietf-75-1329-speermint
SUMMARY:speermint - Session PEERing for Multimedia INTerconnect
LOCATION:Large Stage
STATUS:CONFIRMED
CLASS:PUBLIC
DTSTART;TZID=Europe/Stockholm:20090731T130000
DTEND;TZID=Europe/Stockholm:20090731T140000
DTSTAMP:20161222T095709Z
URL:https://datatracker.ietf.org/meeting/75/materials/agenda-75-speermint
DESCRIPTION:Afternoon Session I\n
 \n
 Agenda https://datatracker.ietf.org/meeting/75/materials/agenda-75-speermint\n
 \n
 Session materials: https://datatracker.ietf.org/meeting/75/session/speermint\n
 \n
 See in schedule: https://datatracker.ietf.org/meeting/75/agenda#row-75-2009-07-31-fri-1300-rai-speermint\n
END:VEVENT
BEGIN:VEVENT
UID:ietf-75-1285-xcon
SUMMARY:xcon - Centralized Conferencing (room changed from Cabaret)
LOCATION:Small Stage
STATUS:CONFIRMED
CLASS:PUBLIC
DTSTART;TZID=Europe/Stockholm:20090731T130000
DTEND;TZID=Europe/Stockholm:20090731T140000
DTSTAMP:20161222T095709Z
URL:https://datatracker.ietf.org/meeting/75/materials/agenda-75-xcon
DESCRIPTION:Afternoon Session I\n
 Note: room changed from Cabaret\n
 \n
 Agenda https://datatracker.ietf.org/meeting/75/materials/agenda-75-xcon\n
 \n
 Session materials: https://datatracker.ietf.org/meeting/75/session/xcon\n
 \n
 See in schedule: https://datatracker.ietf.org/meeting/75/agenda#row-75-2009-07-31-fri-1300-rai-xcon\n
END:VEVENT
BEGIN:VEVENT
UID:ietf-75-1287-avt
SUMMARY:avt - Audio/Video Transport
LOCATION:Room 307
STATUS:CONFIRMED
CLASS:PUBLIC
DTSTART;TZID=Europe/Stockholm:20090731T141500
DTEND;TZID=Europe/Stockholm:20090731T151500
DTSTAMP:20161222T095709Z
URL:https://datatracker.ietf.org/meeting/75/materials/agenda-75-avt
DESCRIPTION:Afternoon Session II\n
 \n
 Agenda https://datatracker.ietf.org/meeting/75/materials/agenda-75-avt\n
 \n
 Session materials: https://datatracker.ietf.org/meeting/75/session/avt\n
 \n
 See in schedule: https://datatracker.ietf.org/meeting/75/agenda#row-75-2009-07-31-fri-1415-rai-avt\n
END:VEVENT
BEGIN:VEVENT
UID:ietf-75-1330-speermint
SUMMARY:speermint - Session PEERing for Multimedia INTerconnect
LOCATION:Large Stage
STATUS:CONFIRMED
CLASS:PUBLIC
DTSTART;TZID=Europe/Stockholm:20090731T141500
DTEND;TZID=Europe/Stockholm:20090731T151500
DTSTAMP:20161222T095709Z
URL:https://datatracker.ietf.org/meeting/75/materials/agenda-75-speermint
DESCRIPTION:Afternoon Session II\n
 \n
 Agenda https://datatracker.ietf.org/meeting/75/materials/agenda-75-speermint\n
 \n
 Session materials: https://datatracker.ietf.org/meeting/75/session/speermint\n
 \n
 See in schedule: https://datatracker.ietf.org/meeting/75/agenda#row-75-2009-07-31-fri-1415-rai-speermint\n
END:VEVENT
END:VCALENDAR
