BEGIN:VCALENDAR
VERSION:2.0
METHOD:PUBLISH
PRODID:-//IETF//datatracker.ietf.org ical agenda//EN
BEGIN:VTIMEZONE
TZID:Europe/Stockholm
X-LIC-LOCATION:Europe/Stockholm
BEGIN:DAYLIGHT
TZOFFSETFROM:+0100
TZOFFSETTO:+0200
TZNAME:CEST
DTSTART:19810329T020000
RRULE:FREQ=YEARLY;BYMONTH=3;BYDAY=-1SU
END:DAYLIGHT
BEGIN:STANDARD
TZOFFSETFROM:+0200
TZOFFSETTO:+0100
TZNAME:CET
DTSTART:19961027T030000
RRULE:FREQ=YEARLY;BYMONTH=10;BYDAY=-1SU
END:STANDARD
BEGIN:STANDARD
TZOFFSETFROM:+011212
TZOFFSETTO:+010014
TZNAME:SET
DTSTART:18790101T000000
RDATE:18790101T000000
END:STANDARD
BEGIN:STANDARD
TZOFFSETFROM:+010014
TZOFFSETTO:+0100
TZNAME:CET
DTSTART:19000101T000000
RDATE:19000101T000000
END:STANDARD
BEGIN:DAYLIGHT
TZOFFSETFROM:+0100
TZOFFSETTO:+0200
TZNAME:CEST
DTSTART:19160514T230000
RDATE:19160514T230000
RDATE:19800406T020000
END:DAYLIGHT
BEGIN:STANDARD
TZOFFSETFROM:+0200
TZOFFSETTO:+0100
TZNAME:CET
DTSTART:19161001T010000
RDATE:19161001T010000
RDATE:19800928T030000
RDATE:19810927T030000
RDATE:19820926T030000
RDATE:19830925T030000
RDATE:19840930T030000
RDATE:19850929T030000
RDATE:19860928T030000
RDATE:19870927T030000
RDATE:19880925T030000
RDATE:19890924T030000
RDATE:19900930T030000
RDATE:19910929T030000
RDATE:19920927T030000
RDATE:19930926T030000
RDATE:19940925T030000
RDATE:19950924T030000
END:STANDARD
BEGIN:STANDARD
TZOFFSETFROM:+0100
TZOFFSETTO:+0100
TZNAME:CET
DTSTART:19800101T000000
RDATE:19800101T000000
END:STANDARD
END:VTIMEZONE
BEGIN:VEVENT
UID:ietf-75-1358-mpls
SUMMARY:mpls - Multiprotocol Label Switching
LOCATION:Congresshall B
STATUS:CONFIRMED
CLASS:PUBLIC
DTSTART;TZID=Europe/Stockholm:20090727T090000
DTEND;TZID=Europe/Stockholm:20090727T113000
DTSTAMP:20161222T095709Z
URL:https://datatracker.ietf.org/meeting/75/materials/agenda-75-mpls
DESCRIPTION:Morning Session I\n
 \n
 Agenda https://datatracker.ietf.org/meeting/75/materials/agenda-75-mpls\n
 \n
 Session materials: https://datatracker.ietf.org/meeting/75/session/mpls\n
 \n
 See in schedule: https://datatracker.ietf.org/meeting/75/agenda#row-75-2009-07-27-mon-0900-rtg-mpls\n
END:VEVENT
BEGIN:VEVENT
UID:ietf-75-1282-rtgarea
SUMMARY:rtgarea - Routing Area Open Meeting
LOCATION:Congresshall A
STATUS:CONFIRMED
CLASS:PUBLIC
DTSTART;TZID=Europe/Stockholm:20090727T130000
DTEND;TZID=Europe/Stockholm:20090727T150000
DTSTAMP:20161222T095709Z
URL:https://datatracker.ietf.org/meeting/75/materials/agenda-75-rtgarea
DESCRIPTION:Afternoon Session I\n
 \n
 Agenda https://datatracker.ietf.org/meeting/75/materials/agenda-75-rtgarea\n
 \n
 Session materials: https://datatracker.ietf.org/meeting/75/session/rtgarea\n
 \n
 See in schedule: https://datatracker.ietf.org/meeting/75/agenda#row-75-2009-07-27-mon-1300-rtg-rtgarea\n
END:VEVENT
BEGIN:VEVENT
UID:ietf-75-1340-pwe3
SUMMARY:pwe3 - Pseudowire Emulation Edge to Edge
LOCATION:Congresshall C
STATUS:CONFIRMED
CLASS:PUBLIC
DTSTART;TZID=Europe/Stockholm:20090727T152000
DTEND;TZID=Europe/Stockholm:20090727T172000
DTSTAMP:20161222T095709Z
URL:https://datatracker.ietf.org/meeting/75/materials/agenda-75-pwe3
DESCRIPTION:Afternoon Session II\n
 \n
 Agenda https://datatracker.ietf.org/meeting/75/materials/agenda-75-pwe3\n
 \n
 Session materials: https://datatracker.ietf.org/meeting/75/session/pwe3\n
 \n
 See in schedule: https://datatracker.ietf.org/meeting/75/agenda#row-75-2009-07-27-mon-1520-rtg-pwe3\n
END:VEVENT
BEGIN:VEVENT
UID:ietf-75-1308-pce
SUMMARY:pce - Path Computation Element
LOCATION:Small Stage
STATUS:CONFIRMED
CLASS:PUBLIC
DTSTART;TZID=Europe/Stockholm:20090727T174000
DTEND;TZID=Europe/Stockholm:20090727T194000
DTSTAMP:20161222T095709Z
URL:https://datatracker.ietf.org/meeting/75/materials/agenda-75-pce
DESCRIPTION:Afternoon Session III\n
 \n
 Agenda https://datatracker.ietf.org/meeting/75/materials/agenda-75-pce\n
 \n
 Session materials: https://datatracker.ietf.org/meeting/75/session/pce\n
 \n
 See in schedule: https://datatracker.ietf.org/meeting/75/agenda#row-75-2009-07-27-mon-1740-rtg-pce\n
END:VEVENT
BEGIN:VEVENT
UID:ietf-75-1280-ccamp
SUMMARY:ccamp - Common Control and Measurement Plane (Friday session Canceled)
LOCATION:Congresshall B
STATUS:CONFIRMED
CLASS:PUBLIC
DTSTART;TZID=Europe/Stockholm:20090728T090000
DTEND;TZID=Europe/Stockholm:20090728T113000
DTSTAMP:20161222T095709Z
URL:https://datatracker.ietf.org/meeting/75/materials/agenda-75-ccamp
DESCRIPTION:Morning Session I\n
 Note: Friday session Canceled\n
 \n
 Agenda https://datatracker.ietf.org/meeting/75/materials/agenda-75-ccamp\n
 \n
 Session materials: https://datatracker.ietf.org/meeting/75/session/ccamp\n
 \n
 See in schedule: https://datatracker.ietf.org/meeting/75/agenda#row-75-2009-07-28-tue-0900-rtg-ccamp\n
END:VEVENT
BEGIN:VEVENT
UID:ietf-75-1292-forces
SUMMARY:forces - Forwarding and Control Element Separation (room changed from Congresshall B)
LOCATION:Room 307
STATUS:CONFIRMED
CLASS:PUBLIC
DTSTART;TZID=Europe/Stockholm:20090728T152000
DTEND;TZID=Europe/Stockholm:20090728T170000
DTSTAMP:20161222T095709Z
URL:https://datatracker.ietf.org/meeting/75/materials/agenda-75-forces
DESCRIPTION:Afternoon Session II\n
 Note: room changed from Congresshall B\n
 \n
 Agenda https://datatracker.ietf.org/meeting/75/materials/agenda-75-forces\n
 \n
 Session materials: https://datatracker.ietf.org/meeting/75/session/forces\n
 \n
 See in schedule: https://datatracker.ietf.org/meeting/75/agenda#row-75-2009-07-28-tue-1520-rtg-forces\n
END:VEVENT
BEGIN:VEVENT
UID:ietf-75-1306-roll
SUMMARY:roll - Routing Over Low power and Lossy networks
LOCATION:Congresshall C
STATUS:CONFIRMED
CLASS:PUBLIC
DTSTART;TZID=Europe/Stockholm:20090728T152000
DTEND;TZID=Europe/Stockholm:20090728T170000
DTSTAMP:20161222T095709Z
URL:https://datatracker.ietf.org/meeting/75/materials/agenda-75-roll
DESCRIPTION:Afternoon Session II\n
 \n
 Agenda https://datatracker.ietf.org/meeting/75/materials/agenda-75-roll\n
 \n
 Session materials: https://datatracker.ietf.org/meeting/75/session/roll\n
 \n
 See in schedule: https://datatracker.ietf.org/meeting/75/agenda#row-75-2009-07-28-tue-1520-rtg-roll\n
END:VEVENT
BEGIN:VEVENT
UID:ietf-75-1307-roll
SUMMARY:roll - Routing Over Low power and Lossy networks
LOCATION:Congresshall C
STATUS:CONFIRMED
CLASS:PUBLIC
DTSTART;TZID=Europe/Stockholm:20090728T171000
DTEND;TZID=Europe/Stockholm:20090728T181000
DTSTAMP:20161222T095709Z
URL:https://datatracker.ietf.org/meeting/75/materials/agenda-75-roll
DESCRIPTION:Afternoon Session III\n
 \n
 Agenda https://datatracker.ietf.org/meeting/75/materials/agenda-75-roll\n
 \n
 Session materials: https://datatracker.ietf.org/meeting/75/session/roll\n
 \n
 See in schedule: https://datatracker.ietf.org/meeting/75/agenda#row-75-2009-07-28-tue-1710-rtg-roll\n
END:VEVENT
BEGIN:VEVENT
UID:ietf-75-1310-l3vpn
SUMMARY:l3vpn - Layer 3 Virtual Private Networks
LOCATION:Congresshall A
STATUS:CONFIRMED
CLASS:PUBLIC
DTSTART;TZID=Europe/Stockholm:20090729T090000
DTEND;TZID=Europe/Stockholm:20090729T113000
DTSTAMP:20161222T095709Z
URL:https://datatracker.ietf.org/meeting/75/materials/agenda-75-l3vpn
DESCRIPTION:Morning Session I\n
 \n
 Agenda https://datatracker.ietf.org/meeting/75/materials/agenda-75-l3vpn\n
 \n
 Session materials: https://datatracker.ietf.org/meeting/75/session/l3vpn\n
 \n
 See in schedule: https://datatracker.ietf.org/meeting/75/agenda#row-75-2009-07-29-wed-0900-rtg-l3vpn\n
END:VEVENT
BEGIN:VEVENT
UID:ietf-75-1309-manet
SUMMARY:manet - Mobile Ad-hoc Networks
LOCATION:Large Stage
STATUS:CONFIRMED
CLASS:PUBLIC
DTSTART;TZID=Europe/Stockholm:20090729T090000
DTEND;TZID=Europe/Stockholm:20090729T113000
DTSTAMP:20161222T095709Z
URL:https://datatracker.ietf.org/meeting/75/materials/agenda-75-manet
DESCRIPTION:Morning Session I\n
 \n
 Agenda https://datatracker.ietf.org/meeting/75/materials/agenda-75-manet\n
 \n
 Session materials: https://datatracker.ietf.org/meeting/75/session/manet\n
 \n
 See in schedule: https://datatracker.ietf.org/meeting/75/agenda#row-75-2009-07-29-wed-0900-rtg-manet\n
END:VEVENT
BEGIN:VEVENT
UID:ietf-75-1359-mpls
SUMMARY:mpls - Multiprotocol Label Switching
LOCATION:Congresshall C
STATUS:CONFIRMED
CLASS:PUBLIC
DTSTART;TZID=Europe/Stockholm:20090729T130000
DTEND;TZID=Europe/Stockholm:20090729T150000
DTSTAMP:20161222T095709Z
URL:https://datatracker.ietf.org/meeting/75/materials/agenda-75-mpls
DESCRIPTION:Afternoon Session I\n
 \n
 Agenda https://datatracker.ietf.org/meeting/75/materials/agenda-75-mpls\n
 \n
 Session materials: https://datatracker.ietf.org/meeting/75/session/mpls\n
 \n
 See in schedule: https://datatracker.ietf.org/meeting/75/agenda#row-75-2009-07-29-wed-1300-rtg-mpls\n
END:VEVENT
BEGIN:VEVENT
UID:ietf-75-1386-rtgwg
SUMMARY:rtgwg - Routing Area Working Group
LOCATION:Cabaret
STATUS:CONFIRMED
CLASS:PUBLIC
DTSTART;TZID=Europe/Stockholm:20090729T130000
DTEND;TZID=Europe/Stockholm:20090729T150000
DTSTAMP:20161222T095709Z
URL:https://datatracker.ietf.org/meeting/75/materials/agenda-75-rtgwg
DESCRIPTION:Afternoon Session I\n
 \n
 Agenda https://datatracker.ietf.org/meeting/75/materials/agenda-75-rtgwg\n
 \n
 Session materials: https://datatracker.ietf.org/meeting/75/session/rtgwg\n
 \n
 See in schedule: https://datatracker.ietf.org/meeting/75/agenda#row-75-2009-07-29-wed-1300-rtg-rtgwg\n
END:VEVENT
BEGIN:VEVENT
UID:ietf-75-1299-isis
SUMMARY:isis - IS-IS for IP Internets
LOCATION:Cabaret
STATUS:CONFIRMED
CLASS:PUBLIC
DTSTART;TZID=Europe/Stockholm:20090729T151000
DTEND;TZID=Europe/Stockholm:20090729T161000
DTSTAMP:20161222T095709Z
URL:https://datatracker.ietf.org/meeting/75/materials/agenda-75-isis
DESCRIPTION:Afternoon Session II\n
 \n
 Agenda https://datatracker.ietf.org/meeting/75/materials/agenda-75-isis\n
 \n
 Session materials: https://datatracker.ietf.org/meeting/75/session/isis\n
 \n
 See in schedule: https://datatracker.ietf.org/meeting/75/agenda#row-75-2009-07-29-wed-1510-rtg-isis\n
END:VEVENT
BEGIN:VEVENT
UID:ietf-75-1360-mpls
SUMMARY:mpls - Multiprotocol Label Switching
LOCATION:Congresshall C
STATUS:CONFIRMED
CLASS:PUBLIC
DTSTART;TZID=Europe/Stockholm:20090729T151000
DTEND;TZID=Europe/Stockholm:20090729T161000
DTSTAMP:20161222T095709Z
URL:https://datatracker.ietf.org/meeting/75/materials/agenda-75-mpls
DESCRIPTION:Afternoon Session II\n
 \n
 Agenda https://datatracker.ietf.org/meeting/75/materials/agenda-75-mpls\n
 \n
 Session materials: https://datatracker.ietf.org/meeting/75/session/mpls\n
 \n
 See in schedule: https://datatracker.ietf.org/meeting/75/agenda#row-75-2009-07-29-wed-1510-rtg-mpls\n
END:VEVENT
BEGIN:VEVENT
UID:ietf-75-1320-l2vpn
SUMMARY:l2vpn - Layer 2 Virtual Private Networks
LOCATION:Congresshall B
STATUS:CONFIRMED
CLASS:PUBLIC
DTSTART;TZID=Europe/Stockholm:20090730T090000
DTEND;TZID=Europe/Stockholm:20090730T113000
DTSTAMP:20161222T095709Z
URL:https://datatracker.ietf.org/meeting/75/materials/agenda-75-l2vpn
DESCRIPTION:Morning Session I\n
 \n
 Agenda https://datatracker.ietf.org/meeting/75/materials/agenda-75-l2vpn\n
 \n
 Session materials: https://datatracker.ietf.org/meeting/75/session/l2vpn\n
 \n
 See in schedule: https://datatracker.ietf.org/meeting/75/agenda#row-75-2009-07-30-thu-0900-rtg-l2vpn\n
END:VEVENT
BEGIN:VEVENT
UID:ietf-75-1372-sidr
SUMMARY:sidr - Secure Inter-Domain Routing
LOCATION:Small Stage
STATUS:CONFIRMED
CLASS:PUBLIC
DTSTART;TZID=Europe/Stockholm:20090730T090000
DTEND;TZID=Europe/Stockholm:20090730T113000
DTSTAMP:20161222T095709Z
URL:https://datatracker.ietf.org/meeting/75/materials/agenda-75-sidr
DESCRIPTION:Morning Session I\n
 \n
 Agenda https://datatracker.ietf.org/meeting/75/materials/agenda-75-sidr\n
 \n
 Session materials: https://datatracker.ietf.org/meeting/75/session/sidr\n
 \n
 See in schedule: https://datatracker.ietf.org/meeting/75/agenda#row-75-2009-07-30-thu-0900-rtg-sidr\n
END:VEVENT
BEGIN:VEVENT
UID:ietf-75-1303-idr
SUMMARY:idr - Inter-Domain Routing
LOCATION:Small Stage
STATUS:CONFIRMED
CLASS:PUBLIC
DTSTART;TZID=Europe/Stockholm:20090730T130000
DTEND;TZID=Europe/Stockholm:20090730T150000
DTSTAMP:20161222T095709Z
URL:https://datatracker.ietf.org/meeting/75/materials/agenda-75-idr
DESCRIPTION:Afternoon Session I\n
 \n
 Agenda https://datatracker.ietf.org/meeting/75/materials/agenda-75-idr\n
 \n
 Session materials: https://datatracker.ietf.org/meeting/75/session/idr\n
 \n
 See in schedule: https://datatracker.ietf.org/meeting/75/agenda#row-75-2009-07-30-thu-1300-rtg-idr\n
END:VEVENT
BEGIN:VEVENT
UID:ietf-75-1367-ospf
SUMMARY:ospf - Open Shortest Path First IGP
LOCATION:Room 307
STATUS:CONFIRMED
CLASS:PUBLIC
DTSTART;TZID=Europe/Stockholm:20090730T151000
DTEND;TZID=Europe/Stockholm:20090730T161000
DTSTAMP:20161222T095709Z
URL:https://datatracker.ietf.org/meeting/75/materials/agenda-75-ospf
DESCRIPTION:Afternoon Session II\n
 \n
 Agenda https://datatracker.ietf.org/meeting/75/materials/agenda-75-ospf\n
 \n
 Session materials: https://datatracker.ietf.org/meeting/75/session/ospf\n
 \n
 See in schedule: https://datatracker.ietf.org/meeting/75/agenda#row-75-2009-07-30-thu-1510-rtg-ospf\n
END:VEVENT
BEGIN:VEVENT
UID:ietf-75-1302-pim
SUMMARY:pim - Protocol Independent Multicast
LOCATION:Small Stage
STATUS:CONFIRMED
CLASS:PUBLIC
DTSTART;TZID=Europe/Stockholm:20090730T151000
DTEND;TZID=Europe/Stockholm:20090730T161000
DTSTAMP:20161222T095709Z
URL:https://datatracker.ietf.org/meeting/75/materials/agenda-75-pim
DESCRIPTION:Afternoon Session II\n
 \n
 Agenda https://datatracker.ietf.org/meeting/75/materials/agenda-75-pim\n
 \n
 Session materials: https://datatracker.ietf.org/meeting/75/session/pim\n
 \n
 See in schedule: https://datatracker.ietf.org/meeting/75/agenda#row-75-2009-07-30-thu-1510-rtg-pim\n
END:VEVENT
BEGIN:VEVENT
UID:ietf-75-1281-ccamp
SUMMARY:ccamp - Common Control and Measurement Plane (Friday session Canceled)
LOCATION:Congresshall B
STATUS:CONFIRMED
CLASS:PUBLIC
DTSTART;TZID=Europe/Stockholm:20090731T130000
DTEND;TZID=Europe/Stockholm:20090731T140000
DTSTAMP:20161222T095709Z
URL:https://datatracker.ietf.org/meeting/75/materials/agenda-75-ccamp
DESCRIPTION:Afternoon Session I\n
 Note: Friday session Canceled\n
 \n
 Agenda https://datatracker.ietf.org/meeting/75/materials/agenda-75-ccamp\n
 \n
 Session materials: https://datatracker.ietf.org/meeting/75/session/ccamp\n
 \n
 See in schedule: https://datatracker.ietf.org/meeting/75/agenda#row-75-2009-07-31-fri-1300-rtg-ccamp\n
END:VEVENT
END:VCALENDAR
