BEGIN:VCALENDAR
VERSION:2.0
METHOD:PUBLISH
PRODID:-//IETF//datatracker.ietf.org ical agenda//EN
BEGIN:VTIMEZONE
TZID:Europe/Stockholm
X-LIC-LOCATION:Europe/Stockholm
BEGIN:DAYLIGHT
TZOFFSETFROM:+0100
TZOFFSETTO:+0200
TZNAME:CEST
DTSTART:19810329T020000
RRULE:FREQ=YEARLY;BYMONTH=3;BYDAY=-1SU
END:DAYLIGHT
BEGIN:STANDARD
TZOFFSETFROM:+0200
TZOFFSETTO:+0100
TZNAME:CET
DTSTART:19961027T030000
RRULE:FREQ=YEARLY;BYMONTH=10;BYDAY=-1SU
END:STANDARD
BEGIN:STANDARD
TZOFFSETFROM:+011212
TZOFFSETTO:+010014
TZNAME:SET
DTSTART:18790101T000000
RDATE:18790101T000000
END:STANDARD
BEGIN:STANDARD
TZOFFSETFROM:+010014
TZOFFSETTO:+0100
TZNAME:CET
DTSTART:19000101T000000
RDATE:19000101T000000
END:STANDARD
BEGIN:DAYLIGHT
TZOFFSETFROM:+0100
TZOFFSETTO:+0200
TZNAME:CEST
DTSTART:19160514T230000
RDATE:19160514T230000
RDATE:19800406T020000
END:DAYLIGHT
BEGIN:STANDARD
TZOFFSETFROM:+0200
TZOFFSETTO:+0100
TZNAME:CET
DTSTART:19161001T010000
RDATE:19161001T010000
RDATE:19800928T030000
RDATE:19810927T030000
RDATE:19820926T030000
RDATE:19830925T030000
RDATE:19840930T030000
RDATE:19850929T030000
RDATE:19860928T030000
RDATE:19870927T030000
RDATE:19880925T030000
RDATE:19890924T030000
RDATE:19900930T030000
RDATE:19910929T030000
RDATE:19920927T030000
RDATE:19930926T030000
RDATE:19940925T030000
RDATE:19950924T030000
END:STANDARD
BEGIN:STANDARD
TZOFFSETFROM:+0100
TZOFFSETTO:+0100
TZNAME:CET
DTSTART:19800101T000000
RDATE:19800101T000000
END:STANDARD
END:VTIMEZONE
BEGIN:VEVENT
UID:ietf-75-1326-ipsecme
SUMMARY:ipsecme - IP Security Maintenance and Extensions
LOCATION:Room 307
STATUS:CONFIRMED
CLASS:PUBLIC
DTSTART;TZID=Europe/Stockholm:20090727T090000
DTEND;TZID=Europe/Stockholm:20090727T113000
DTSTAMP:20161222T095709Z
URL:https://datatracker.ietf.org/meeting/75/materials/agenda-75-ipsecme
DESCRIPTION:Morning Session I\n
 \n
 Agenda https://datatracker.ietf.org/meeting/75/materials/agenda-75-ipsecme\n
 \n
 Session materials: https://datatracker.ietf.org/meeting/75/session/ipsecme\n
 \n
 See in schedule: https://datatracker.ietf.org/meeting/75/agenda#row-75-2009-07-27-mon-0900-sec-ipsecme\n
END:VEVENT
BEGIN:VEVENT
UID:ietf-75-1319-emu
SUMMARY:emu - EAP Method Update
LOCATION:Congresshall B
STATUS:CONFIRMED
CLASS:PUBLIC
DTSTART;TZID=Europe/Stockholm:20090727T130000
DTEND;TZID=Europe/Stockholm:20090727T150000
DTSTAMP:20161222T095709Z
URL:https://datatracker.ietf.org/meeting/75/materials/agenda-75-emu
DESCRIPTION:Afternoon Session I\n
 \n
 Agenda https://datatracker.ietf.org/meeting/75/materials/agenda-75-emu\n
 \n
 Session materials: https://datatracker.ietf.org/meeting/75/session/emu\n
 \n
 See in schedule: https://datatracker.ietf.org/meeting/75/agenda#row-75-2009-07-27-mon-1300-sec-emu\n
END:VEVENT
BEGIN:VEVENT
UID:ietf-75-1352-hokey
SUMMARY:hokey - Handover Keying
LOCATION:Large Stage
STATUS:CONFIRMED
CLASS:PUBLIC
DTSTART;TZID=Europe/Stockholm:20090727T152000
DTEND;TZID=Europe/Stockholm:20090727T172000
DTSTAMP:20161222T095709Z
URL:https://datatracker.ietf.org/meeting/75/materials/agenda-75-hokey
DESCRIPTION:Afternoon Session II\n
 \n
 Agenda https://datatracker.ietf.org/meeting/75/materials/agenda-75-hokey\n
 \n
 Session materials: https://datatracker.ietf.org/meeting/75/session/hokey\n
 \n
 See in schedule: https://datatracker.ietf.org/meeting/75/agenda#row-75-2009-07-27-mon-1520-sec-hokey\n
END:VEVENT
BEGIN:VEVENT
UID:ietf-75-1365-sasl
SUMMARY:sasl - Simple Authentication and Security Layer
LOCATION:Room 300
STATUS:CONFIRMED
CLASS:PUBLIC
DTSTART;TZID=Europe/Stockholm:20090727T152000
DTEND;TZID=Europe/Stockholm:20090727T172000
DTSTAMP:20161222T095709Z
URL:https://datatracker.ietf.org/meeting/75/materials/agenda-75-sasl
DESCRIPTION:Afternoon Session II\n
 \n
 Agenda https://datatracker.ietf.org/meeting/75/materials/agenda-75-sasl\n
 \n
 Session materials: https://datatracker.ietf.org/meeting/75/session/sasl\n
 \n
 See in schedule: https://datatracker.ietf.org/meeting/75/agenda#row-75-2009-07-27-mon-1520-sec-sasl\n
END:VEVENT
BEGIN:VEVENT
UID:ietf-75-1284-nea
SUMMARY:nea - Network Endpoint Assessment (room changed from Large Stage)
LOCATION:Congresshall B
STATUS:CONFIRMED
CLASS:PUBLIC
DTSTART;TZID=Europe/Stockholm:20090727T174000
DTEND;TZID=Europe/Stockholm:20090727T194000
DTSTAMP:20161222T095709Z
URL:https://datatracker.ietf.org/meeting/75/materials/agenda-75-nea
DESCRIPTION:Afternoon Session III\n
 Note: room changed from Large Stage\n
 \n
 Agenda https://datatracker.ietf.org/meeting/75/materials/agenda-75-nea\n
 \n
 Session materials: https://datatracker.ietf.org/meeting/75/session/nea\n
 \n
 See in schedule: https://datatracker.ietf.org/meeting/75/agenda#row-75-2009-07-27-mon-1740-sec-nea\n
END:VEVENT
BEGIN:VEVENT
UID:ietf-75-1384-syslog
SUMMARY:syslog - Security Issues in Network Event Logging
LOCATION:Room 300
STATUS:CONFIRMED
CLASS:PUBLIC
DTSTART;TZID=Europe/Stockholm:20090728T090000
DTEND;TZID=Europe/Stockholm:20090728T113000
DTSTAMP:20161222T095709Z
URL:https://datatracker.ietf.org/meeting/75/materials/agenda-75-syslog
DESCRIPTION:Morning Session I\n
 \n
 Agenda https://datatracker.ietf.org/meeting/75/materials/agenda-75-syslog\n
 \n
 Session materials: https://datatracker.ietf.org/meeting/75/session/syslog\n
 \n
 See in schedule: https://datatracker.ietf.org/meeting/75/agenda#row-75-2009-07-28-tue-0900-sec-syslog\n
END:VEVENT
BEGIN:VEVENT
UID:ietf-75-1377-dkim
SUMMARY:dkim - Domain Keys Identified Mail
LOCATION:Small Stage
STATUS:CONFIRMED
CLASS:PUBLIC
DTSTART;TZID=Europe/Stockholm:20090728T130000
DTEND;TZID=Europe/Stockholm:20090728T150000
DTSTAMP:20161222T095709Z
URL:https://datatracker.ietf.org/meeting/75/materials/agenda-75-dkim
DESCRIPTION:Afternoon Session I\n
 \n
 Agenda https://datatracker.ietf.org/meeting/75/materials/agenda-75-dkim\n
 \n
 Session materials: https://datatracker.ietf.org/meeting/75/session/dkim\n
 \n
 See in schedule: https://datatracker.ietf.org/meeting/75/agenda#row-75-2009-07-28-tue-1300-sec-dkim\n
END:VEVENT
BEGIN:VEVENT
UID:ietf-75-1291-pkix
SUMMARY:pkix - Public-Key Infrastructure (X.509)
LOCATION:Congresshall A
STATUS:CONFIRMED
CLASS:PUBLIC
DTSTART;TZID=Europe/Stockholm:20090729T130000
DTEND;TZID=Europe/Stockholm:20090729T150000
DTSTAMP:20161222T095709Z
URL:https://datatracker.ietf.org/meeting/75/materials/agenda-75-pkix
DESCRIPTION:Afternoon Session I\n
 \n
 Agenda https://datatracker.ietf.org/meeting/75/materials/agenda-75-pkix\n
 \n
 Session materials: https://datatracker.ietf.org/meeting/75/session/pkix\n
 \n
 See in schedule: https://datatracker.ietf.org/meeting/75/agenda#row-75-2009-07-29-wed-1300-sec-pkix\n
END:VEVENT
BEGIN:VEVENT
UID:ietf-75-1353-hokey
SUMMARY:hokey - Handover Keying
LOCATION:Room 300
STATUS:CONFIRMED
CLASS:PUBLIC
DTSTART;TZID=Europe/Stockholm:20090729T151000
DTEND;TZID=Europe/Stockholm:20090729T161000
DTSTAMP:20161222T095709Z
URL:https://datatracker.ietf.org/meeting/75/materials/agenda-75-hokey
DESCRIPTION:Afternoon Session II\n
 \n
 Agenda https://datatracker.ietf.org/meeting/75/materials/agenda-75-hokey\n
 \n
 Session materials: https://datatracker.ietf.org/meeting/75/session/hokey\n
 \n
 See in schedule: https://datatracker.ietf.org/meeting/75/agenda#row-75-2009-07-29-wed-1510-sec-hokey\n
END:VEVENT
BEGIN:VEVENT
UID:ietf-75-1356-keyprov
SUMMARY:keyprov - Provisioning of Symmetric Keys
LOCATION:Large Stage
STATUS:CONFIRMED
CLASS:PUBLIC
DTSTART;TZID=Europe/Stockholm:20090730T090000
DTEND;TZID=Europe/Stockholm:20090730T113000
DTSTAMP:20161222T095709Z
URL:https://datatracker.ietf.org/meeting/75/materials/agenda-75-keyprov
DESCRIPTION:Morning Session I\n
 \n
 Agenda https://datatracker.ietf.org/meeting/75/materials/agenda-75-keyprov\n
 \n
 Session materials: https://datatracker.ietf.org/meeting/75/session/keyprov\n
 \n
 See in schedule: https://datatracker.ietf.org/meeting/75/agenda#row-75-2009-07-30-thu-0900-sec-keyprov\n
END:VEVENT
BEGIN:VEVENT
UID:ietf-75-1288-saag
SUMMARY:saag - Security Area Open Meeting
LOCATION:Congresshall A
STATUS:CONFIRMED
CLASS:PUBLIC
DTSTART;TZID=Europe/Stockholm:20090730T130000
DTEND;TZID=Europe/Stockholm:20090730T150000
DTSTAMP:20161222T095709Z
URL:https://datatracker.ietf.org/meeting/75/materials/agenda-75-saag
DESCRIPTION:Afternoon Session I\n
 \n
 Agenda https://datatracker.ietf.org/meeting/75/materials/agenda-75-saag\n
 \n
 Session materials: https://datatracker.ietf.org/meeting/75/session/saag\n
 \n
 See in schedule: https://datatracker.ietf.org/meeting/75/agenda#row-75-2009-07-30-thu-1300-sec-saag\n
END:VEVENT
BEGIN:VEVENT
UID:ietf-75-1325-kitten
SUMMARY:kitten - Common Authentication Technology Next Generation
LOCATION:Room 300
STATUS:CONFIRMED
CLASS:PUBLIC
DTSTART;TZID=Europe/Stockholm:20090730T151000
DTEND;TZID=Europe/Stockholm:20090730T161000
DTSTAMP:20161222T095709Z
URL:https://datatracker.ietf.org/meeting/75/materials/agenda-75-kitten
DESCRIPTION:Afternoon Session II\n
 \n
 Agenda https://datatracker.ietf.org/meeting/75/materials/agenda-75-kitten\n
 \n
 Session materials: https://datatracker.ietf.org/meeting/75/session/kitten\n
 \n
 See in schedule: https://datatracker.ietf.org/meeting/75/agenda#row-75-2009-07-30-thu-1510-sec-kitten\n
END:VEVENT
BEGIN:VEVENT
UID:ietf-75-1379-krb-wg
SUMMARY:krb-wg - Kerberos
LOCATION:Room 300
STATUS:CONFIRMED
CLASS:PUBLIC
DTSTART;TZID=Europe/Stockholm:20090731T090000
DTEND;TZID=Europe/Stockholm:20090731T113000
DTSTAMP:20161222T095709Z
URL:https://datatracker.ietf.org/meeting/75/materials/agenda-75-krb-wg
DESCRIPTION:Morning Session I\n
 \n
 Agenda https://datatracker.ietf.org/meeting/75/materials/agenda-75-krb-wg\n
 \n
 Session materials: https://datatracker.ietf.org/meeting/75/session/krb-wg\n
 \n
 See in schedule: https://datatracker.ietf.org/meeting/75/agenda#row-75-2009-07-31-fri-0900-sec-krb-wg\n
END:VEVENT
BEGIN:VEVENT
UID:ietf-75-1378-tls
SUMMARY:tls - Transport Layer Security
LOCATION:Room 307
STATUS:CONFIRMED
CLASS:PUBLIC
DTSTART;TZID=Europe/Stockholm:20090731T130000
DTEND;TZID=Europe/Stockholm:20090731T140000
DTSTAMP:20161222T095709Z
URL:https://datatracker.ietf.org/meeting/75/materials/agenda-75-tls
DESCRIPTION:Afternoon Session I\n
 \n
 Agenda https://datatracker.ietf.org/meeting/75/materials/agenda-75-tls\n
 \n
 Session materials: https://datatracker.ietf.org/meeting/75/session/tls\n
 \n
 See in schedule: https://datatracker.ietf.org/meeting/75/agenda#row-75-2009-07-31-fri-1300-sec-tls\n
END:VEVENT
END:VCALENDAR
