BEGIN:VCALENDAR
VERSION:2.0
METHOD:PUBLISH
PRODID:-//IETF//datatracker.ietf.org ical agenda//EN
BEGIN:VTIMEZONE
TZID:Europe/Stockholm
X-LIC-LOCATION:Europe/Stockholm
BEGIN:DAYLIGHT
TZOFFSETFROM:+0100
TZOFFSETTO:+0200
TZNAME:CEST
DTSTART:19810329T020000
RRULE:FREQ=YEARLY;BYMONTH=3;BYDAY=-1SU
END:DAYLIGHT
BEGIN:STANDARD
TZOFFSETFROM:+0200
TZOFFSETTO:+0100
TZNAME:CET
DTSTART:19961027T030000
RRULE:FREQ=YEARLY;BYMONTH=10;BYDAY=-1SU
END:STANDARD
BEGIN:STANDARD
TZOFFSETFROM:+011212
TZOFFSETTO:+010014
TZNAME:SET
DTSTART:18790101T000000
RDATE:18790101T000000
END:STANDARD
BEGIN:STANDARD
TZOFFSETFROM:+010014
TZOFFSETTO:+0100
TZNAME:CET
DTSTART:19000101T000000
RDATE:19000101T000000
END:STANDARD
BEGIN:DAYLIGHT
TZOFFSETFROM:+0100
TZOFFSETTO:+0200
TZNAME:CEST
DTSTART:19160514T230000
RDATE:19160514T230000
RDATE:19800406T020000
END:DAYLIGHT
BEGIN:STANDARD
TZOFFSETFROM:+0200
TZOFFSETTO:+0100
TZNAME:CET
DTSTART:19161001T010000
RDATE:19161001T010000
RDATE:19800928T030000
RDATE:19810927T030000
RDATE:19820926T030000
RDATE:19830925T030000
RDATE:19840930T030000
RDATE:19850929T030000
RDATE:19860928T030000
RDATE:19870927T030000
RDATE:19880925T030000
RDATE:19890924T030000
RDATE:19900930T030000
RDATE:19910929T030000
RDATE:19920927T030000
RDATE:19930926T030000
RDATE:19940925T030000
RDATE:19950924T030000
END:STANDARD
BEGIN:STANDARD
TZOFFSETFROM:+0100
TZOFFSETTO:+0100
TZNAME:CET
DTSTART:19800101T000000
RDATE:19800101T000000
END:STANDARD
END:VTIMEZONE
BEGIN:VEVENT
UID:ietf-75-1381-behave
SUMMARY:behave - Behavior Engineering for Hindrance Avoidance
LOCATION:Congresshall A
STATUS:CONFIRMED
CLASS:PUBLIC
DTSTART;TZID=Europe/Stockholm:20090727T090000
DTEND;TZID=Europe/Stockholm:20090727T113000
DTSTAMP:20161222T095709Z
URL:https://datatracker.ietf.org/meeting/75/materials/agenda-75-behave
DESCRIPTION:Morning Session I\n
 \n
 Agenda https://datatracker.ietf.org/meeting/75/materials/agenda-75-behave\n
 \n
 Session materials: https://datatracker.ietf.org/meeting/75/session/behave\n
 \n
 See in schedule: https://datatracker.ietf.org/meeting/75/agenda#row-75-2009-07-27-mon-0900-tsv-behave\n
END:VEVENT
BEGIN:VEVENT
UID:ietf-75-1343-pcn
SUMMARY:pcn - Congestion and Pre-Congestion Notification
LOCATION:Room 300
STATUS:CONFIRMED
CLASS:PUBLIC
DTSTART;TZID=Europe/Stockholm:20090727T090000
DTEND;TZID=Europe/Stockholm:20090727T113000
DTSTAMP:20161222T095709Z
URL:https://datatracker.ietf.org/meeting/75/materials/agenda-75-pcn
DESCRIPTION:Morning Session I\n
 \n
 Agenda https://datatracker.ietf.org/meeting/75/materials/agenda-75-pcn\n
 \n
 Session materials: https://datatracker.ietf.org/meeting/75/session/pcn\n
 \n
 See in schedule: https://datatracker.ietf.org/meeting/75/agenda#row-75-2009-07-27-mon-0900-tsv-pcn\n
END:VEVENT
BEGIN:VEVENT
UID:ietf-75-1339-tsvarea
SUMMARY:tsvarea - Transport Area Open Meeting
LOCATION:Congresshall B
STATUS:CONFIRMED
CLASS:PUBLIC
DTSTART;TZID=Europe/Stockholm:20090727T152000
DTEND;TZID=Europe/Stockholm:20090727T172000
DTSTAMP:20161222T095709Z
URL:https://datatracker.ietf.org/meeting/75/materials/agenda-75-tsvarea
DESCRIPTION:Afternoon Session II\n
 \n
 Agenda https://datatracker.ietf.org/meeting/75/materials/agenda-75-tsvarea\n
 \n
 Session materials: https://datatracker.ietf.org/meeting/75/session/tsvarea\n
 \n
 See in schedule: https://datatracker.ietf.org/meeting/75/agenda#row-75-2009-07-27-mon-1520-tsv-tsvarea\n
END:VEVENT
BEGIN:VEVENT
UID:ietf-75-1311-tcpm
SUMMARY:tcpm - TCP Maintenance and Minor Extensions
LOCATION:Congresshall C
STATUS:CONFIRMED
CLASS:PUBLIC
DTSTART;TZID=Europe/Stockholm:20090727T174000
DTEND;TZID=Europe/Stockholm:20090727T194000
DTSTAMP:20161222T095709Z
URL:https://datatracker.ietf.org/meeting/75/materials/agenda-75-tcpm
DESCRIPTION:Afternoon Session III\n
 \n
 Agenda https://datatracker.ietf.org/meeting/75/materials/agenda-75-tcpm\n
 \n
 Session materials: https://datatracker.ietf.org/meeting/75/session/tcpm\n
 \n
 See in schedule: https://datatracker.ietf.org/meeting/75/agenda#row-75-2009-07-27-mon-1740-tsv-tcpm\n
END:VEVENT
BEGIN:VEVENT
UID:ietf-75-1382-behave
SUMMARY:behave - Behavior Engineering for Hindrance Avoidance
LOCATION:Congresshall C
STATUS:CONFIRMED
CLASS:PUBLIC
DTSTART;TZID=Europe/Stockholm:20090728T090000
DTEND;TZID=Europe/Stockholm:20090728T113000
DTSTAMP:20161222T095709Z
URL:https://datatracker.ietf.org/meeting/75/materials/agenda-75-behave
DESCRIPTION:Morning Session I\n
 \n
 Agenda https://datatracker.ietf.org/meeting/75/materials/agenda-75-behave\n
 \n
 Session materials: https://datatracker.ietf.org/meeting/75/session/behave\n
 \n
 See in schedule: https://datatracker.ietf.org/meeting/75/agenda#row-75-2009-07-28-tue-0900-tsv-behave\n
END:VEVENT
BEGIN:VEVENT
UID:ietf-75-1322-alto
SUMMARY:alto - Application-Layer Traffic Optimization
LOCATION:Congresshall C
STATUS:CONFIRMED
CLASS:PUBLIC
DTSTART;TZID=Europe/Stockholm:20090728T130000
DTEND;TZID=Europe/Stockholm:20090728T150000
DTSTAMP:20161222T095709Z
URL:https://datatracker.ietf.org/meeting/75/materials/agenda-75-alto
DESCRIPTION:Afternoon Session I\n
 \n
 Agenda https://datatracker.ietf.org/meeting/75/materials/agenda-75-alto\n
 \n
 Session materials: https://datatracker.ietf.org/meeting/75/session/alto\n
 \n
 See in schedule: https://datatracker.ietf.org/meeting/75/agenda#row-75-2009-07-28-tue-1300-tsv-alto\n
END:VEVENT
BEGIN:VEVENT
UID:ietf-75-1324-fecframe
SUMMARY:fecframe - FEC Framework
LOCATION:Room 300
STATUS:CONFIRMED
CLASS:PUBLIC
DTSTART;TZID=Europe/Stockholm:20090728T130000
DTEND;TZID=Europe/Stockholm:20090728T150000
DTSTAMP:20161222T095709Z
URL:https://datatracker.ietf.org/meeting/75/materials/agenda-75-fecframe
DESCRIPTION:Afternoon Session I\n
 \n
 Agenda https://datatracker.ietf.org/meeting/75/materials/agenda-75-fecframe\n
 \n
 Session materials: https://datatracker.ietf.org/meeting/75/session/fecframe\n
 \n
 See in schedule: https://datatracker.ietf.org/meeting/75/agenda#row-75-2009-07-28-tue-1300-tsv-fecframe\n
END:VEVENT
BEGIN:VEVENT
UID:ietf-75-1348-rmt
SUMMARY:rmt - Reliable Multicast Transport
LOCATION:Small Stage
STATUS:CONFIRMED
CLASS:PUBLIC
DTSTART;TZID=Europe/Stockholm:20090728T152000
DTEND;TZID=Europe/Stockholm:20090728T170000
DTSTAMP:20161222T095709Z
URL:https://datatracker.ietf.org/meeting/75/materials/agenda-75-rmt
DESCRIPTION:Afternoon Session II\n
 \n
 Agenda https://datatracker.ietf.org/meeting/75/materials/agenda-75-rmt\n
 \n
 Session materials: https://datatracker.ietf.org/meeting/75/session/rmt\n
 \n
 See in schedule: https://datatracker.ietf.org/meeting/75/agenda#row-75-2009-07-28-tue-1520-tsv-rmt\n
END:VEVENT
BEGIN:VEVENT
UID:ietf-75-1345-nfsv4
SUMMARY:nfsv4 - Network File System Version 4
LOCATION:Room 307
STATUS:CONFIRMED
CLASS:PUBLIC
DTSTART;TZID=Europe/Stockholm:20090729T090000
DTEND;TZID=Europe/Stockholm:20090729T113000
DTSTAMP:20161222T095709Z
URL:https://datatracker.ietf.org/meeting/75/materials/agenda-75-nfsv4
DESCRIPTION:Morning Session I\n
 \n
 Agenda https://datatracker.ietf.org/meeting/75/materials/agenda-75-nfsv4\n
 \n
 Session materials: https://datatracker.ietf.org/meeting/75/session/nfsv4\n
 \n
 See in schedule: https://datatracker.ietf.org/meeting/75/agenda#row-75-2009-07-29-wed-0900-tsv-nfsv4\n
END:VEVENT
BEGIN:VEVENT
UID:ietf-75-1369-ledbat
SUMMARY:ledbat - Low Extra Delay Background Transport
LOCATION:Congresshall B
STATUS:CONFIRMED
CLASS:PUBLIC
DTSTART;TZID=Europe/Stockholm:20090729T130000
DTEND;TZID=Europe/Stockholm:20090729T150000
DTSTAMP:20161222T095709Z
URL:https://datatracker.ietf.org/meeting/75/materials/agenda-75-ledbat
DESCRIPTION:Afternoon Session I\n
 \n
 Agenda https://datatracker.ietf.org/meeting/75/materials/agenda-75-ledbat\n
 \n
 Session materials: https://datatracker.ietf.org/meeting/75/session/ledbat\n
 \n
 See in schedule: https://datatracker.ietf.org/meeting/75/agenda#row-75-2009-07-29-wed-1300-tsv-ledbat\n
END:VEVENT
BEGIN:VEVENT
UID:ietf-75-1394-mptcp
SUMMARY:mptcp - Multipath TCP
LOCATION:Congresshall A
STATUS:CONFIRMED
CLASS:PUBLIC
DTSTART;TZID=Europe/Stockholm:20090730T090000
DTEND;TZID=Europe/Stockholm:20090730T113000
DTSTAMP:20161222T095709Z
URL:https://datatracker.ietf.org/meeting/75/materials/agenda-75-mptcp
DESCRIPTION:Morning Session I\n
 \n
 Agenda https://datatracker.ietf.org/meeting/75/materials/agenda-75-mptcp\n
 \n
 Session materials: https://datatracker.ietf.org/meeting/75/session/mptcp\n
 \n
 See in schedule: https://datatracker.ietf.org/meeting/75/agenda#row-75-2009-07-30-thu-0900-tsv-mptcp\n
END:VEVENT
BEGIN:VEVENT
UID:ietf-75-1300-tsvwg
SUMMARY:tsvwg - Transport Area Working Group
LOCATION:Congresshall B
STATUS:CONFIRMED
CLASS:PUBLIC
DTSTART;TZID=Europe/Stockholm:20090730T130000
DTEND;TZID=Europe/Stockholm:20090730T150000
DTSTAMP:20161222T095709Z
URL:https://datatracker.ietf.org/meeting/75/materials/agenda-75-tsvwg
DESCRIPTION:Afternoon Session I\n
 \n
 Agenda https://datatracker.ietf.org/meeting/75/materials/agenda-75-tsvwg\n
 \n
 Session materials: https://datatracker.ietf.org/meeting/75/session/tsvwg\n
 \n
 See in schedule: https://datatracker.ietf.org/meeting/75/agenda#row-75-2009-07-30-thu-1300-tsv-tsvwg\n
END:VEVENT
BEGIN:VEVENT
UID:ietf-75-1334-ippm
SUMMARY:ippm - IP Performance Metrics
LOCATION:Room 307
STATUS:CONFIRMED
CLASS:PUBLIC
DTSTART;TZID=Europe/Stockholm:20090731T090000
DTEND;TZID=Europe/Stockholm:20090731T113000
DTSTAMP:20161222T095709Z
URL:https://datatracker.ietf.org/meeting/75/materials/agenda-75-ippm
DESCRIPTION:Morning Session I\n
 \n
 Agenda https://datatracker.ietf.org/meeting/75/materials/agenda-75-ippm\n
 \n
 Session materials: https://datatracker.ietf.org/meeting/75/session/ippm\n
 \n
 See in schedule: https://datatracker.ietf.org/meeting/75/agenda#row-75-2009-07-31-fri-0900-tsv-ippm\n
END:VEVENT
BEGIN:VEVENT
UID:ietf-75-1407-nsis
SUMMARY:nsis - Next Steps in Signaling (CANCELED)
LOCATION:Congresshall A
STATUS:CONFIRMED
CLASS:PUBLIC
DTSTART;TZID=Europe/Stockholm:20090731T130000
DTEND;TZID=Europe/Stockholm:20090731T140000
DTSTAMP:20161222T095709Z
DESCRIPTION:Afternoon Session I\n
 Note: CANCELED\n
 \n
 Session materials: https://datatracker.ietf.org/meeting/75/session/nsis\n
 \n
 See in schedule: https://datatracker.ietf.org/meeting/75/agenda#row-75-2009-07-31-fri-1300-tsv-nsis\n
END:VEVENT
END:VCALENDAR
