BEGIN:VCALENDAR
VERSION:2.0
METHOD:PUBLISH
PRODID:-//IETF//datatracker.ietf.org ical agenda//EN
BEGIN:VTIMEZONE
TZID:Asia/Tokyo
X-LIC-LOCATION:Asia/Tokyo
BEGIN:STANDARD
TZOFFSETFROM:+091859
TZOFFSETTO:+0900
TZNAME:JST
DTSTART:18880101T001859
RDATE:18880101T001859
END:STANDARD
BEGIN:STANDARD
TZOFFSETFROM:+0900
TZOFFSETTO:+0900
TZNAME:JCST
DTSTART:18960101T000000
RDATE:18960101T000000
END:STANDARD
BEGIN:STANDARD
TZOFFSETFROM:+0900
TZOFFSETTO:+0900
TZNAME:JST
DTSTART:19371001T000000
RDATE:19371001T000000
END:STANDARD
BEGIN:DAYLIGHT
TZOFFSETFROM:+0900
TZOFFSETTO:+1000
TZNAME:JDT
DTSTART:19480502T020000
RDATE:19480502T020000
RDATE:19490403T020000
RDATE:19500507T020000
RDATE:19510506T020000
END:DAYLIGHT
BEGIN:STANDARD
TZOFFSETFROM:+1000
TZOFFSETTO:+0900
TZNAME:JST
DTSTART:19480911T020000
RDATE:19480911T020000
RDATE:19490910T020000
RDATE:19500909T020000
RDATE:19510908T020000
END:STANDARD
END:VTIMEZONE
BEGIN:VEVENT
UID:ietf-76-1494-apparea
SUMMARY:apparea - Applications Area Open Meeting
LOCATION:Orchid Centre
STATUS:CONFIRMED
CLASS:PUBLIC
DTSTART;TZID=Asia/Tokyo:20091109T090000
DTEND;TZID=Asia/Tokyo:20091109T113000
DTSTAMP:20161222T095709Z
URL:https://datatracker.ietf.org/meeting/76/materials/agenda-76-apparea
DESCRIPTION:Morning Session I\n
 \n
 Agenda https://datatracker.ietf.org/meeting/76/materials/agenda-76-apparea\n
 \n
 Session materials: https://datatracker.ietf.org/meeting/76/session/apparea\n
 \n
 See in schedule: https://datatracker.ietf.org/meeting/76/agenda#row-76-2009-11-09-mon-0900-app-apparea\n
END:VEVENT
BEGIN:VEVENT
UID:ietf-76-1512-6lowapp
SUMMARY:6lowapp - Application Protocols for Low-power V6 Networks
LOCATION:Acacia West
STATUS:CONFIRMED
CLASS:PUBLIC
DTSTART;TZID=Asia/Tokyo:20091109T130000
DTEND;TZID=Asia/Tokyo:20091109T150000
DTSTAMP:20161222T095709Z
URL:https://datatracker.ietf.org/meeting/76/materials/agenda-76-6lowapp
DESCRIPTION:Afternoon Session I\n
 \n
 Agenda https://datatracker.ietf.org/meeting/76/materials/agenda-76-6lowapp\n
 \n
 Session materials: https://datatracker.ietf.org/meeting/76/session/6lowapp\n
 \n
 See in schedule: https://datatracker.ietf.org/meeting/76/agenda#row-76-2009-11-09-mon-1300-app-6lowapp\n
END:VEVENT
BEGIN:VEVENT
UID:ietf-76-1514-hybi
SUMMARY:hybi - BiDirectional or Server-Initiated HTTP
LOCATION:Acacia West
STATUS:CONFIRMED
CLASS:PUBLIC
DTSTART;TZID=Asia/Tokyo:20091110T130000
DTEND;TZID=Asia/Tokyo:20091110T150000
DTSTAMP:20161222T095709Z
URL:https://datatracker.ietf.org/meeting/76/materials/agenda-76-hybi
DESCRIPTION:Afternoon Session I\n
 \n
 Agenda https://datatracker.ietf.org/meeting/76/materials/agenda-76-hybi\n
 \n
 Session materials: https://datatracker.ietf.org/meeting/76/session/hybi\n
 \n
 See in schedule: https://datatracker.ietf.org/meeting/76/agenda#row-76-2009-11-10-tue-1300-app-hybi\n
END:VEVENT
BEGIN:VEVENT
UID:ietf-76-1515-iri
SUMMARY:iri - Internationalized Resource Identifiers
LOCATION:Cattleya East
STATUS:CONFIRMED
CLASS:PUBLIC
DTSTART;TZID=Asia/Tokyo:20091110T152000
DTEND;TZID=Asia/Tokyo:20091110T170000
DTSTAMP:20161222T095709Z
URL:https://datatracker.ietf.org/meeting/76/materials/agenda-76-iri
DESCRIPTION:Afternoon Session II\n
 \n
 Agenda https://datatracker.ietf.org/meeting/76/materials/agenda-76-iri\n
 \n
 Session materials: https://datatracker.ietf.org/meeting/76/session/iri\n
 \n
 See in schedule: https://datatracker.ietf.org/meeting/76/agenda#row-76-2009-11-10-tue-1520-app-iri\n
END:VEVENT
BEGIN:VEVENT
UID:ietf-76-1456-isms
SUMMARY:isms - Integrated Security Model for SNMP
LOCATION:Acacia West
STATUS:CONFIRMED
CLASS:PUBLIC
DTSTART;TZID=Asia/Tokyo:20091110T152000
DTEND;TZID=Asia/Tokyo:20091110T170000
DTSTAMP:20161222T095709Z
URL:https://datatracker.ietf.org/meeting/76/materials/agenda-76-isms
DESCRIPTION:Afternoon Session II\n
 \n
 Agenda https://datatracker.ietf.org/meeting/76/materials/agenda-76-isms\n
 \n
 Session materials: https://datatracker.ietf.org/meeting/76/session/isms\n
 \n
 See in schedule: https://datatracker.ietf.org/meeting/76/agenda#row-76-2009-11-10-tue-1520-app-isms\n
END:VEVENT
BEGIN:VEVENT
UID:ietf-76-1532-morg
SUMMARY:morg - Message Organization
LOCATION:Camellia
STATUS:CONFIRMED
CLASS:PUBLIC
DTSTART;TZID=Asia/Tokyo:20091110T171000
DTEND;TZID=Asia/Tokyo:20091110T181000
DTSTAMP:20161222T095709Z
URL:https://datatracker.ietf.org/meeting/76/materials/agenda-76-morg
DESCRIPTION:Afternoon Session III\n
 \n
 Agenda https://datatracker.ietf.org/meeting/76/materials/agenda-76-morg\n
 \n
 Session materials: https://datatracker.ietf.org/meeting/76/session/morg\n
 \n
 See in schedule: https://datatracker.ietf.org/meeting/76/agenda#row-76-2009-11-10-tue-1710-app-morg\n
END:VEVENT
BEGIN:VEVENT
UID:ietf-76-1499-yam
SUMMARY:yam - Yet Another Mail
LOCATION:Cattleya West
STATUS:CONFIRMED
CLASS:PUBLIC
DTSTART;TZID=Asia/Tokyo:20091111T090000
DTEND;TZID=Asia/Tokyo:20091111T101500
DTSTAMP:20161222T095709Z
URL:https://datatracker.ietf.org/meeting/76/materials/agenda-76-yam
DESCRIPTION:Morning Session I\n
 \n
 Agenda https://datatracker.ietf.org/meeting/76/materials/agenda-76-yam\n
 \n
 Session materials: https://datatracker.ietf.org/meeting/76/session/yam\n
 \n
 See in schedule: https://datatracker.ietf.org/meeting/76/agenda#row-76-2009-11-11-wed-0900-app-yam\n
END:VEVENT
BEGIN:VEVENT
UID:ietf-76-1520-grobj
SUMMARY:grobj - Generic Referral Object
LOCATION:Acacia East
STATUS:CONFIRMED
CLASS:PUBLIC
DTSTART;TZID=Asia/Tokyo:20091111T151000
DTEND;TZID=Asia/Tokyo:20091111T161000
DTSTAMP:20161222T095709Z
URL:https://datatracker.ietf.org/meeting/76/materials/agenda-76-grobj
DESCRIPTION:Afternoon Session II\n
 \n
 Agenda https://datatracker.ietf.org/meeting/76/materials/agenda-76-grobj\n
 \n
 Session materials: https://datatracker.ietf.org/meeting/76/session/grobj\n
 \n
 See in schedule: https://datatracker.ietf.org/meeting/76/agenda#row-76-2009-11-11-wed-1510-app-grobj\n
END:VEVENT
BEGIN:VEVENT
UID:ietf-76-1441-vcarddav
SUMMARY:vcarddav - vCard and CardDAV
LOCATION:Camellia
STATUS:CONFIRMED
CLASS:PUBLIC
DTSTART;TZID=Asia/Tokyo:20091112T130000
DTEND;TZID=Asia/Tokyo:20091112T150000
DTSTAMP:20161222T095709Z
URL:https://datatracker.ietf.org/meeting/76/materials/agenda-76-vcarddav
DESCRIPTION:Afternoon Session I\n
 \n
 Agenda https://datatracker.ietf.org/meeting/76/materials/agenda-76-vcarddav\n
 \n
 Session materials: https://datatracker.ietf.org/meeting/76/session/vcarddav\n
 \n
 See in schedule: https://datatracker.ietf.org/meeting/76/agenda#row-76-2009-11-12-thu-1300-app-vcarddav\n
END:VEVENT
END:VCALENDAR
