BEGIN:VCALENDAR
VERSION:2.0
METHOD:PUBLISH
PRODID:-//IETF//datatracker.ietf.org ical agenda//EN
BEGIN:VTIMEZONE
TZID:Asia/Tokyo
X-LIC-LOCATION:Asia/Tokyo
BEGIN:STANDARD
TZOFFSETFROM:+091859
TZOFFSETTO:+0900
TZNAME:JST
DTSTART:18880101T001859
RDATE:18880101T001859
END:STANDARD
BEGIN:STANDARD
TZOFFSETFROM:+0900
TZOFFSETTO:+0900
TZNAME:JCST
DTSTART:18960101T000000
RDATE:18960101T000000
END:STANDARD
BEGIN:STANDARD
TZOFFSETFROM:+0900
TZOFFSETTO:+0900
TZNAME:JST
DTSTART:19371001T000000
RDATE:19371001T000000
END:STANDARD
BEGIN:DAYLIGHT
TZOFFSETFROM:+0900
TZOFFSETTO:+1000
TZNAME:JDT
DTSTART:19480502T020000
RDATE:19480502T020000
RDATE:19490403T020000
RDATE:19500507T020000
RDATE:19510506T020000
END:DAYLIGHT
BEGIN:STANDARD
TZOFFSETFROM:+1000
TZOFFSETTO:+0900
TZNAME:JST
DTSTART:19480911T020000
RDATE:19480911T020000
RDATE:19490910T020000
RDATE:19500909T020000
RDATE:19510908T020000
END:STANDARD
END:VTIMEZONE
BEGIN:VEVENT
UID:ietf-76-1508-tools
SUMMARY:Code Sprint
LOCATION:Camellia
STATUS:CONFIRMED
CLASS:PUBLIC
DTSTART;TZID=Asia/Tokyo:20091107T093000
DTEND;TZID=Asia/Tokyo:20091107T170000
DTSTAMP:20161222T095709Z
DESCRIPTION:Code Sprint\n
 \n
 Session materials: https://datatracker.ietf.org/meeting/76/session/tools\n
 \n
 See in schedule: https://datatracker.ietf.org/meeting/76/agenda#row-76-2009-11-07-sat-0930-tools-code-sprint\n
END:VEVENT
BEGIN:VEVENT
UID:ietf-76-1505-iepg
SUMMARY:IEPG Meeting
LOCATION:Acacia West
STATUS:CONFIRMED
CLASS:PUBLIC
DTSTART;TZID=Asia/Tokyo:20091108T100000
DTEND;TZID=Asia/Tokyo:20091108T120000
DTSTAMP:20161222T095709Z
DESCRIPTION:IEPG Meeting\n
 \n
 Session materials: https://datatracker.ietf.org/meeting/76/session/iepg\n
 \n
 See in schedule: https://datatracker.ietf.org/meeting/76/agenda#row-76-2009-11-08-sun-1000-iepg-iepg-meeting\n
END:VEVENT
BEGIN:VEVENT
UID:ietf-76-1531-edu
SUMMARY:DNS for Programmers Tutorial
LOCATION:Cattleya East
STATUS:CONFIRMED
CLASS:PUBLIC
DTSTART;TZID=Asia/Tokyo:20091108T130000
DTEND;TZID=Asia/Tokyo:20091108T145000
DTSTAMP:20161222T095709Z
DESCRIPTION:DNS for Programmers Tutorial\n
 \n
 Session materials: https://datatracker.ietf.org/meeting/76/session/edu\n
 \n
 See in schedule: https://datatracker.ietf.org/meeting/76/agenda#row-76-2009-11-08-sun-1300-edu-dns-for-programmers-tutorial\n
END:VEVENT
BEGIN:VEVENT
UID:ietf-76-1506-edu
SUMMARY:Newcomer's Training
LOCATION:Acacia East
STATUS:CONFIRMED
CLASS:PUBLIC
DTSTART;TZID=Asia/Tokyo:20091108T130000
DTEND;TZID=Asia/Tokyo:20091108T145000
DTSTAMP:20161222T095709Z
DESCRIPTION:Newcomer's Training\n
 \n
 Session materials: https://datatracker.ietf.org/meeting/76/session/edu\n
 \n
 See in schedule: https://datatracker.ietf.org/meeting/76/agenda#row-76-2009-11-08-sun-1300-edu-newcomers-training\n
END:VEVENT
BEGIN:VEVENT
UID:ietf-76-1529-edu
SUMMARY:RFC Editor Tutorial
LOCATION:Acacia West
STATUS:CONFIRMED
CLASS:PUBLIC
DTSTART;TZID=Asia/Tokyo:20091108T130000
DTEND;TZID=Asia/Tokyo:20091108T145000
DTSTAMP:20161222T095709Z
DESCRIPTION:RFC Editor Tutorial\n
 \n
 Session materials: https://datatracker.ietf.org/meeting/76/session/edu\n
 \n
 See in schedule: https://datatracker.ietf.org/meeting/76/agenda#row-76-2009-11-08-sun-1300-edu-rfc-editor-tutorial\n
END:VEVENT
BEGIN:VEVENT
UID:ietf-76-1530-edu
SUMMARY:MIB Tutorial
LOCATION:Acacia West
STATUS:CONFIRMED
CLASS:PUBLIC
DTSTART;TZID=Asia/Tokyo:20091108T150000
DTEND;TZID=Asia/Tokyo:20091108T165000
DTSTAMP:20161222T095709Z
DESCRIPTION:MIB Tutorial\n
 \n
 Session materials: https://datatracker.ietf.org/meeting/76/session/edu\n
 \n
 See in schedule: https://datatracker.ietf.org/meeting/76/agenda#row-76-2009-11-08-sun-1500-edu-mib-tutorial\n
END:VEVENT
BEGIN:VEVENT
UID:ietf-76-1507-edu
SUMMARY:Newcomer's Training (Japanese)
LOCATION:Acacia East
STATUS:CONFIRMED
CLASS:PUBLIC
DTSTART;TZID=Asia/Tokyo:20091108T150000
DTEND;TZID=Asia/Tokyo:20091108T165000
DTSTAMP:20161222T095709Z
DESCRIPTION:Newcomer's Training (Japanese)\n
 \n
 Session materials: https://datatracker.ietf.org/meeting/76/session/edu\n
 \n
 See in schedule: https://datatracker.ietf.org/meeting/76/agenda#row-76-2009-11-08-sun-1500-edu-newcomers-training-japanese\n
END:VEVENT
BEGIN:VEVENT
UID:ietf-76-1409-ietf
SUMMARY:IETF Operations and Administration Plenary
LOCATION:Orchid
STATUS:CONFIRMED
CLASS:PUBLIC
DTSTART;TZID=Asia/Tokyo:20091111T163000
DTEND;TZID=Asia/Tokyo:20091111T193000
DTSTAMP:20161222T095709Z
URL:https://datatracker.ietf.org/meeting/76/materials/agenda-76-ietf-ietf-operations-and-administration-plenary
DESCRIPTION:IETF Operations and Administration Plenary\n
 \n
 Agenda https://datatracker.ietf.org/meeting/76/materials/agenda-76-ietf-ietf-operations-and-administration-plenary\n
 \n
 Session materials: https://datatracker.ietf.org/meeting/76/session/ietf\n
 \n
 See in schedule: https://datatracker.ietf.org/meeting/76/agenda#row-76-2009-11-11-wed-1630-1plenary-ietf\n
END:VEVENT
BEGIN:VEVENT
UID:ietf-76-1410-ietf
SUMMARY:Technical Plenary
LOCATION:Orchid
STATUS:CONFIRMED
CLASS:PUBLIC
DTSTART;TZID=Asia/Tokyo:20091112T163000
DTEND;TZID=Asia/Tokyo:20091112T193000
DTSTAMP:20161222T095708Z
URL:https://datatracker.ietf.org/meeting/76/materials/agenda-76-ietf-technical-plenary
DESCRIPTION:Technical Plenary\n
 \n
 Agenda https://datatracker.ietf.org/meeting/76/materials/agenda-76-ietf-technical-plenary\n
 \n
 Session materials: https://datatracker.ietf.org/meeting/76/session/ietf\n
 \n
 See in schedule: https://datatracker.ietf.org/meeting/76/agenda#row-76-2009-11-12-thu-1630-1plenary-ietf\n
END:VEVENT
END:VCALENDAR
