BEGIN:VCALENDAR
VERSION:2.0
METHOD:PUBLISH
PRODID:-//IETF//datatracker.ietf.org ical agenda//EN
BEGIN:VTIMEZONE
TZID:Asia/Tokyo
X-LIC-LOCATION:Asia/Tokyo
BEGIN:STANDARD
TZOFFSETFROM:+091859
TZOFFSETTO:+0900
TZNAME:JST
DTSTART:18880101T001859
RDATE:18880101T001859
END:STANDARD
BEGIN:STANDARD
TZOFFSETFROM:+0900
TZOFFSETTO:+0900
TZNAME:JCST
DTSTART:18960101T000000
RDATE:18960101T000000
END:STANDARD
BEGIN:STANDARD
TZOFFSETFROM:+0900
TZOFFSETTO:+0900
TZNAME:JST
DTSTART:19371001T000000
RDATE:19371001T000000
END:STANDARD
BEGIN:DAYLIGHT
TZOFFSETFROM:+0900
TZOFFSETTO:+1000
TZNAME:JDT
DTSTART:19480502T020000
RDATE:19480502T020000
RDATE:19490403T020000
RDATE:19500507T020000
RDATE:19510506T020000
END:DAYLIGHT
BEGIN:STANDARD
TZOFFSETFROM:+1000
TZOFFSETTO:+0900
TZNAME:JST
DTSTART:19480911T020000
RDATE:19480911T020000
RDATE:19490910T020000
RDATE:19500909T020000
RDATE:19510908T020000
END:STANDARD
END:VTIMEZONE
BEGIN:VEVENT
UID:ietf-76-1485-savi
SUMMARY:savi - Source Address Validation Improvements
LOCATION:Acacia West
STATUS:CONFIRMED
CLASS:PUBLIC
DTSTART;TZID=Asia/Tokyo:20091109T090000
DTEND;TZID=Asia/Tokyo:20091109T113000
DTSTAMP:20161222T095709Z
URL:https://datatracker.ietf.org/meeting/76/materials/agenda-76-savi
DESCRIPTION:Morning Session I\n
 \n
 Agenda https://datatracker.ietf.org/meeting/76/materials/agenda-76-savi\n
 \n
 Session materials: https://datatracker.ietf.org/meeting/76/session/savi\n
 \n
 See in schedule: https://datatracker.ietf.org/meeting/76/agenda#row-76-2009-11-09-mon-0900-int-savi\n
END:VEVENT
BEGIN:VEVENT
UID:ietf-76-1444-softwire
SUMMARY:softwire - Softwires
LOCATION:Orchid West
STATUS:CONFIRMED
CLASS:PUBLIC
DTSTART;TZID=Asia/Tokyo:20091109T090000
DTEND;TZID=Asia/Tokyo:20091109T113000
DTSTAMP:20161222T095709Z
URL:https://datatracker.ietf.org/meeting/76/materials/agenda-76-softwire
DESCRIPTION:Morning Session I\n
 \n
 Agenda https://datatracker.ietf.org/meeting/76/materials/agenda-76-softwire\n
 \n
 Session materials: https://datatracker.ietf.org/meeting/76/session/softwire\n
 \n
 See in schedule: https://datatracker.ietf.org/meeting/76/agenda#row-76-2009-11-09-mon-0900-int-softwire\n
END:VEVENT
BEGIN:VEVENT
UID:ietf-76-1419-intarea
SUMMARY:intarea - Internet Area Working Group
LOCATION:Orchid East
STATUS:CONFIRMED
CLASS:PUBLIC
DTSTART;TZID=Asia/Tokyo:20091109T130000
DTEND;TZID=Asia/Tokyo:20091109T150000
DTSTAMP:20161222T095709Z
URL:https://datatracker.ietf.org/meeting/76/materials/agenda-76-intarea
DESCRIPTION:Afternoon Session I\n
 \n
 Agenda https://datatracker.ietf.org/meeting/76/materials/agenda-76-intarea\n
 \n
 Session materials: https://datatracker.ietf.org/meeting/76/session/intarea\n
 \n
 See in schedule: https://datatracker.ietf.org/meeting/76/agenda#row-76-2009-11-09-mon-1300-int-intarea\n
END:VEVENT
BEGIN:VEVENT
UID:ietf-76-1455-csi
SUMMARY:csi - Cga & Send maIntenance
LOCATION:Orchid West
STATUS:CONFIRMED
CLASS:PUBLIC
DTSTART;TZID=Asia/Tokyo:20091109T152000
DTEND;TZID=Asia/Tokyo:20091109T172000
DTSTAMP:20161222T095709Z
URL:https://datatracker.ietf.org/meeting/76/materials/agenda-76-csi
DESCRIPTION:Afternoon Session II\n
 \n
 Agenda https://datatracker.ietf.org/meeting/76/materials/agenda-76-csi\n
 \n
 Session materials: https://datatracker.ietf.org/meeting/76/session/csi\n
 \n
 See in schedule: https://datatracker.ietf.org/meeting/76/agenda#row-76-2009-11-09-mon-1520-int-csi\n
END:VEVENT
BEGIN:VEVENT
UID:ietf-76-1457-mif
SUMMARY:mif - Multiple Interfaces
LOCATION:Acacia East
STATUS:CONFIRMED
CLASS:PUBLIC
DTSTART;TZID=Asia/Tokyo:20091109T152000
DTEND;TZID=Asia/Tokyo:20091109T172000
DTSTAMP:20161222T095709Z
URL:https://datatracker.ietf.org/meeting/76/materials/agenda-76-mif
DESCRIPTION:Afternoon Session II\n
 \n
 Agenda https://datatracker.ietf.org/meeting/76/materials/agenda-76-mif\n
 \n
 Session materials: https://datatracker.ietf.org/meeting/76/session/mif\n
 \n
 See in schedule: https://datatracker.ietf.org/meeting/76/agenda#row-76-2009-11-09-mon-1520-int-mif\n
END:VEVENT
BEGIN:VEVENT
UID:ietf-76-1454-autoconf
SUMMARY:autoconf - Ad-Hoc Network Autoconfiguration
LOCATION:Acacia West
STATUS:CONFIRMED
CLASS:PUBLIC
DTSTART;TZID=Asia/Tokyo:20091109T174000
DTEND;TZID=Asia/Tokyo:20091109T194000
DTSTAMP:20161222T095709Z
URL:https://datatracker.ietf.org/meeting/76/materials/agenda-76-autoconf
DESCRIPTION:Afternoon Session III\n
 \n
 Agenda https://datatracker.ietf.org/meeting/76/materials/agenda-76-autoconf\n
 \n
 Session materials: https://datatracker.ietf.org/meeting/76/session/autoconf\n
 \n
 See in schedule: https://datatracker.ietf.org/meeting/76/agenda#row-76-2009-11-09-mon-1740-int-autoconf\n
END:VEVENT
BEGIN:VEVENT
UID:ietf-76-1475-dnsext
SUMMARY:dnsext - DNS Extensions
LOCATION:Orchid East
STATUS:CONFIRMED
CLASS:PUBLIC
DTSTART;TZID=Asia/Tokyo:20091109T174000
DTEND;TZID=Asia/Tokyo:20091109T194000
DTSTAMP:20161222T095709Z
URL:https://datatracker.ietf.org/meeting/76/materials/agenda-76-dnsext
DESCRIPTION:Afternoon Session III\n
 \n
 Agenda https://datatracker.ietf.org/meeting/76/materials/agenda-76-dnsext\n
 \n
 Session materials: https://datatracker.ietf.org/meeting/76/session/dnsext\n
 \n
 See in schedule: https://datatracker.ietf.org/meeting/76/agenda#row-76-2009-11-09-mon-1740-int-dnsext\n
END:VEVENT
BEGIN:VEVENT
UID:ietf-76-1479-6man
SUMMARY:6man - IPv6 Maintenance
LOCATION:Orchid West
STATUS:CONFIRMED
CLASS:PUBLIC
DTSTART;TZID=Asia/Tokyo:20091110T090000
DTEND;TZID=Asia/Tokyo:20091110T113000
DTSTAMP:20161222T095709Z
URL:https://datatracker.ietf.org/meeting/76/materials/agenda-76-6man
DESCRIPTION:Morning Session I\n
 \n
 Agenda https://datatracker.ietf.org/meeting/76/materials/agenda-76-6man\n
 \n
 Session materials: https://datatracker.ietf.org/meeting/76/session/6man\n
 \n
 See in schedule: https://datatracker.ietf.org/meeting/76/agenda#row-76-2009-11-10-tue-0900-int-6man\n
END:VEVENT
BEGIN:VEVENT
UID:ietf-76-1435-6lowpan
SUMMARY:6lowpan - IPv6 over Low power WPAN
LOCATION:Orchid West
STATUS:CONFIRMED
CLASS:PUBLIC
DTSTART;TZID=Asia/Tokyo:20091110T130000
DTEND;TZID=Asia/Tokyo:20091110T150000
DTSTAMP:20161222T095709Z
URL:https://datatracker.ietf.org/meeting/76/materials/agenda-76-6lowpan
DESCRIPTION:Afternoon Session I\n
 \n
 Agenda https://datatracker.ietf.org/meeting/76/materials/agenda-76-6lowpan\n
 \n
 Session materials: https://datatracker.ietf.org/meeting/76/session/6lowpan\n
 \n
 See in schedule: https://datatracker.ietf.org/meeting/76/agenda#row-76-2009-11-10-tue-1300-int-6lowpan\n
END:VEVENT
BEGIN:VEVENT
UID:ietf-76-1480-mip4
SUMMARY:mip4 - Mobility for IPv4
LOCATION:Cattleya West
STATUS:CONFIRMED
CLASS:PUBLIC
DTSTART;TZID=Asia/Tokyo:20091110T130000
DTEND;TZID=Asia/Tokyo:20091110T150000
DTSTAMP:20161222T095709Z
URL:https://datatracker.ietf.org/meeting/76/materials/agenda-76-mip4
DESCRIPTION:Afternoon Session I\n
 \n
 Agenda https://datatracker.ietf.org/meeting/76/materials/agenda-76-mip4\n
 \n
 Session materials: https://datatracker.ietf.org/meeting/76/session/mip4\n
 \n
 See in schedule: https://datatracker.ietf.org/meeting/76/agenda#row-76-2009-11-10-tue-1300-int-mip4\n
END:VEVENT
BEGIN:VEVENT
UID:ietf-76-1427-ancp
SUMMARY:ancp - Access Node Control Protocol
LOCATION:Orchid West
STATUS:CONFIRMED
CLASS:PUBLIC
DTSTART;TZID=Asia/Tokyo:20091110T152000
DTEND;TZID=Asia/Tokyo:20091110T170000
DTSTAMP:20161222T095709Z
URL:https://datatracker.ietf.org/meeting/76/materials/agenda-76-ancp
DESCRIPTION:Afternoon Session II\n
 \n
 Agenda https://datatracker.ietf.org/meeting/76/materials/agenda-76-ancp\n
 \n
 Session materials: https://datatracker.ietf.org/meeting/76/session/ancp\n
 \n
 See in schedule: https://datatracker.ietf.org/meeting/76/agenda#row-76-2009-11-10-tue-1520-int-ancp\n
END:VEVENT
BEGIN:VEVENT
UID:ietf-76-1451-mext
SUMMARY:mext - Mobility EXTensions for IPv6
LOCATION:Orchid Centre
STATUS:CONFIRMED
CLASS:PUBLIC
DTSTART;TZID=Asia/Tokyo:20091110T152000
DTEND;TZID=Asia/Tokyo:20091110T170000
DTSTAMP:20161222T095709Z
URL:https://datatracker.ietf.org/meeting/76/materials/agenda-76-mext
DESCRIPTION:Afternoon Session II\n
 \n
 Agenda https://datatracker.ietf.org/meeting/76/materials/agenda-76-mext\n
 \n
 Session materials: https://datatracker.ietf.org/meeting/76/session/mext\n
 \n
 See in schedule: https://datatracker.ietf.org/meeting/76/agenda#row-76-2009-11-10-tue-1520-int-mext\n
END:VEVENT
BEGIN:VEVENT
UID:ietf-76-1519-aplusp
SUMMARY:aplusp - Address Plus Port
LOCATION:Orchid Centre
STATUS:CONFIRMED
CLASS:PUBLIC
DTSTART;TZID=Asia/Tokyo:20091111T130000
DTEND;TZID=Asia/Tokyo:20091111T150000
DTSTAMP:20161222T095709Z
URL:https://datatracker.ietf.org/meeting/76/materials/agenda-76-aplusp
DESCRIPTION:Afternoon Session I\n
 \n
 Agenda https://datatracker.ietf.org/meeting/76/materials/agenda-76-aplusp\n
 \n
 Session materials: https://datatracker.ietf.org/meeting/76/session/aplusp\n
 \n
 See in schedule: https://datatracker.ietf.org/meeting/76/agenda#row-76-2009-11-11-wed-1300-int-aplusp\n
END:VEVENT
BEGIN:VEVENT
UID:ietf-76-1481-netext
SUMMARY:netext - Network-Based Mobility Extensions
LOCATION:Acacia East
STATUS:CONFIRMED
CLASS:PUBLIC
DTSTART;TZID=Asia/Tokyo:20091111T130000
DTEND;TZID=Asia/Tokyo:20091111T150000
DTSTAMP:20161222T095709Z
URL:https://datatracker.ietf.org/meeting/76/materials/agenda-76-netext
DESCRIPTION:Afternoon Session I\n
 \n
 Agenda https://datatracker.ietf.org/meeting/76/materials/agenda-76-netext\n
 \n
 Session materials: https://datatracker.ietf.org/meeting/76/session/netext\n
 \n
 See in schedule: https://datatracker.ietf.org/meeting/76/agenda#row-76-2009-11-11-wed-1300-int-netext\n
END:VEVENT
BEGIN:VEVENT
UID:ietf-76-1418-dhc
SUMMARY:dhc - Dynamic Host Configuration
LOCATION:Acacia West
STATUS:CONFIRMED
CLASS:PUBLIC
DTSTART;TZID=Asia/Tokyo:20091112T090000
DTEND;TZID=Asia/Tokyo:20091112T113000
DTSTAMP:20161222T095709Z
URL:https://datatracker.ietf.org/meeting/76/materials/agenda-76-dhc
DESCRIPTION:Morning Session I\n
 \n
 Agenda https://datatracker.ietf.org/meeting/76/materials/agenda-76-dhc\n
 \n
 Session materials: https://datatracker.ietf.org/meeting/76/session/dhc\n
 \n
 See in schedule: https://datatracker.ietf.org/meeting/76/agenda#row-76-2009-11-12-thu-0900-int-dhc\n
END:VEVENT
BEGIN:VEVENT
UID:ietf-76-1488-lisp
SUMMARY:lisp - Locator/ID Separation Protocol
LOCATION:Orchid East
STATUS:CONFIRMED
CLASS:PUBLIC
DTSTART;TZID=Asia/Tokyo:20091112T090000
DTEND;TZID=Asia/Tokyo:20091112T113000
DTSTAMP:20161222T095709Z
URL:https://datatracker.ietf.org/meeting/76/materials/agenda-76-lisp
DESCRIPTION:Morning Session I\n
 \n
 Agenda https://datatracker.ietf.org/meeting/76/materials/agenda-76-lisp\n
 \n
 Session materials: https://datatracker.ietf.org/meeting/76/session/lisp\n
 \n
 See in schedule: https://datatracker.ietf.org/meeting/76/agenda#row-76-2009-11-12-thu-0900-int-lisp\n
END:VEVENT
BEGIN:VEVENT
UID:ietf-76-1461-multimob
SUMMARY:multimob - Multicast Mobility
LOCATION:Cattleya West
STATUS:CONFIRMED
CLASS:PUBLIC
DTSTART;TZID=Asia/Tokyo:20091112T130000
DTEND;TZID=Asia/Tokyo:20091112T150000
DTSTAMP:20161222T095709Z
URL:https://datatracker.ietf.org/meeting/76/materials/agenda-76-multimob
DESCRIPTION:Afternoon Session I\n
 \n
 Agenda https://datatracker.ietf.org/meeting/76/materials/agenda-76-multimob\n
 \n
 Session materials: https://datatracker.ietf.org/meeting/76/session/multimob\n
 \n
 See in schedule: https://datatracker.ietf.org/meeting/76/agenda#row-76-2009-11-12-thu-1300-int-multimob\n
END:VEVENT
BEGIN:VEVENT
UID:ietf-76-1489-lisp
SUMMARY:lisp - Locator/ID Separation Protocol
LOCATION:Orchid West
STATUS:CONFIRMED
CLASS:PUBLIC
DTSTART;TZID=Asia/Tokyo:20091113T090000
DTEND;TZID=Asia/Tokyo:20091113T113000
DTSTAMP:20161222T095708Z
URL:https://datatracker.ietf.org/meeting/76/materials/agenda-76-lisp
DESCRIPTION:Morning Session I\n
 \n
 Agenda https://datatracker.ietf.org/meeting/76/materials/agenda-76-lisp\n
 \n
 Session materials: https://datatracker.ietf.org/meeting/76/session/lisp\n
 \n
 See in schedule: https://datatracker.ietf.org/meeting/76/agenda#row-76-2009-11-13-fri-0900-int-lisp\n
END:VEVENT
BEGIN:VEVENT
UID:ietf-76-1452-mext
SUMMARY:mext - Mobility EXTensions for IPv6
LOCATION:Orchid Centre
STATUS:CONFIRMED
CLASS:PUBLIC
DTSTART;TZID=Asia/Tokyo:20091113T130000
DTEND;TZID=Asia/Tokyo:20091113T140000
DTSTAMP:20161222T095708Z
DESCRIPTION:Afternoon Session I\n
 \n
 Session materials: https://datatracker.ietf.org/meeting/76/session/mext\n
 \n
 See in schedule: https://datatracker.ietf.org/meeting/76/agenda#row-76-2009-11-13-fri-1300-int-mext\n
END:VEVENT
BEGIN:VEVENT
UID:ietf-76-1453-mext
SUMMARY:mext - Mobility EXTensions for IPv6
LOCATION:Orchid Centre
STATUS:CONFIRMED
CLASS:PUBLIC
DTSTART;TZID=Asia/Tokyo:20091113T141500
DTEND;TZID=Asia/Tokyo:20091113T151500
DTSTAMP:20161222T095708Z
DESCRIPTION:Afternoon Session II\n
 \n
 Session materials: https://datatracker.ietf.org/meeting/76/session/mext\n
 \n
 See in schedule: https://datatracker.ietf.org/meeting/76/agenda#row-76-2009-11-13-fri-1415-int-mext\n
END:VEVENT
END:VCALENDAR
