BEGIN:VCALENDAR
VERSION:2.0
METHOD:PUBLISH
PRODID:-//IETF//datatracker.ietf.org ical agenda//EN
BEGIN:VTIMEZONE
TZID:Asia/Tokyo
X-LIC-LOCATION:Asia/Tokyo
BEGIN:STANDARD
TZOFFSETFROM:+091859
TZOFFSETTO:+0900
TZNAME:JST
DTSTART:18880101T001859
RDATE:18880101T001859
END:STANDARD
BEGIN:STANDARD
TZOFFSETFROM:+0900
TZOFFSETTO:+0900
TZNAME:JCST
DTSTART:18960101T000000
RDATE:18960101T000000
END:STANDARD
BEGIN:STANDARD
TZOFFSETFROM:+0900
TZOFFSETTO:+0900
TZNAME:JST
DTSTART:19371001T000000
RDATE:19371001T000000
END:STANDARD
BEGIN:DAYLIGHT
TZOFFSETFROM:+0900
TZOFFSETTO:+1000
TZNAME:JDT
DTSTART:19480502T020000
RDATE:19480502T020000
RDATE:19490403T020000
RDATE:19500507T020000
RDATE:19510506T020000
END:DAYLIGHT
BEGIN:STANDARD
TZOFFSETFROM:+1000
TZOFFSETTO:+0900
TZNAME:JST
DTSTART:19480911T020000
RDATE:19480911T020000
RDATE:19490910T020000
RDATE:19500909T020000
RDATE:19510908T020000
END:STANDARD
END:VTIMEZONE
BEGIN:VEVENT
UID:ietf-76-1450-hiprg
SUMMARY:hiprg - Host Identity Protocol
LOCATION:Cattleya West
STATUS:CONFIRMED
CLASS:PUBLIC
DTSTART;TZID=Asia/Tokyo:20091109T090000
DTEND;TZID=Asia/Tokyo:20091109T113000
DTSTAMP:20161222T095709Z
URL:https://datatracker.ietf.org/meeting/76/materials/agenda-76-hiprg
DESCRIPTION:Morning Session I\n
 \n
 Agenda https://datatracker.ietf.org/meeting/76/materials/agenda-76-hiprg\n
 \n
 Session materials: https://datatracker.ietf.org/meeting/76/session/hiprg\n
 \n
 See in schedule: https://datatracker.ietf.org/meeting/76/agenda#row-76-2009-11-09-mon-0900-irtf-hiprg\n
END:VEVENT
BEGIN:VEVENT
UID:ietf-76-1438-samrg
SUMMARY:samrg - Scalable Adaptive Multicast Research Group
LOCATION:Cattleya West
STATUS:CONFIRMED
CLASS:PUBLIC
DTSTART;TZID=Asia/Tokyo:20091109T130000
DTEND;TZID=Asia/Tokyo:20091109T150000
DTSTAMP:20161222T095709Z
URL:https://datatracker.ietf.org/meeting/76/materials/agenda-76-samrg
DESCRIPTION:Afternoon Session I\n
 \n
 Agenda https://datatracker.ietf.org/meeting/76/materials/agenda-76-samrg\n
 \n
 Session materials: https://datatracker.ietf.org/meeting/76/session/samrg\n
 \n
 See in schedule: https://datatracker.ietf.org/meeting/76/agenda#row-76-2009-11-09-mon-1300-irtf-samrg\n
END:VEVENT
BEGIN:VEVENT
UID:ietf-76-1473-dtnrg
SUMMARY:dtnrg - Delay-Tolerant Networking Research Group
LOCATION:Cattleya West
STATUS:CONFIRMED
CLASS:PUBLIC
DTSTART;TZID=Asia/Tokyo:20091113T090000
DTEND;TZID=Asia/Tokyo:20091113T113000
DTSTAMP:20161222T095708Z
URL:https://datatracker.ietf.org/meeting/76/materials/agenda-76-dtnrg
DESCRIPTION:Morning Session I\n
 \n
 Agenda https://datatracker.ietf.org/meeting/76/materials/agenda-76-dtnrg\n
 \n
 Session materials: https://datatracker.ietf.org/meeting/76/session/dtnrg\n
 \n
 See in schedule: https://datatracker.ietf.org/meeting/76/agenda#row-76-2009-11-13-fri-0900-irtf-dtnrg\n
END:VEVENT
BEGIN:VEVENT
UID:ietf-76-1420-rrg
SUMMARY:rrg - Routing Research Group
LOCATION:Acacia East
STATUS:CONFIRMED
CLASS:PUBLIC
DTSTART;TZID=Asia/Tokyo:20091113T090000
DTEND;TZID=Asia/Tokyo:20091113T113000
DTSTAMP:20161222T095708Z
URL:https://datatracker.ietf.org/meeting/76/materials/agenda-76-rrg
DESCRIPTION:Morning Session I\n
 \n
 Agenda https://datatracker.ietf.org/meeting/76/materials/agenda-76-rrg\n
 \n
 Session materials: https://datatracker.ietf.org/meeting/76/session/rrg\n
 \n
 See in schedule: https://datatracker.ietf.org/meeting/76/agenda#row-76-2009-11-13-fri-0900-irtf-rrg\n
END:VEVENT
BEGIN:VEVENT
UID:ietf-76-1421-rrg
SUMMARY:rrg - Routing Research Group
LOCATION:Acacia East
STATUS:CONFIRMED
CLASS:PUBLIC
DTSTART;TZID=Asia/Tokyo:20091113T130000
DTEND;TZID=Asia/Tokyo:20091113T140000
DTSTAMP:20161222T095708Z
URL:https://datatracker.ietf.org/meeting/76/materials/agenda-76-rrg
DESCRIPTION:Afternoon Session I\n
 \n
 Agenda https://datatracker.ietf.org/meeting/76/materials/agenda-76-rrg\n
 \n
 Session materials: https://datatracker.ietf.org/meeting/76/session/rrg\n
 \n
 See in schedule: https://datatracker.ietf.org/meeting/76/agenda#row-76-2009-11-13-fri-1300-irtf-rrg\n
END:VEVENT
BEGIN:VEVENT
UID:ietf-76-1422-rrg
SUMMARY:rrg - Routing Research Group
LOCATION:Acacia East
STATUS:CONFIRMED
CLASS:PUBLIC
DTSTART;TZID=Asia/Tokyo:20091113T141500
DTEND;TZID=Asia/Tokyo:20091113T151500
DTSTAMP:20161222T095708Z
URL:https://datatracker.ietf.org/meeting/76/materials/agenda-76-rrg
DESCRIPTION:Afternoon Session II\n
 \n
 Agenda https://datatracker.ietf.org/meeting/76/materials/agenda-76-rrg\n
 \n
 Session materials: https://datatracker.ietf.org/meeting/76/session/rrg\n
 \n
 See in schedule: https://datatracker.ietf.org/meeting/76/agenda#row-76-2009-11-13-fri-1415-irtf-rrg\n
END:VEVENT
END:VCALENDAR
