BEGIN:VCALENDAR
VERSION:2.0
METHOD:PUBLISH
PRODID:-//IETF//datatracker.ietf.org ical agenda//EN
BEGIN:VTIMEZONE
TZID:Asia/Tokyo
X-LIC-LOCATION:Asia/Tokyo
BEGIN:STANDARD
TZOFFSETFROM:+091859
TZOFFSETTO:+0900
TZNAME:JST
DTSTART:18880101T001859
RDATE:18880101T001859
END:STANDARD
BEGIN:STANDARD
TZOFFSETFROM:+0900
TZOFFSETTO:+0900
TZNAME:JCST
DTSTART:18960101T000000
RDATE:18960101T000000
END:STANDARD
BEGIN:STANDARD
TZOFFSETFROM:+0900
TZOFFSETTO:+0900
TZNAME:JST
DTSTART:19371001T000000
RDATE:19371001T000000
END:STANDARD
BEGIN:DAYLIGHT
TZOFFSETFROM:+0900
TZOFFSETTO:+1000
TZNAME:JDT
DTSTART:19480502T020000
RDATE:19480502T020000
RDATE:19490403T020000
RDATE:19500507T020000
RDATE:19510506T020000
END:DAYLIGHT
BEGIN:STANDARD
TZOFFSETFROM:+1000
TZOFFSETTO:+0900
TZNAME:JST
DTSTART:19480911T020000
RDATE:19480911T020000
RDATE:19490910T020000
RDATE:19500909T020000
RDATE:19510908T020000
END:STANDARD
END:VTIMEZONE
BEGIN:VEVENT
UID:ietf-76-1501-dime
SUMMARY:dime - Diameter Maintenance and Extensions
LOCATION:Cattleya East
STATUS:CONFIRMED
CLASS:PUBLIC
DTSTART;TZID=Asia/Tokyo:20091109T090000
DTEND;TZID=Asia/Tokyo:20091109T113000
DTSTAMP:20161222T095709Z
URL:https://datatracker.ietf.org/meeting/76/materials/agenda-76-dime
DESCRIPTION:Morning Session I\n
 \n
 Agenda https://datatracker.ietf.org/meeting/76/materials/agenda-76-dime\n
 \n
 Session materials: https://datatracker.ietf.org/meeting/76/session/dime\n
 \n
 See in schedule: https://datatracker.ietf.org/meeting/76/agenda#row-76-2009-11-09-mon-0900-ops-dime\n
END:VEVENT
BEGIN:VEVENT
UID:ietf-76-1460-netconf
SUMMARY:netconf - Network Configuration
LOCATION:Cattleya East
STATUS:CONFIRMED
CLASS:PUBLIC
DTSTART;TZID=Asia/Tokyo:20091109T152000
DTEND;TZID=Asia/Tokyo:20091109T172000
DTSTAMP:20161222T095709Z
URL:https://datatracker.ietf.org/meeting/76/materials/agenda-76-netconf
DESCRIPTION:Afternoon Session II\n
 \n
 Agenda https://datatracker.ietf.org/meeting/76/materials/agenda-76-netconf\n
 \n
 Session materials: https://datatracker.ietf.org/meeting/76/session/netconf\n
 \n
 See in schedule: https://datatracker.ietf.org/meeting/76/agenda#row-76-2009-11-09-mon-1520-ops-netconf\n
END:VEVENT
BEGIN:VEVENT
UID:ietf-76-1496-mboned
SUMMARY:mboned - MBONE Deployment
LOCATION:Acacia East
STATUS:CONFIRMED
CLASS:PUBLIC
DTSTART;TZID=Asia/Tokyo:20091109T174000
DTEND;TZID=Asia/Tokyo:20091109T194000
DTSTAMP:20161222T095709Z
URL:https://datatracker.ietf.org/meeting/76/materials/agenda-76-mboned
DESCRIPTION:Afternoon Session III\n
 \n
 Agenda https://datatracker.ietf.org/meeting/76/materials/agenda-76-mboned\n
 \n
 Session materials: https://datatracker.ietf.org/meeting/76/session/mboned\n
 \n
 See in schedule: https://datatracker.ietf.org/meeting/76/agenda#row-76-2009-11-09-mon-1740-ops-mboned\n
END:VEVENT
BEGIN:VEVENT
UID:ietf-76-1448-netmod
SUMMARY:netmod - NETCONF Data Modeling Language
LOCATION:Cattleya East
STATUS:CONFIRMED
CLASS:PUBLIC
DTSTART;TZID=Asia/Tokyo:20091110T090000
DTEND;TZID=Asia/Tokyo:20091110T113000
DTSTAMP:20161222T095709Z
URL:https://datatracker.ietf.org/meeting/76/materials/agenda-76-netmod
DESCRIPTION:Morning Session I\n
 \n
 Agenda https://datatracker.ietf.org/meeting/76/materials/agenda-76-netmod\n
 \n
 Session materials: https://datatracker.ietf.org/meeting/76/session/netmod\n
 \n
 See in schedule: https://datatracker.ietf.org/meeting/76/agenda#row-76-2009-11-10-tue-0900-ops-netmod\n
END:VEVENT
BEGIN:VEVENT
UID:ietf-76-1412-v6ops
SUMMARY:v6ops - IPv6 Operations
LOCATION:Orchid Centre
STATUS:CONFIRMED
CLASS:PUBLIC
DTSTART;TZID=Asia/Tokyo:20091110T130000
DTEND;TZID=Asia/Tokyo:20091110T150000
DTSTAMP:20161222T095709Z
URL:https://datatracker.ietf.org/meeting/76/materials/agenda-76-v6ops
DESCRIPTION:Afternoon Session I\n
 \n
 Agenda https://datatracker.ietf.org/meeting/76/materials/agenda-76-v6ops\n
 \n
 Session materials: https://datatracker.ietf.org/meeting/76/session/v6ops\n
 \n
 See in schedule: https://datatracker.ietf.org/meeting/76/agenda#row-76-2009-11-10-tue-1300-ops-v6ops\n
END:VEVENT
BEGIN:VEVENT
UID:ietf-76-1500-opsec
SUMMARY:opsec - Operational Security Capabilities for IP Network Infrastructure
LOCATION:Camellia
STATUS:CONFIRMED
CLASS:PUBLIC
DTSTART;TZID=Asia/Tokyo:20091110T152000
DTEND;TZID=Asia/Tokyo:20091110T170000
DTSTAMP:20161222T095709Z
URL:https://datatracker.ietf.org/meeting/76/materials/agenda-76-opsec
DESCRIPTION:Afternoon Session II\n
 \n
 Agenda https://datatracker.ietf.org/meeting/76/materials/agenda-76-opsec\n
 \n
 Session materials: https://datatracker.ietf.org/meeting/76/session/opsec\n
 \n
 See in schedule: https://datatracker.ietf.org/meeting/76/agenda#row-76-2009-11-10-tue-1520-ops-opsec\n
END:VEVENT
BEGIN:VEVENT
UID:ietf-76-1528-opsawg
SUMMARY:opsawg - Operations and Management Area Working Group
LOCATION:Acacia East
STATUS:CONFIRMED
CLASS:PUBLIC
DTSTART;TZID=Asia/Tokyo:20091110T171000
DTEND;TZID=Asia/Tokyo:20091110T181000
DTSTAMP:20161222T095709Z
URL:https://datatracker.ietf.org/meeting/76/materials/agenda-76-opsawg
DESCRIPTION:Afternoon Session III\n
 \n
 Agenda https://datatracker.ietf.org/meeting/76/materials/agenda-76-opsawg\n
 \n
 Session materials: https://datatracker.ietf.org/meeting/76/session/opsawg\n
 \n
 See in schedule: https://datatracker.ietf.org/meeting/76/agenda#row-76-2009-11-10-tue-1710-ops-opsawg\n
END:VEVENT
BEGIN:VEVENT
UID:ietf-76-1471-grow
SUMMARY:grow - Global Routing Operations
LOCATION:Acacia East
STATUS:CONFIRMED
CLASS:PUBLIC
DTSTART;TZID=Asia/Tokyo:20091111T090000
DTEND;TZID=Asia/Tokyo:20091111T101500
DTSTAMP:20161222T095709Z
URL:https://datatracker.ietf.org/meeting/76/materials/agenda-76-grow
DESCRIPTION:Morning Session I\n
 \n
 Agenda https://datatracker.ietf.org/meeting/76/materials/agenda-76-grow\n
 \n
 Session materials: https://datatracker.ietf.org/meeting/76/session/grow\n
 \n
 See in schedule: https://datatracker.ietf.org/meeting/76/agenda#row-76-2009-11-11-wed-0900-ops-grow\n
END:VEVENT
BEGIN:VEVENT
UID:ietf-76-1472-grow
SUMMARY:grow - Global Routing Operations
LOCATION:Acacia East
STATUS:CONFIRMED
CLASS:PUBLIC
DTSTART;TZID=Asia/Tokyo:20091111T103000
DTEND;TZID=Asia/Tokyo:20091111T113000
DTSTAMP:20161222T095709Z
URL:https://datatracker.ietf.org/meeting/76/materials/agenda-76-grow
DESCRIPTION:Morning Session II\n
 \n
 Agenda https://datatracker.ietf.org/meeting/76/materials/agenda-76-grow\n
 \n
 Session materials: https://datatracker.ietf.org/meeting/76/session/grow\n
 \n
 See in schedule: https://datatracker.ietf.org/meeting/76/agenda#row-76-2009-11-11-wed-1030-ops-grow\n
END:VEVENT
BEGIN:VEVENT
UID:ietf-76-1474-dnsop
SUMMARY:dnsop - Domain Name System Operations
LOCATION:Orchid West
STATUS:CONFIRMED
CLASS:PUBLIC
DTSTART;TZID=Asia/Tokyo:20091111T130000
DTEND;TZID=Asia/Tokyo:20091111T150000
DTSTAMP:20161222T095709Z
URL:https://datatracker.ietf.org/meeting/76/materials/agenda-76-dnsop
DESCRIPTION:Afternoon Session I\n
 \n
 Agenda https://datatracker.ietf.org/meeting/76/materials/agenda-76-dnsop\n
 \n
 Session materials: https://datatracker.ietf.org/meeting/76/session/dnsop\n
 \n
 See in schedule: https://datatracker.ietf.org/meeting/76/agenda#row-76-2009-11-11-wed-1300-ops-dnsop\n
END:VEVENT
BEGIN:VEVENT
UID:ietf-76-1414-ipfix
SUMMARY:ipfix - IP Flow Information Export
LOCATION:Cattleya West
STATUS:CONFIRMED
CLASS:PUBLIC
DTSTART;TZID=Asia/Tokyo:20091111T130000
DTEND;TZID=Asia/Tokyo:20091111T150000
DTSTAMP:20161222T095709Z
URL:https://datatracker.ietf.org/meeting/76/materials/agenda-76-ipfix
DESCRIPTION:Afternoon Session I\n
 \n
 Agenda https://datatracker.ietf.org/meeting/76/materials/agenda-76-ipfix\n
 \n
 Session materials: https://datatracker.ietf.org/meeting/76/session/ipfix\n
 \n
 See in schedule: https://datatracker.ietf.org/meeting/76/agenda#row-76-2009-11-11-wed-1300-ops-ipfix\n
END:VEVENT
BEGIN:VEVENT
UID:ietf-76-1464-opsarea
SUMMARY:opsarea - Operations & Management Area Open Meeting
LOCATION:Orchid West
STATUS:CONFIRMED
CLASS:PUBLIC
DTSTART;TZID=Asia/Tokyo:20091112T090000
DTEND;TZID=Asia/Tokyo:20091112T113000
DTSTAMP:20161222T095709Z
URL:https://datatracker.ietf.org/meeting/76/materials/agenda-76-opsarea
DESCRIPTION:Morning Session I\n
 \n
 Agenda https://datatracker.ietf.org/meeting/76/materials/agenda-76-opsarea\n
 \n
 Session materials: https://datatracker.ietf.org/meeting/76/session/opsarea\n
 \n
 See in schedule: https://datatracker.ietf.org/meeting/76/agenda#row-76-2009-11-12-thu-0900-ops-opsarea\n
END:VEVENT
BEGIN:VEVENT
UID:ietf-76-1413-v6ops
SUMMARY:v6ops - IPv6 Operations
LOCATION:Acacia West
STATUS:CONFIRMED
CLASS:PUBLIC
DTSTART;TZID=Asia/Tokyo:20091112T130000
DTEND;TZID=Asia/Tokyo:20091112T150000
DTSTAMP:20161222T095708Z
URL:https://datatracker.ietf.org/meeting/76/materials/agenda-76-v6ops
DESCRIPTION:Afternoon Session I\n
 \n
 Agenda https://datatracker.ietf.org/meeting/76/materials/agenda-76-v6ops\n
 \n
 Session materials: https://datatracker.ietf.org/meeting/76/session/v6ops\n
 \n
 See in schedule: https://datatracker.ietf.org/meeting/76/agenda#row-76-2009-11-12-thu-1300-ops-v6ops\n
END:VEVENT
END:VCALENDAR
