BEGIN:VCALENDAR
VERSION:2.0
METHOD:PUBLISH
PRODID:-//IETF//datatracker.ietf.org ical agenda//EN
BEGIN:VTIMEZONE
TZID:Asia/Tokyo
X-LIC-LOCATION:Asia/Tokyo
BEGIN:STANDARD
TZOFFSETFROM:+091859
TZOFFSETTO:+0900
TZNAME:JST
DTSTART:18880101T001859
RDATE:18880101T001859
END:STANDARD
BEGIN:STANDARD
TZOFFSETFROM:+0900
TZOFFSETTO:+0900
TZNAME:JCST
DTSTART:18960101T000000
RDATE:18960101T000000
END:STANDARD
BEGIN:STANDARD
TZOFFSETFROM:+0900
TZOFFSETTO:+0900
TZNAME:JST
DTSTART:19371001T000000
RDATE:19371001T000000
END:STANDARD
BEGIN:DAYLIGHT
TZOFFSETFROM:+0900
TZOFFSETTO:+1000
TZNAME:JDT
DTSTART:19480502T020000
RDATE:19480502T020000
RDATE:19490403T020000
RDATE:19500507T020000
RDATE:19510506T020000
END:DAYLIGHT
BEGIN:STANDARD
TZOFFSETFROM:+1000
TZOFFSETTO:+0900
TZNAME:JST
DTSTART:19480911T020000
RDATE:19480911T020000
RDATE:19490910T020000
RDATE:19500909T020000
RDATE:19510908T020000
END:STANDARD
END:VTIMEZONE
BEGIN:VEVENT
UID:ietf-76-1482-sipcore
SUMMARY:sipcore - Session Initiation Protocol Core
LOCATION:Orchid East
STATUS:CONFIRMED
CLASS:PUBLIC
DTSTART;TZID=Asia/Tokyo:20091109T090000
DTEND;TZID=Asia/Tokyo:20091109T113000
DTSTAMP:20161222T095709Z
URL:https://datatracker.ietf.org/meeting/76/materials/agenda-76-sipcore
DESCRIPTION:Morning Session I\n
 \n
 Agenda https://datatracker.ietf.org/meeting/76/materials/agenda-76-sipcore\n
 \n
 Session materials: https://datatracker.ietf.org/meeting/76/session/sipcore\n
 \n
 See in schedule: https://datatracker.ietf.org/meeting/76/agenda#row-76-2009-11-09-mon-0900-rai-sipcore\n
END:VEVENT
BEGIN:VEVENT
UID:ietf-76-1433-avt
SUMMARY:avt - Audio/Video Transport
LOCATION:Orchid West
STATUS:CONFIRMED
CLASS:PUBLIC
DTSTART;TZID=Asia/Tokyo:20091109T130000
DTEND;TZID=Asia/Tokyo:20091109T150000
DTSTAMP:20161222T095709Z
URL:https://datatracker.ietf.org/meeting/76/materials/agenda-76-avt
DESCRIPTION:Afternoon Session I\n
 \n
 Agenda https://datatracker.ietf.org/meeting/76/materials/agenda-76-avt\n
 \n
 Session materials: https://datatracker.ietf.org/meeting/76/session/avt\n
 \n
 See in schedule: https://datatracker.ietf.org/meeting/76/agenda#row-76-2009-11-09-mon-1300-rai-avt\n
END:VEVENT
BEGIN:VEVENT
UID:ietf-76-1502-sipclf
SUMMARY:sipclf - SIP Common Log Format
LOCATION:Camellia
STATUS:CONFIRMED
CLASS:PUBLIC
DTSTART;TZID=Asia/Tokyo:20091109T130000
DTEND;TZID=Asia/Tokyo:20091109T150000
DTSTAMP:20161222T095709Z
URL:https://datatracker.ietf.org/meeting/76/materials/agenda-76-sipclf
DESCRIPTION:Afternoon Session I\n
 \n
 Agenda https://datatracker.ietf.org/meeting/76/materials/agenda-76-sipclf\n
 \n
 Session materials: https://datatracker.ietf.org/meeting/76/session/sipclf\n
 \n
 See in schedule: https://datatracker.ietf.org/meeting/76/agenda#row-76-2009-11-09-mon-1300-rai-sipclf\n
END:VEVENT
BEGIN:VEVENT
UID:ietf-76-1440-p2psip
SUMMARY:p2psip - Peer-to-Peer Session Initiation Protocol
LOCATION:Orchid Centre
STATUS:CONFIRMED
CLASS:PUBLIC
DTSTART;TZID=Asia/Tokyo:20091109T152000
DTEND;TZID=Asia/Tokyo:20091109T172000
DTSTAMP:20161222T095709Z
URL:https://datatracker.ietf.org/meeting/76/materials/agenda-76-p2psip
DESCRIPTION:Afternoon Session II\n
 \n
 Agenda https://datatracker.ietf.org/meeting/76/materials/agenda-76-p2psip\n
 \n
 Session materials: https://datatracker.ietf.org/meeting/76/session/p2psip\n
 \n
 See in schedule: https://datatracker.ietf.org/meeting/76/agenda#row-76-2009-11-09-mon-1520-rai-p2psip\n
END:VEVENT
BEGIN:VEVENT
UID:ietf-76-1503-mediactrl
SUMMARY:mediactrl - Media Server Control
LOCATION:Camellia
STATUS:CONFIRMED
CLASS:PUBLIC
DTSTART;TZID=Asia/Tokyo:20091109T174000
DTEND;TZID=Asia/Tokyo:20091109T194000
DTSTAMP:20161222T095709Z
URL:https://datatracker.ietf.org/meeting/76/materials/agenda-76-mediactrl
DESCRIPTION:Afternoon Session III\n
 \n
 Agenda https://datatracker.ietf.org/meeting/76/materials/agenda-76-mediactrl\n
 \n
 Session materials: https://datatracker.ietf.org/meeting/76/session/mediactrl\n
 \n
 See in schedule: https://datatracker.ietf.org/meeting/76/agenda#row-76-2009-11-09-mon-1740-rai-mediactrl\n
END:VEVENT
BEGIN:VEVENT
UID:ietf-76-1428-dispatch
SUMMARY:dispatch - Dispatch
LOCATION:Orchid Centre
STATUS:CONFIRMED
CLASS:PUBLIC
DTSTART;TZID=Asia/Tokyo:20091110T090000
DTEND;TZID=Asia/Tokyo:20091110T113000
DTSTAMP:20161222T095709Z
URL:https://datatracker.ietf.org/meeting/76/materials/agenda-76-dispatch
DESCRIPTION:Morning Session I\n
 \n
 Agenda https://datatracker.ietf.org/meeting/76/materials/agenda-76-dispatch\n
 \n
 Session materials: https://datatracker.ietf.org/meeting/76/session/dispatch\n
 \n
 See in schedule: https://datatracker.ietf.org/meeting/76/agenda#row-76-2009-11-10-tue-0900-rai-dispatch\n
END:VEVENT
BEGIN:VEVENT
UID:ietf-76-1490-speermint
SUMMARY:speermint - Session PEERing for Multimedia INTerconnect
LOCATION:Camellia
STATUS:CONFIRMED
CLASS:PUBLIC
DTSTART;TZID=Asia/Tokyo:20091110T130000
DTEND;TZID=Asia/Tokyo:20091110T150000
DTSTAMP:20161222T095709Z
URL:https://datatracker.ietf.org/meeting/76/materials/agenda-76-speermint
DESCRIPTION:Afternoon Session I\n
 \n
 Agenda https://datatracker.ietf.org/meeting/76/materials/agenda-76-speermint\n
 \n
 Session materials: https://datatracker.ietf.org/meeting/76/session/speermint\n
 \n
 See in schedule: https://datatracker.ietf.org/meeting/76/agenda#row-76-2009-11-10-tue-1300-rai-speermint\n
END:VEVENT
BEGIN:VEVENT
UID:ietf-76-1486-simple
SUMMARY:simple - SIP for Instant Messaging and Presence Leveraging Extensions
LOCATION:Acacia West
STATUS:CONFIRMED
CLASS:PUBLIC
DTSTART;TZID=Asia/Tokyo:20091110T171000
DTEND;TZID=Asia/Tokyo:20091110T181000
DTSTAMP:20161222T095709Z
URL:https://datatracker.ietf.org/meeting/76/materials/agenda-76-simple
DESCRIPTION:Afternoon Session III\n
 \n
 Agenda https://datatracker.ietf.org/meeting/76/materials/agenda-76-simple\n
 \n
 Session materials: https://datatracker.ietf.org/meeting/76/session/simple\n
 \n
 See in schedule: https://datatracker.ietf.org/meeting/76/agenda#row-76-2009-11-10-tue-1710-rai-simple\n
END:VEVENT
BEGIN:VEVENT
UID:ietf-76-1483-ecrit
SUMMARY:ecrit - Emergency Context Resolution with Internet Technologies
LOCATION:Cattleya East
STATUS:CONFIRMED
CLASS:PUBLIC
DTSTART;TZID=Asia/Tokyo:20091111T090000
DTEND;TZID=Asia/Tokyo:20091111T101500
DTSTAMP:20161222T095709Z
URL:https://datatracker.ietf.org/meeting/76/materials/agenda-76-ecrit
DESCRIPTION:Morning Session I\n
 \n
 Agenda https://datatracker.ietf.org/meeting/76/materials/agenda-76-ecrit\n
 \n
 Session materials: https://datatracker.ietf.org/meeting/76/session/ecrit\n
 \n
 See in schedule: https://datatracker.ietf.org/meeting/76/agenda#row-76-2009-11-11-wed-0900-rai-ecrit\n
END:VEVENT
BEGIN:VEVENT
UID:ietf-76-1484-ecrit
SUMMARY:ecrit - Emergency Context Resolution with Internet Technologies
LOCATION:Cattleya East
STATUS:CONFIRMED
CLASS:PUBLIC
DTSTART;TZID=Asia/Tokyo:20091111T103000
DTEND;TZID=Asia/Tokyo:20091111T113000
DTSTAMP:20161222T095709Z
URL:https://datatracker.ietf.org/meeting/76/materials/agenda-76-ecrit
DESCRIPTION:Morning Session II\n
 \n
 Agenda https://datatracker.ietf.org/meeting/76/materials/agenda-76-ecrit\n
 \n
 Session materials: https://datatracker.ietf.org/meeting/76/session/ecrit\n
 \n
 See in schedule: https://datatracker.ietf.org/meeting/76/agenda#row-76-2009-11-11-wed-1030-rai-ecrit\n
END:VEVENT
BEGIN:VEVENT
UID:ietf-76-1487-xmpp
SUMMARY:xmpp - Extensible Messaging and Presence Protocol
LOCATION:Cattleya East
STATUS:CONFIRMED
CLASS:PUBLIC
DTSTART;TZID=Asia/Tokyo:20091111T130000
DTEND;TZID=Asia/Tokyo:20091111T150000
DTSTAMP:20161222T095709Z
URL:https://datatracker.ietf.org/meeting/76/materials/agenda-76-xmpp
DESCRIPTION:Afternoon Session I\n
 \n
 Agenda https://datatracker.ietf.org/meeting/76/materials/agenda-76-xmpp\n
 \n
 Session materials: https://datatracker.ietf.org/meeting/76/session/xmpp\n
 \n
 See in schedule: https://datatracker.ietf.org/meeting/76/agenda#row-76-2009-11-11-wed-1300-rai-xmpp\n
END:VEVENT
BEGIN:VEVENT
UID:ietf-76-1434-avt
SUMMARY:avt - Audio/Video Transport
LOCATION:Acacia West
STATUS:CONFIRMED
CLASS:PUBLIC
DTSTART;TZID=Asia/Tokyo:20091111T151000
DTEND;TZID=Asia/Tokyo:20091111T161000
DTSTAMP:20161222T095709Z
URL:https://datatracker.ietf.org/meeting/76/materials/agenda-76-avt
DESCRIPTION:Afternoon Session II\n
 \n
 Agenda https://datatracker.ietf.org/meeting/76/materials/agenda-76-avt\n
 \n
 Session materials: https://datatracker.ietf.org/meeting/76/session/avt\n
 \n
 See in schedule: https://datatracker.ietf.org/meeting/76/agenda#row-76-2009-11-11-wed-1510-rai-avt\n
END:VEVENT
BEGIN:VEVENT
UID:ietf-76-1415-geopriv
SUMMARY:geopriv - Geographic Location/Privacy
LOCATION:Acacia East
STATUS:CONFIRMED
CLASS:PUBLIC
DTSTART;TZID=Asia/Tokyo:20091112T090000
DTEND;TZID=Asia/Tokyo:20091112T113000
DTSTAMP:20161222T095709Z
URL:https://datatracker.ietf.org/meeting/76/materials/agenda-76-geopriv
DESCRIPTION:Morning Session I\n
 \n
 Agenda https://datatracker.ietf.org/meeting/76/materials/agenda-76-geopriv\n
 \n
 Session materials: https://datatracker.ietf.org/meeting/76/session/geopriv\n
 \n
 See in schedule: https://datatracker.ietf.org/meeting/76/agenda#row-76-2009-11-12-thu-0900-rai-geopriv\n
END:VEVENT
BEGIN:VEVENT
UID:ietf-76-1518-codec
SUMMARY:codec - Internet Wideband Audio Codec
LOCATION:Orchid East
STATUS:CONFIRMED
CLASS:PUBLIC
DTSTART;TZID=Asia/Tokyo:20091112T130000
DTEND;TZID=Asia/Tokyo:20091112T150000
DTSTAMP:20161222T095709Z
URL:https://datatracker.ietf.org/meeting/76/materials/agenda-76-codec
DESCRIPTION:Afternoon Session I\n
 \n
 Agenda https://datatracker.ietf.org/meeting/76/materials/agenda-76-codec\n
 \n
 Session materials: https://datatracker.ietf.org/meeting/76/session/codec\n
 \n
 See in schedule: https://datatracker.ietf.org/meeting/76/agenda#row-76-2009-11-12-thu-1300-rai-codec\n
END:VEVENT
BEGIN:VEVENT
UID:ietf-76-1416-xcon
SUMMARY:xcon - Centralized Conferencing
LOCATION:Cattleya West
STATUS:CONFIRMED
CLASS:PUBLIC
DTSTART;TZID=Asia/Tokyo:20091112T151000
DTEND;TZID=Asia/Tokyo:20091112T161000
DTSTAMP:20161222T095708Z
URL:https://datatracker.ietf.org/meeting/76/materials/agenda-76-xcon
DESCRIPTION:Afternoon Session II\n
 \n
 Agenda https://datatracker.ietf.org/meeting/76/materials/agenda-76-xcon\n
 \n
 Session materials: https://datatracker.ietf.org/meeting/76/session/xcon\n
 \n
 See in schedule: https://datatracker.ietf.org/meeting/76/agenda#row-76-2009-11-12-thu-1510-rai-xcon\n
END:VEVENT
BEGIN:VEVENT
UID:ietf-76-1504-mmusic
SUMMARY:mmusic - Multiparty Multimedia Session Control
LOCATION:Orchid East
STATUS:CONFIRMED
CLASS:PUBLIC
DTSTART;TZID=Asia/Tokyo:20091113T090000
DTEND;TZID=Asia/Tokyo:20091113T113000
DTSTAMP:20161222T095708Z
URL:https://datatracker.ietf.org/meeting/76/materials/agenda-76-mmusic
DESCRIPTION:Morning Session I\n
 \n
 Agenda https://datatracker.ietf.org/meeting/76/materials/agenda-76-mmusic\n
 \n
 Session materials: https://datatracker.ietf.org/meeting/76/session/mmusic\n
 \n
 See in schedule: https://datatracker.ietf.org/meeting/76/agenda#row-76-2009-11-13-fri-0900-rai-mmusic\n
END:VEVENT
END:VCALENDAR
