BEGIN:VCALENDAR
VERSION:2.0
METHOD:PUBLISH
PRODID:-//IETF//datatracker.ietf.org ical agenda//EN
BEGIN:VTIMEZONE
TZID:Asia/Tokyo
X-LIC-LOCATION:Asia/Tokyo
BEGIN:STANDARD
TZOFFSETFROM:+091859
TZOFFSETTO:+0900
TZNAME:JST
DTSTART:18880101T001859
RDATE:18880101T001859
END:STANDARD
BEGIN:STANDARD
TZOFFSETFROM:+0900
TZOFFSETTO:+0900
TZNAME:JCST
DTSTART:18960101T000000
RDATE:18960101T000000
END:STANDARD
BEGIN:STANDARD
TZOFFSETFROM:+0900
TZOFFSETTO:+0900
TZNAME:JST
DTSTART:19371001T000000
RDATE:19371001T000000
END:STANDARD
BEGIN:DAYLIGHT
TZOFFSETFROM:+0900
TZOFFSETTO:+1000
TZNAME:JDT
DTSTART:19480502T020000
RDATE:19480502T020000
RDATE:19490403T020000
RDATE:19500507T020000
RDATE:19510506T020000
END:DAYLIGHT
BEGIN:STANDARD
TZOFFSETFROM:+1000
TZOFFSETTO:+0900
TZNAME:JST
DTSTART:19480911T020000
RDATE:19480911T020000
RDATE:19490910T020000
RDATE:19500909T020000
RDATE:19510908T020000
END:STANDARD
END:VTIMEZONE
BEGIN:VEVENT
UID:ietf-76-1468-sidr
SUMMARY:sidr - Secure Inter-Domain Routing
LOCATION:Acacia East
STATUS:CONFIRMED
CLASS:PUBLIC
DTSTART;TZID=Asia/Tokyo:20091109T090000
DTEND;TZID=Asia/Tokyo:20091109T113000
DTSTAMP:20161222T095709Z
URL:https://datatracker.ietf.org/meeting/76/materials/agenda-76-sidr
DESCRIPTION:Morning Session I\n
 \n
 Agenda https://datatracker.ietf.org/meeting/76/materials/agenda-76-sidr\n
 \n
 Session materials: https://datatracker.ietf.org/meeting/76/session/sidr\n
 \n
 See in schedule: https://datatracker.ietf.org/meeting/76/agenda#row-76-2009-11-09-mon-0900-rtg-sidr\n
END:VEVENT
BEGIN:VEVENT
UID:ietf-76-1497-l3vpn
SUMMARY:l3vpn - Layer 3 Virtual Private Networks
LOCATION:Orchid Centre
STATUS:CONFIRMED
CLASS:PUBLIC
DTSTART;TZID=Asia/Tokyo:20091109T130000
DTEND;TZID=Asia/Tokyo:20091109T150000
DTSTAMP:20161222T095709Z
URL:https://datatracker.ietf.org/meeting/76/materials/agenda-76-l3vpn
DESCRIPTION:Afternoon Session I\n
 \n
 Agenda https://datatracker.ietf.org/meeting/76/materials/agenda-76-l3vpn\n
 \n
 Session materials: https://datatracker.ietf.org/meeting/76/session/l3vpn\n
 \n
 See in schedule: https://datatracker.ietf.org/meeting/76/agenda#row-76-2009-11-09-mon-1300-rtg-l3vpn\n
END:VEVENT
BEGIN:VEVENT
UID:ietf-76-1443-rtgarea
SUMMARY:rtgarea - Routing Area Open Meeting
LOCATION:Orchid East
STATUS:CONFIRMED
CLASS:PUBLIC
DTSTART;TZID=Asia/Tokyo:20091109T152000
DTEND;TZID=Asia/Tokyo:20091109T172000
DTSTAMP:20161222T095709Z
URL:https://datatracker.ietf.org/meeting/76/materials/agenda-76-rtgarea
DESCRIPTION:Afternoon Session II\n
 \n
 Agenda https://datatracker.ietf.org/meeting/76/materials/agenda-76-rtgarea\n
 \n
 Session materials: https://datatracker.ietf.org/meeting/76/session/rtgarea\n
 \n
 See in schedule: https://datatracker.ietf.org/meeting/76/agenda#row-76-2009-11-09-mon-1520-rtg-rtgarea\n
END:VEVENT
BEGIN:VEVENT
UID:ietf-76-1429-forces
SUMMARY:forces - Forwarding and Control Element Separation
LOCATION:Cattleya East
STATUS:CONFIRMED
CLASS:PUBLIC
DTSTART;TZID=Asia/Tokyo:20091109T174000
DTEND;TZID=Asia/Tokyo:20091109T194000
DTSTAMP:20161222T095709Z
URL:https://datatracker.ietf.org/meeting/76/materials/agenda-76-forces
DESCRIPTION:Afternoon Session III\n
 \n
 Agenda https://datatracker.ietf.org/meeting/76/materials/agenda-76-forces\n
 \n
 Session materials: https://datatracker.ietf.org/meeting/76/session/forces\n
 \n
 See in schedule: https://datatracker.ietf.org/meeting/76/agenda#row-76-2009-11-09-mon-1740-rtg-forces\n
END:VEVENT
BEGIN:VEVENT
UID:ietf-76-1525-mpls
SUMMARY:mpls - Multiprotocol Label Switching
LOCATION:Orchid Centre
STATUS:CONFIRMED
CLASS:PUBLIC
DTSTART;TZID=Asia/Tokyo:20091109T174000
DTEND;TZID=Asia/Tokyo:20091109T194000
DTSTAMP:20161222T095709Z
URL:https://datatracker.ietf.org/meeting/76/materials/agenda-76-mpls
DESCRIPTION:Afternoon Session III\n
 \n
 Agenda https://datatracker.ietf.org/meeting/76/materials/agenda-76-mpls\n
 \n
 Session materials: https://datatracker.ietf.org/meeting/76/session/mpls\n
 \n
 See in schedule: https://datatracker.ietf.org/meeting/76/agenda#row-76-2009-11-09-mon-1740-rtg-mpls\n
END:VEVENT
BEGIN:VEVENT
UID:ietf-76-1513-karp
SUMMARY:karp - Keying and Authentication for Routing Protocols
LOCATION:Orchid East
STATUS:CONFIRMED
CLASS:PUBLIC
DTSTART;TZID=Asia/Tokyo:20091110T090000
DTEND;TZID=Asia/Tokyo:20091110T113000
DTSTAMP:20161222T095709Z
URL:https://datatracker.ietf.org/meeting/76/materials/agenda-76-karp
DESCRIPTION:Morning Session I\n
 \n
 Agenda https://datatracker.ietf.org/meeting/76/materials/agenda-76-karp\n
 \n
 Session materials: https://datatracker.ietf.org/meeting/76/session/karp\n
 \n
 See in schedule: https://datatracker.ietf.org/meeting/76/agenda#row-76-2009-11-10-tue-0900-rtg-karp\n
END:VEVENT
BEGIN:VEVENT
UID:ietf-76-1524-roll
SUMMARY:roll - Routing Over Low power and Lossy networks
LOCATION:Acacia East
STATUS:CONFIRMED
CLASS:PUBLIC
DTSTART;TZID=Asia/Tokyo:20091110T090000
DTEND;TZID=Asia/Tokyo:20091110T113000
DTSTAMP:20161222T095709Z
URL:https://datatracker.ietf.org/meeting/76/materials/agenda-76-roll
DESCRIPTION:Morning Session I\n
 \n
 Agenda https://datatracker.ietf.org/meeting/76/materials/agenda-76-roll\n
 \n
 Session materials: https://datatracker.ietf.org/meeting/76/session/roll\n
 \n
 See in schedule: https://datatracker.ietf.org/meeting/76/agenda#row-76-2009-11-10-tue-0900-rtg-roll\n
END:VEVENT
BEGIN:VEVENT
UID:ietf-76-1431-idr
SUMMARY:idr - Inter-Domain Routing
LOCATION:Orchid East
STATUS:CONFIRMED
CLASS:PUBLIC
DTSTART;TZID=Asia/Tokyo:20091110T130000
DTEND;TZID=Asia/Tokyo:20091110T150000
DTSTAMP:20161222T095709Z
URL:https://datatracker.ietf.org/meeting/76/materials/agenda-76-idr
DESCRIPTION:Afternoon Session I\n
 \n
 Agenda https://datatracker.ietf.org/meeting/76/materials/agenda-76-idr\n
 \n
 Session materials: https://datatracker.ietf.org/meeting/76/session/idr\n
 \n
 See in schedule: https://datatracker.ietf.org/meeting/76/agenda#row-76-2009-11-10-tue-1300-rtg-idr\n
END:VEVENT
BEGIN:VEVENT
UID:ietf-76-1432-rtgwg
SUMMARY:rtgwg - Routing Area Working Group
LOCATION:Acacia East
STATUS:CONFIRMED
CLASS:PUBLIC
DTSTART;TZID=Asia/Tokyo:20091110T152000
DTEND;TZID=Asia/Tokyo:20091110T170000
DTSTAMP:20161222T095709Z
URL:https://datatracker.ietf.org/meeting/76/materials/agenda-76-rtgwg
DESCRIPTION:Afternoon Session II\n
 \n
 Agenda https://datatracker.ietf.org/meeting/76/materials/agenda-76-rtgwg\n
 \n
 Session materials: https://datatracker.ietf.org/meeting/76/session/rtgwg\n
 \n
 See in schedule: https://datatracker.ietf.org/meeting/76/agenda#row-76-2009-11-10-tue-1520-rtg-rtgwg\n
END:VEVENT
BEGIN:VEVENT
UID:ietf-76-1439-pim
SUMMARY:pim - Protocol Independent Multicast
LOCATION:Cattleya East
STATUS:CONFIRMED
CLASS:PUBLIC
DTSTART;TZID=Asia/Tokyo:20091110T171000
DTEND;TZID=Asia/Tokyo:20091110T181000
DTSTAMP:20161222T095709Z
URL:https://datatracker.ietf.org/meeting/76/materials/agenda-76-pim
DESCRIPTION:Afternoon Session III\n
 \n
 Agenda https://datatracker.ietf.org/meeting/76/materials/agenda-76-pim\n
 \n
 Session materials: https://datatracker.ietf.org/meeting/76/session/pim\n
 \n
 See in schedule: https://datatracker.ietf.org/meeting/76/agenda#row-76-2009-11-10-tue-1710-rtg-pim\n
END:VEVENT
BEGIN:VEVENT
UID:ietf-76-1526-mpls
SUMMARY:mpls - Multiprotocol Label Switching
LOCATION:Orchid East
STATUS:CONFIRMED
CLASS:PUBLIC
DTSTART;TZID=Asia/Tokyo:20091111T090000
DTEND;TZID=Asia/Tokyo:20091111T101500
DTSTAMP:20161222T095709Z
URL:https://datatracker.ietf.org/meeting/76/materials/agenda-76-mpls
DESCRIPTION:Morning Session I\n
 \n
 Agenda https://datatracker.ietf.org/meeting/76/materials/agenda-76-mpls\n
 \n
 Session materials: https://datatracker.ietf.org/meeting/76/session/mpls\n
 \n
 See in schedule: https://datatracker.ietf.org/meeting/76/agenda#row-76-2009-11-11-wed-0900-rtg-mpls\n
END:VEVENT
BEGIN:VEVENT
UID:ietf-76-1527-mpls
SUMMARY:mpls - Multiprotocol Label Switching
LOCATION:Orchid East
STATUS:CONFIRMED
CLASS:PUBLIC
DTSTART;TZID=Asia/Tokyo:20091111T103000
DTEND;TZID=Asia/Tokyo:20091111T113000
DTSTAMP:20161222T095709Z
URL:https://datatracker.ietf.org/meeting/76/materials/agenda-76-mpls
DESCRIPTION:Morning Session II\n
 \n
 Agenda https://datatracker.ietf.org/meeting/76/materials/agenda-76-mpls\n
 \n
 Session materials: https://datatracker.ietf.org/meeting/76/session/mpls\n
 \n
 See in schedule: https://datatracker.ietf.org/meeting/76/agenda#row-76-2009-11-11-wed-1030-rtg-mpls\n
END:VEVENT
BEGIN:VEVENT
UID:ietf-76-1423-ccamp
SUMMARY:ccamp - Common Control and Measurement Plane
LOCATION:Orchid East
STATUS:CONFIRMED
CLASS:PUBLIC
DTSTART;TZID=Asia/Tokyo:20091111T130000
DTEND;TZID=Asia/Tokyo:20091111T150000
DTSTAMP:20161222T095709Z
URL:https://datatracker.ietf.org/meeting/76/materials/agenda-76-ccamp
DESCRIPTION:Afternoon Session I\n
 \n
 Agenda https://datatracker.ietf.org/meeting/76/materials/agenda-76-ccamp\n
 \n
 Session materials: https://datatracker.ietf.org/meeting/76/session/ccamp\n
 \n
 See in schedule: https://datatracker.ietf.org/meeting/76/agenda#row-76-2009-11-11-wed-1300-rtg-ccamp\n
END:VEVENT
BEGIN:VEVENT
UID:ietf-76-1424-ccamp
SUMMARY:ccamp - Common Control and Measurement Plane
LOCATION:Orchid Centre
STATUS:CONFIRMED
CLASS:PUBLIC
DTSTART;TZID=Asia/Tokyo:20091112T090000
DTEND;TZID=Asia/Tokyo:20091112T113000
DTSTAMP:20161222T095709Z
URL:https://datatracker.ietf.org/meeting/76/materials/agenda-76-ccamp
DESCRIPTION:Morning Session I\n
 \n
 Agenda https://datatracker.ietf.org/meeting/76/materials/agenda-76-ccamp\n
 \n
 Session materials: https://datatracker.ietf.org/meeting/76/session/ccamp\n
 \n
 See in schedule: https://datatracker.ietf.org/meeting/76/agenda#row-76-2009-11-12-thu-0900-rtg-ccamp\n
END:VEVENT
BEGIN:VEVENT
UID:ietf-76-1495-manet
SUMMARY:manet - Mobile Ad-hoc Networks
LOCATION:Cattleya East
STATUS:CONFIRMED
CLASS:PUBLIC
DTSTART;TZID=Asia/Tokyo:20091112T130000
DTEND;TZID=Asia/Tokyo:20091112T150000
DTSTAMP:20161222T095709Z
URL:https://datatracker.ietf.org/meeting/76/materials/agenda-76-manet
DESCRIPTION:Afternoon Session I\n
 \n
 Agenda https://datatracker.ietf.org/meeting/76/materials/agenda-76-manet\n
 \n
 Session materials: https://datatracker.ietf.org/meeting/76/session/manet\n
 \n
 See in schedule: https://datatracker.ietf.org/meeting/76/agenda#row-76-2009-11-12-thu-1300-rtg-manet\n
END:VEVENT
BEGIN:VEVENT
UID:ietf-76-1425-pwe3
SUMMARY:pwe3 - Pseudowire Emulation Edge to Edge
LOCATION:Orchid West
STATUS:CONFIRMED
CLASS:PUBLIC
DTSTART;TZID=Asia/Tokyo:20091112T130000
DTEND;TZID=Asia/Tokyo:20091112T150000
DTSTAMP:20161222T095708Z
URL:https://datatracker.ietf.org/meeting/76/materials/agenda-76-pwe3
DESCRIPTION:Afternoon Session I\n
 \n
 Agenda https://datatracker.ietf.org/meeting/76/materials/agenda-76-pwe3\n
 \n
 Session materials: https://datatracker.ietf.org/meeting/76/session/pwe3\n
 \n
 See in schedule: https://datatracker.ietf.org/meeting/76/agenda#row-76-2009-11-12-thu-1300-rtg-pwe3\n
END:VEVENT
BEGIN:VEVENT
UID:ietf-76-1426-pwe3
SUMMARY:pwe3 - Pseudowire Emulation Edge to Edge
LOCATION:Acacia West
STATUS:CONFIRMED
CLASS:PUBLIC
DTSTART;TZID=Asia/Tokyo:20091113T090000
DTEND;TZID=Asia/Tokyo:20091113T113000
DTSTAMP:20161222T095708Z
URL:https://datatracker.ietf.org/meeting/76/materials/agenda-76-pwe3
DESCRIPTION:Morning Session I\n
 \n
 Agenda https://datatracker.ietf.org/meeting/76/materials/agenda-76-pwe3\n
 \n
 Session materials: https://datatracker.ietf.org/meeting/76/session/pwe3\n
 \n
 See in schedule: https://datatracker.ietf.org/meeting/76/agenda#row-76-2009-11-13-fri-0900-rtg-pwe3\n
END:VEVENT
BEGIN:VEVENT
UID:ietf-76-1462-pce
SUMMARY:pce - Path Computation Element
LOCATION:Acacia West
STATUS:CONFIRMED
CLASS:PUBLIC
DTSTART;TZID=Asia/Tokyo:20091113T130000
DTEND;TZID=Asia/Tokyo:20091113T140000
DTSTAMP:20161222T095708Z
URL:https://datatracker.ietf.org/meeting/76/materials/agenda-76-pce
DESCRIPTION:Afternoon Session I\n
 \n
 Agenda https://datatracker.ietf.org/meeting/76/materials/agenda-76-pce\n
 \n
 Session materials: https://datatracker.ietf.org/meeting/76/session/pce\n
 \n
 See in schedule: https://datatracker.ietf.org/meeting/76/agenda#row-76-2009-11-13-fri-1300-rtg-pce\n
END:VEVENT
BEGIN:VEVENT
UID:ietf-76-1463-pce
SUMMARY:pce - Path Computation Element
LOCATION:Acacia West
STATUS:CONFIRMED
CLASS:PUBLIC
DTSTART;TZID=Asia/Tokyo:20091113T141500
DTEND;TZID=Asia/Tokyo:20091113T151500
DTSTAMP:20161222T095708Z
URL:https://datatracker.ietf.org/meeting/76/materials/agenda-76-pce
DESCRIPTION:Afternoon Session II\n
 \n
 Agenda https://datatracker.ietf.org/meeting/76/materials/agenda-76-pce\n
 \n
 Session materials: https://datatracker.ietf.org/meeting/76/session/pce\n
 \n
 See in schedule: https://datatracker.ietf.org/meeting/76/agenda#row-76-2009-11-13-fri-1415-rtg-pce\n
END:VEVENT
END:VCALENDAR
