BEGIN:VCALENDAR
VERSION:2.0
METHOD:PUBLISH
PRODID:-//IETF//datatracker.ietf.org ical agenda//EN
BEGIN:VTIMEZONE
TZID:Asia/Tokyo
X-LIC-LOCATION:Asia/Tokyo
BEGIN:STANDARD
TZOFFSETFROM:+091859
TZOFFSETTO:+0900
TZNAME:JST
DTSTART:18880101T001859
RDATE:18880101T001859
END:STANDARD
BEGIN:STANDARD
TZOFFSETFROM:+0900
TZOFFSETTO:+0900
TZNAME:JCST
DTSTART:18960101T000000
RDATE:18960101T000000
END:STANDARD
BEGIN:STANDARD
TZOFFSETFROM:+0900
TZOFFSETTO:+0900
TZNAME:JST
DTSTART:19371001T000000
RDATE:19371001T000000
END:STANDARD
BEGIN:DAYLIGHT
TZOFFSETFROM:+0900
TZOFFSETTO:+1000
TZNAME:JDT
DTSTART:19480502T020000
RDATE:19480502T020000
RDATE:19490403T020000
RDATE:19500507T020000
RDATE:19510506T020000
END:DAYLIGHT
BEGIN:STANDARD
TZOFFSETFROM:+1000
TZOFFSETTO:+0900
TZNAME:JST
DTSTART:19480911T020000
RDATE:19480911T020000
RDATE:19490910T020000
RDATE:19500909T020000
RDATE:19510908T020000
END:STANDARD
END:VTIMEZONE
BEGIN:VEVENT
UID:ietf-76-1459-emu
SUMMARY:emu - EAP Method Update
LOCATION:Cattleya East
STATUS:CONFIRMED
CLASS:PUBLIC
DTSTART;TZID=Asia/Tokyo:20091109T130000
DTEND;TZID=Asia/Tokyo:20091109T150000
DTSTAMP:20161222T095709Z
URL:https://datatracker.ietf.org/meeting/76/materials/agenda-76-emu
DESCRIPTION:Afternoon Session I\n
 \n
 Agenda https://datatracker.ietf.org/meeting/76/materials/agenda-76-emu\n
 \n
 Session materials: https://datatracker.ietf.org/meeting/76/session/emu\n
 \n
 See in schedule: https://datatracker.ietf.org/meeting/76/agenda#row-76-2009-11-09-mon-1300-sec-emu\n
END:VEVENT
BEGIN:VEVENT
UID:ietf-76-1465-msec
SUMMARY:msec - Multicast Security
LOCATION:Cattleya West
STATUS:CONFIRMED
CLASS:PUBLIC
DTSTART;TZID=Asia/Tokyo:20091109T152000
DTEND;TZID=Asia/Tokyo:20091109T172000
DTSTAMP:20161222T095709Z
URL:https://datatracker.ietf.org/meeting/76/materials/agenda-76-msec
DESCRIPTION:Afternoon Session II\n
 \n
 Agenda https://datatracker.ietf.org/meeting/76/materials/agenda-76-msec\n
 \n
 Session materials: https://datatracker.ietf.org/meeting/76/session/msec\n
 \n
 See in schedule: https://datatracker.ietf.org/meeting/76/agenda#row-76-2009-11-09-mon-1520-sec-msec\n
END:VEVENT
BEGIN:VEVENT
UID:ietf-76-1442-nea
SUMMARY:nea - Network Endpoint Assessment
LOCATION:Cattleya West
STATUS:CONFIRMED
CLASS:PUBLIC
DTSTART;TZID=Asia/Tokyo:20091109T174000
DTEND;TZID=Asia/Tokyo:20091109T194000
DTSTAMP:20161222T095709Z
URL:https://datatracker.ietf.org/meeting/76/materials/agenda-76-nea
DESCRIPTION:Afternoon Session III\n
 \n
 Agenda https://datatracker.ietf.org/meeting/76/materials/agenda-76-nea\n
 \n
 Session materials: https://datatracker.ietf.org/meeting/76/session/nea\n
 \n
 See in schedule: https://datatracker.ietf.org/meeting/76/agenda#row-76-2009-11-09-mon-1740-sec-nea\n
END:VEVENT
BEGIN:VEVENT
UID:ietf-76-1417-pkix
SUMMARY:pkix - Public-Key Infrastructure (X.509)
LOCATION:Acacia East
STATUS:CONFIRMED
CLASS:PUBLIC
DTSTART;TZID=Asia/Tokyo:20091110T130000
DTEND;TZID=Asia/Tokyo:20091110T150000
DTSTAMP:20161222T095709Z
URL:https://datatracker.ietf.org/meeting/76/materials/agenda-76-pkix
DESCRIPTION:Afternoon Session I\n
 \n
 Agenda https://datatracker.ietf.org/meeting/76/materials/agenda-76-pkix\n
 \n
 Session materials: https://datatracker.ietf.org/meeting/76/session/pkix\n
 \n
 See in schedule: https://datatracker.ietf.org/meeting/76/agenda#row-76-2009-11-10-tue-1300-sec-pkix\n
END:VEVENT
BEGIN:VEVENT
UID:ietf-76-1411-hokey
SUMMARY:hokey - Handover Keying
LOCATION:Cattleya West
STATUS:CONFIRMED
CLASS:PUBLIC
DTSTART;TZID=Asia/Tokyo:20091110T152000
DTEND;TZID=Asia/Tokyo:20091110T170000
DTSTAMP:20161222T095709Z
URL:https://datatracker.ietf.org/meeting/76/materials/agenda-76-hokey
DESCRIPTION:Afternoon Session II\n
 \n
 Agenda https://datatracker.ietf.org/meeting/76/materials/agenda-76-hokey\n
 \n
 Session materials: https://datatracker.ietf.org/meeting/76/session/hokey\n
 \n
 See in schedule: https://datatracker.ietf.org/meeting/76/agenda#row-76-2009-11-10-tue-1520-sec-hokey\n
END:VEVENT
BEGIN:VEVENT
UID:ietf-76-1466-kitten
SUMMARY:kitten - Common Authentication Technology Next Generation
LOCATION:Camellia
STATUS:CONFIRMED
CLASS:PUBLIC
DTSTART;TZID=Asia/Tokyo:20091111T090000
DTEND;TZID=Asia/Tokyo:20091111T101500
DTSTAMP:20161222T095709Z
URL:https://datatracker.ietf.org/meeting/76/materials/agenda-76-kitten
DESCRIPTION:Morning Session I\n
 \n
 Agenda https://datatracker.ietf.org/meeting/76/materials/agenda-76-kitten\n
 \n
 Session materials: https://datatracker.ietf.org/meeting/76/session/kitten\n
 \n
 See in schedule: https://datatracker.ietf.org/meeting/76/agenda#row-76-2009-11-11-wed-0900-sec-kitten\n
END:VEVENT
BEGIN:VEVENT
UID:ietf-76-1492-sasl
SUMMARY:sasl - Simple Authentication and Security Layer
LOCATION:Camellia
STATUS:CONFIRMED
CLASS:PUBLIC
DTSTART;TZID=Asia/Tokyo:20091111T103000
DTEND;TZID=Asia/Tokyo:20091111T113000
DTSTAMP:20161222T095709Z
URL:https://datatracker.ietf.org/meeting/76/materials/agenda-76-sasl
DESCRIPTION:Morning Session II\n
 \n
 Agenda https://datatracker.ietf.org/meeting/76/materials/agenda-76-sasl\n
 \n
 Session materials: https://datatracker.ietf.org/meeting/76/session/sasl\n
 \n
 See in schedule: https://datatracker.ietf.org/meeting/76/agenda#row-76-2009-11-11-wed-1030-sec-sasl\n
END:VEVENT
BEGIN:VEVENT
UID:ietf-76-1491-krb-wg
SUMMARY:krb-wg - Kerberos
LOCATION:Camellia
STATUS:CONFIRMED
CLASS:PUBLIC
DTSTART;TZID=Asia/Tokyo:20091111T130000
DTEND;TZID=Asia/Tokyo:20091111T150000
DTSTAMP:20161222T095709Z
URL:https://datatracker.ietf.org/meeting/76/materials/agenda-76-krb-wg
DESCRIPTION:Afternoon Session I\n
 \n
 Agenda https://datatracker.ietf.org/meeting/76/materials/agenda-76-krb-wg\n
 \n
 Session materials: https://datatracker.ietf.org/meeting/76/session/krb-wg\n
 \n
 See in schedule: https://datatracker.ietf.org/meeting/76/agenda#row-76-2009-11-11-wed-1300-sec-krb-wg\n
END:VEVENT
BEGIN:VEVENT
UID:ietf-76-1449-ipsecme
SUMMARY:ipsecme - IP Security Maintenance and Extensions
LOCATION:Cattleya West
STATUS:CONFIRMED
CLASS:PUBLIC
DTSTART;TZID=Asia/Tokyo:20091112T090000
DTEND;TZID=Asia/Tokyo:20091112T113000
DTSTAMP:20161222T095709Z
URL:https://datatracker.ietf.org/meeting/76/materials/agenda-76-ipsecme
DESCRIPTION:Morning Session I\n
 \n
 Agenda https://datatracker.ietf.org/meeting/76/materials/agenda-76-ipsecme\n
 \n
 Session materials: https://datatracker.ietf.org/meeting/76/session/ipsecme\n
 \n
 See in schedule: https://datatracker.ietf.org/meeting/76/agenda#row-76-2009-11-12-thu-0900-sec-ipsecme\n
END:VEVENT
BEGIN:VEVENT
UID:ietf-76-1430-saag
SUMMARY:saag - Security Area Open Meeting
LOCATION:Acacia East
STATUS:CONFIRMED
CLASS:PUBLIC
DTSTART;TZID=Asia/Tokyo:20091112T130000
DTEND;TZID=Asia/Tokyo:20091112T150000
DTSTAMP:20161222T095709Z
URL:https://datatracker.ietf.org/meeting/76/materials/agenda-76-saag
DESCRIPTION:Afternoon Session I\n
 \n
 Agenda https://datatracker.ietf.org/meeting/76/materials/agenda-76-saag\n
 \n
 Session materials: https://datatracker.ietf.org/meeting/76/session/saag\n
 \n
 See in schedule: https://datatracker.ietf.org/meeting/76/agenda#row-76-2009-11-12-thu-1300-sec-saag\n
END:VEVENT
BEGIN:VEVENT
UID:ietf-76-1458-tls
SUMMARY:tls - Transport Layer Security
LOCATION:Cattleya East
STATUS:CONFIRMED
CLASS:PUBLIC
DTSTART;TZID=Asia/Tokyo:20091112T151000
DTEND;TZID=Asia/Tokyo:20091112T161000
DTSTAMP:20161222T095708Z
URL:https://datatracker.ietf.org/meeting/76/materials/agenda-76-tls
DESCRIPTION:Afternoon Session II\n
 \n
 Agenda https://datatracker.ietf.org/meeting/76/materials/agenda-76-tls\n
 \n
 Session materials: https://datatracker.ietf.org/meeting/76/session/tls\n
 \n
 See in schedule: https://datatracker.ietf.org/meeting/76/agenda#row-76-2009-11-12-thu-1510-sec-tls\n
END:VEVENT
END:VCALENDAR
