BEGIN:VCALENDAR
VERSION:2.0
METHOD:PUBLISH
PRODID:-//IETF//datatracker.ietf.org ical agenda//EN
BEGIN:VTIMEZONE
TZID:Asia/Tokyo
X-LIC-LOCATION:Asia/Tokyo
BEGIN:STANDARD
TZOFFSETFROM:+091859
TZOFFSETTO:+0900
TZNAME:JST
DTSTART:18880101T001859
RDATE:18880101T001859
END:STANDARD
BEGIN:STANDARD
TZOFFSETFROM:+0900
TZOFFSETTO:+0900
TZNAME:JCST
DTSTART:18960101T000000
RDATE:18960101T000000
END:STANDARD
BEGIN:STANDARD
TZOFFSETFROM:+0900
TZOFFSETTO:+0900
TZNAME:JST
DTSTART:19371001T000000
RDATE:19371001T000000
END:STANDARD
BEGIN:DAYLIGHT
TZOFFSETFROM:+0900
TZOFFSETTO:+1000
TZNAME:JDT
DTSTART:19480502T020000
RDATE:19480502T020000
RDATE:19490403T020000
RDATE:19500507T020000
RDATE:19510506T020000
END:DAYLIGHT
BEGIN:STANDARD
TZOFFSETFROM:+1000
TZOFFSETTO:+0900
TZNAME:JST
DTSTART:19480911T020000
RDATE:19480911T020000
RDATE:19490910T020000
RDATE:19500909T020000
RDATE:19510908T020000
END:STANDARD
END:VTIMEZONE
BEGIN:VEVENT
UID:ietf-76-1498-fecframe
SUMMARY:fecframe - FEC Framework
LOCATION:Camellia
STATUS:CONFIRMED
CLASS:PUBLIC
DTSTART;TZID=Asia/Tokyo:20091109T090000
DTEND;TZID=Asia/Tokyo:20091109T113000
DTSTAMP:20161222T095709Z
URL:https://datatracker.ietf.org/meeting/76/materials/agenda-76-fecframe
DESCRIPTION:Morning Session I\n
 \n
 Agenda https://datatracker.ietf.org/meeting/76/materials/agenda-76-fecframe\n
 \n
 Session materials: https://datatracker.ietf.org/meeting/76/session/fecframe\n
 \n
 See in schedule: https://datatracker.ietf.org/meeting/76/agenda#row-76-2009-11-09-mon-0900-tsv-fecframe\n
END:VEVENT
BEGIN:VEVENT
UID:ietf-76-1511-homegate
SUMMARY:homegate - Broadband Home Gateway
LOCATION:Acacia West
STATUS:CONFIRMED
CLASS:PUBLIC
DTSTART;TZID=Asia/Tokyo:20091109T152000
DTEND;TZID=Asia/Tokyo:20091109T172000
DTSTAMP:20161222T095709Z
URL:https://datatracker.ietf.org/meeting/76/materials/agenda-76-homegate
DESCRIPTION:Afternoon Session II\n
 \n
 Agenda https://datatracker.ietf.org/meeting/76/materials/agenda-76-homegate\n
 \n
 Session materials: https://datatracker.ietf.org/meeting/76/session/homegate\n
 \n
 See in schedule: https://datatracker.ietf.org/meeting/76/agenda#row-76-2009-11-09-mon-1520-tsv-homegate\n
END:VEVENT
BEGIN:VEVENT
UID:ietf-76-1510-mptcp
SUMMARY:mptcp - Multipath TCP
LOCATION:Orchid West
STATUS:CONFIRMED
CLASS:PUBLIC
DTSTART;TZID=Asia/Tokyo:20091109T174000
DTEND;TZID=Asia/Tokyo:20091109T194000
DTSTAMP:20161222T095709Z
URL:https://datatracker.ietf.org/meeting/76/materials/agenda-76-mptcp
DESCRIPTION:Afternoon Session III\n
 \n
 Agenda https://datatracker.ietf.org/meeting/76/materials/agenda-76-mptcp\n
 \n
 Session materials: https://datatracker.ietf.org/meeting/76/session/mptcp\n
 \n
 See in schedule: https://datatracker.ietf.org/meeting/76/agenda#row-76-2009-11-09-mon-1740-tsv-mptcp\n
END:VEVENT
BEGIN:VEVENT
UID:ietf-76-1469-dccp
SUMMARY:dccp - Datagram Congestion Control Protocol
LOCATION:Camellia
STATUS:CONFIRMED
CLASS:PUBLIC
DTSTART;TZID=Asia/Tokyo:20091110T090000
DTEND;TZID=Asia/Tokyo:20091110T113000
DTSTAMP:20161222T095709Z
URL:https://datatracker.ietf.org/meeting/76/materials/agenda-76-dccp
DESCRIPTION:Morning Session I\n
 \n
 Agenda https://datatracker.ietf.org/meeting/76/materials/agenda-76-dccp\n
 \n
 Session materials: https://datatracker.ietf.org/meeting/76/session/dccp\n
 \n
 See in schedule: https://datatracker.ietf.org/meeting/76/agenda#row-76-2009-11-10-tue-0900-tsv-dccp\n
END:VEVENT
BEGIN:VEVENT
UID:ietf-76-1467-pcn
SUMMARY:pcn - Congestion and Pre-Congestion Notification
LOCATION:Cattleya West
STATUS:CONFIRMED
CLASS:PUBLIC
DTSTART;TZID=Asia/Tokyo:20091110T090000
DTEND;TZID=Asia/Tokyo:20091110T113000
DTSTAMP:20161222T095709Z
URL:https://datatracker.ietf.org/meeting/76/materials/agenda-76-pcn
DESCRIPTION:Morning Session I\n
 \n
 Agenda https://datatracker.ietf.org/meeting/76/materials/agenda-76-pcn\n
 \n
 Session materials: https://datatracker.ietf.org/meeting/76/session/pcn\n
 \n
 See in schedule: https://datatracker.ietf.org/meeting/76/agenda#row-76-2009-11-10-tue-0900-tsv-pcn\n
END:VEVENT
BEGIN:VEVENT
UID:ietf-76-1476-ippm
SUMMARY:ippm - IP Performance Metrics
LOCATION:Cattleya East
STATUS:CONFIRMED
CLASS:PUBLIC
DTSTART;TZID=Asia/Tokyo:20091110T130000
DTEND;TZID=Asia/Tokyo:20091110T150000
DTSTAMP:20161222T095709Z
URL:https://datatracker.ietf.org/meeting/76/materials/agenda-76-ippm
DESCRIPTION:Afternoon Session I\n
 \n
 Agenda https://datatracker.ietf.org/meeting/76/materials/agenda-76-ippm\n
 \n
 Session materials: https://datatracker.ietf.org/meeting/76/session/ippm\n
 \n
 See in schedule: https://datatracker.ietf.org/meeting/76/agenda#row-76-2009-11-10-tue-1300-tsv-ippm\n
END:VEVENT
BEGIN:VEVENT
UID:ietf-76-1516-conex
SUMMARY:conex - Congestion Exposure
LOCATION:Orchid East
STATUS:CONFIRMED
CLASS:PUBLIC
DTSTART;TZID=Asia/Tokyo:20091110T152000
DTEND;TZID=Asia/Tokyo:20091110T170000
DTSTAMP:20161222T095709Z
URL:https://datatracker.ietf.org/meeting/76/materials/agenda-76-conex
DESCRIPTION:Afternoon Session II\n
 \n
 Agenda https://datatracker.ietf.org/meeting/76/materials/agenda-76-conex\n
 \n
 Session materials: https://datatracker.ietf.org/meeting/76/session/conex\n
 \n
 See in schedule: https://datatracker.ietf.org/meeting/76/agenda#row-76-2009-11-10-tue-1520-tsv-conex\n
END:VEVENT
BEGIN:VEVENT
UID:ietf-76-1517-conex
SUMMARY:conex - Congestion Exposure
LOCATION:Orchid East
STATUS:CONFIRMED
CLASS:PUBLIC
DTSTART;TZID=Asia/Tokyo:20091110T171000
DTEND;TZID=Asia/Tokyo:20091110T181000
DTSTAMP:20161222T095709Z
URL:https://datatracker.ietf.org/meeting/76/materials/agenda-76-conex
DESCRIPTION:Afternoon Session III\n
 \n
 Agenda https://datatracker.ietf.org/meeting/76/materials/agenda-76-conex\n
 \n
 Session materials: https://datatracker.ietf.org/meeting/76/session/conex\n
 \n
 See in schedule: https://datatracker.ietf.org/meeting/76/agenda#row-76-2009-11-10-tue-1710-tsv-conex\n
END:VEVENT
BEGIN:VEVENT
UID:ietf-76-1436-alto
SUMMARY:alto - Application-Layer Traffic Optimization
LOCATION:Acacia West
STATUS:CONFIRMED
CLASS:PUBLIC
DTSTART;TZID=Asia/Tokyo:20091111T090000
DTEND;TZID=Asia/Tokyo:20091111T101500
DTSTAMP:20161222T095709Z
URL:https://datatracker.ietf.org/meeting/76/materials/agenda-76-alto
DESCRIPTION:Morning Session I\n
 \n
 Agenda https://datatracker.ietf.org/meeting/76/materials/agenda-76-alto\n
 \n
 Session materials: https://datatracker.ietf.org/meeting/76/session/alto\n
 \n
 See in schedule: https://datatracker.ietf.org/meeting/76/agenda#row-76-2009-11-11-wed-0900-tsv-alto\n
END:VEVENT
BEGIN:VEVENT
UID:ietf-76-1445-behave
SUMMARY:behave - Behavior Engineering for Hindrance Avoidance
LOCATION:Orchid Centre
STATUS:CONFIRMED
CLASS:PUBLIC
DTSTART;TZID=Asia/Tokyo:20091111T090000
DTEND;TZID=Asia/Tokyo:20091111T101500
DTSTAMP:20161222T095709Z
URL:https://datatracker.ietf.org/meeting/76/materials/agenda-76-behave
DESCRIPTION:Morning Session I\n
 \n
 Agenda https://datatracker.ietf.org/meeting/76/materials/agenda-76-behave\n
 \n
 Session materials: https://datatracker.ietf.org/meeting/76/session/behave\n
 \n
 See in schedule: https://datatracker.ietf.org/meeting/76/agenda#row-76-2009-11-11-wed-0900-tsv-behave\n
END:VEVENT
BEGIN:VEVENT
UID:ietf-76-1437-alto
SUMMARY:alto - Application-Layer Traffic Optimization
LOCATION:Acacia West
STATUS:CONFIRMED
CLASS:PUBLIC
DTSTART;TZID=Asia/Tokyo:20091111T103000
DTEND;TZID=Asia/Tokyo:20091111T113000
DTSTAMP:20161222T095709Z
URL:https://datatracker.ietf.org/meeting/76/materials/agenda-76-alto
DESCRIPTION:Morning Session II\n
 \n
 Agenda https://datatracker.ietf.org/meeting/76/materials/agenda-76-alto\n
 \n
 Session materials: https://datatracker.ietf.org/meeting/76/session/alto\n
 \n
 See in schedule: https://datatracker.ietf.org/meeting/76/agenda#row-76-2009-11-11-wed-1030-tsv-alto\n
END:VEVENT
BEGIN:VEVENT
UID:ietf-76-1446-behave
SUMMARY:behave - Behavior Engineering for Hindrance Avoidance
LOCATION:Orchid Centre
STATUS:CONFIRMED
CLASS:PUBLIC
DTSTART;TZID=Asia/Tokyo:20091111T103000
DTEND;TZID=Asia/Tokyo:20091111T113000
DTSTAMP:20161222T095709Z
URL:https://datatracker.ietf.org/meeting/76/materials/agenda-76-behave
DESCRIPTION:Morning Session II\n
 \n
 Agenda https://datatracker.ietf.org/meeting/76/materials/agenda-76-behave\n
 \n
 Session materials: https://datatracker.ietf.org/meeting/76/session/behave\n
 \n
 See in schedule: https://datatracker.ietf.org/meeting/76/agenda#row-76-2009-11-11-wed-1030-tsv-behave\n
END:VEVENT
BEGIN:VEVENT
UID:ietf-76-1470-rmt
SUMMARY:rmt - Reliable Multicast Transport
LOCATION:Camellia
STATUS:CONFIRMED
CLASS:PUBLIC
DTSTART;TZID=Asia/Tokyo:20091111T151000
DTEND;TZID=Asia/Tokyo:20091111T161000
DTSTAMP:20161222T095709Z
URL:https://datatracker.ietf.org/meeting/76/materials/agenda-76-rmt
DESCRIPTION:Afternoon Session II\n
 \n
 Agenda https://datatracker.ietf.org/meeting/76/materials/agenda-76-rmt\n
 \n
 Session materials: https://datatracker.ietf.org/meeting/76/session/rmt\n
 \n
 See in schedule: https://datatracker.ietf.org/meeting/76/agenda#row-76-2009-11-11-wed-1510-tsv-rmt\n
END:VEVENT
BEGIN:VEVENT
UID:ietf-76-1521-decade
SUMMARY:decade - Decoupled Application Data Enroute
LOCATION:Cattleya East
STATUS:CONFIRMED
CLASS:PUBLIC
DTSTART;TZID=Asia/Tokyo:20091112T090000
DTEND;TZID=Asia/Tokyo:20091112T113000
DTSTAMP:20161222T095709Z
URL:https://datatracker.ietf.org/meeting/76/materials/agenda-76-decade
DESCRIPTION:Morning Session I\n
 \n
 Agenda https://datatracker.ietf.org/meeting/76/materials/agenda-76-decade\n
 \n
 Session materials: https://datatracker.ietf.org/meeting/76/session/decade\n
 \n
 See in schedule: https://datatracker.ietf.org/meeting/76/agenda#row-76-2009-11-12-thu-0900-tsv-decade\n
END:VEVENT
BEGIN:VEVENT
UID:ietf-76-1509-nfsv4
SUMMARY:nfsv4 - Network File System Version 4
LOCATION:Camellia
STATUS:CONFIRMED
CLASS:PUBLIC
DTSTART;TZID=Asia/Tokyo:20091112T090000
DTEND;TZID=Asia/Tokyo:20091112T113000
DTSTAMP:20161222T095709Z
URL:https://datatracker.ietf.org/meeting/76/materials/agenda-76-nfsv4
DESCRIPTION:Morning Session I\n
 \n
 Agenda https://datatracker.ietf.org/meeting/76/materials/agenda-76-nfsv4\n
 \n
 Session materials: https://datatracker.ietf.org/meeting/76/session/nfsv4\n
 \n
 See in schedule: https://datatracker.ietf.org/meeting/76/agenda#row-76-2009-11-12-thu-0900-tsv-nfsv4\n
END:VEVENT
BEGIN:VEVENT
UID:ietf-76-1522-ppsp
SUMMARY:ppsp - Peer to Peer Streaming Protocol
LOCATION:Orchid Centre
STATUS:CONFIRMED
CLASS:PUBLIC
DTSTART;TZID=Asia/Tokyo:20091112T130000
DTEND;TZID=Asia/Tokyo:20091112T150000
DTSTAMP:20161222T095709Z
URL:https://datatracker.ietf.org/meeting/76/materials/agenda-76-ppsp
DESCRIPTION:Afternoon Session I\n
 \n
 Agenda https://datatracker.ietf.org/meeting/76/materials/agenda-76-ppsp\n
 \n
 Session materials: https://datatracker.ietf.org/meeting/76/session/ppsp\n
 \n
 See in schedule: https://datatracker.ietf.org/meeting/76/agenda#row-76-2009-11-12-thu-1300-tsv-ppsp\n
END:VEVENT
BEGIN:VEVENT
UID:ietf-76-1493-tsvwg
SUMMARY:tsvwg - Transport Area Working Group
LOCATION:Acacia West
STATUS:CONFIRMED
CLASS:PUBLIC
DTSTART;TZID=Asia/Tokyo:20091112T151000
DTEND;TZID=Asia/Tokyo:20091112T161000
DTSTAMP:20161222T095708Z
URL:https://datatracker.ietf.org/meeting/76/materials/agenda-76-tsvwg
DESCRIPTION:Afternoon Session II\n
 \n
 Agenda https://datatracker.ietf.org/meeting/76/materials/agenda-76-tsvwg\n
 \n
 Session materials: https://datatracker.ietf.org/meeting/76/session/tsvwg\n
 \n
 See in schedule: https://datatracker.ietf.org/meeting/76/agenda#row-76-2009-11-12-thu-1510-tsv-tsvwg\n
END:VEVENT
BEGIN:VEVENT
UID:ietf-76-1447-behave
SUMMARY:behave - Behavior Engineering for Hindrance Avoidance
LOCATION:Orchid Centre
STATUS:CONFIRMED
CLASS:PUBLIC
DTSTART;TZID=Asia/Tokyo:20091113T090000
DTEND;TZID=Asia/Tokyo:20091113T113000
DTSTAMP:20161222T095708Z
URL:https://datatracker.ietf.org/meeting/76/materials/agenda-76-behave
DESCRIPTION:Morning Session I\n
 \n
 Agenda https://datatracker.ietf.org/meeting/76/materials/agenda-76-behave\n
 \n
 Session materials: https://datatracker.ietf.org/meeting/76/session/behave\n
 \n
 See in schedule: https://datatracker.ietf.org/meeting/76/agenda#row-76-2009-11-13-fri-0900-tsv-behave\n
END:VEVENT
BEGIN:VEVENT
UID:ietf-76-1523-ledbat
SUMMARY:ledbat - Low Extra Delay Background Transport
LOCATION:Cattleya East
STATUS:CONFIRMED
CLASS:PUBLIC
DTSTART;TZID=Asia/Tokyo:20091113T090000
DTEND;TZID=Asia/Tokyo:20091113T113000
DTSTAMP:20161222T095708Z
URL:https://datatracker.ietf.org/meeting/76/materials/agenda-76-ledbat
DESCRIPTION:Morning Session I\n
 \n
 Agenda https://datatracker.ietf.org/meeting/76/materials/agenda-76-ledbat\n
 \n
 Session materials: https://datatracker.ietf.org/meeting/76/session/ledbat\n
 \n
 See in schedule: https://datatracker.ietf.org/meeting/76/agenda#row-76-2009-11-13-fri-0900-tsv-ledbat\n
END:VEVENT
BEGIN:VEVENT
UID:ietf-76-1477-tsvarea
SUMMARY:tsvarea - Transport Area Open Meeting
LOCATION:Orchid East
STATUS:CONFIRMED
CLASS:PUBLIC
DTSTART;TZID=Asia/Tokyo:20091113T130000
DTEND;TZID=Asia/Tokyo:20091113T140000
DTSTAMP:20161222T095708Z
URL:https://datatracker.ietf.org/meeting/76/materials/agenda-76-tsvarea
DESCRIPTION:Afternoon Session I\n
 \n
 Agenda https://datatracker.ietf.org/meeting/76/materials/agenda-76-tsvarea\n
 \n
 Session materials: https://datatracker.ietf.org/meeting/76/session/tsvarea\n
 \n
 See in schedule: https://datatracker.ietf.org/meeting/76/agenda#row-76-2009-11-13-fri-1300-tsv-tsvarea\n
END:VEVENT
BEGIN:VEVENT
UID:ietf-76-1478-tsvarea
SUMMARY:tsvarea - Transport Area Open Meeting
LOCATION:Orchid East
STATUS:CONFIRMED
CLASS:PUBLIC
DTSTART;TZID=Asia/Tokyo:20091113T141500
DTEND;TZID=Asia/Tokyo:20091113T151500
DTSTAMP:20161222T095708Z
URL:https://datatracker.ietf.org/meeting/76/materials/agenda-76-tsvarea
DESCRIPTION:Afternoon Session II\n
 \n
 Agenda https://datatracker.ietf.org/meeting/76/materials/agenda-76-tsvarea\n
 \n
 Session materials: https://datatracker.ietf.org/meeting/76/session/tsvarea\n
 \n
 See in schedule: https://datatracker.ietf.org/meeting/76/agenda#row-76-2009-11-13-fri-1415-tsv-tsvarea\n
END:VEVENT
END:VCALENDAR
