BEGIN:VCALENDAR
VERSION:2.0
METHOD:PUBLISH
PRODID:-//IETF//datatracker.ietf.org ical agenda//EN
BEGIN:VTIMEZONE
TZID:America/Los_Angeles
X-LIC-LOCATION:America/Los_Angeles
BEGIN:DAYLIGHT
TZOFFSETFROM:-0800
TZOFFSETTO:-0700
TZNAME:PDT
DTSTART:20070311T020000
RRULE:FREQ=YEARLY;BYMONTH=3;BYDAY=2SU
END:DAYLIGHT
BEGIN:STANDARD
TZOFFSETFROM:-0700
TZOFFSETTO:-0800
TZNAME:PST
DTSTART:20071104T020000
RRULE:FREQ=YEARLY;BYMONTH=11;BYDAY=1SU
END:STANDARD
BEGIN:STANDARD
TZOFFSETFROM:-075258
TZOFFSETTO:-0800
TZNAME:PST
DTSTART:18831118T120702
RDATE:18831118T120702
END:STANDARD
BEGIN:DAYLIGHT
TZOFFSETFROM:-0800
TZOFFSETTO:-0700
TZNAME:PDT
DTSTART:19180331T020000
RDATE:19180331T020000
RDATE:19190330T020000
RDATE:19480314T020000
RDATE:19500430T020000
RDATE:19510429T020000
RDATE:19520427T020000
RDATE:19530426T020000
RDATE:19540425T020000
RDATE:19550424T020000
RDATE:19560429T020000
RDATE:19570428T020000
RDATE:19580427T020000
RDATE:19590426T020000
RDATE:19600424T020000
RDATE:19610430T020000
RDATE:19620429T020000
RDATE:19630428T020000
RDATE:19640426T020000
RDATE:19650425T020000
RDATE:19660424T020000
RDATE:19670430T020000
RDATE:19680428T020000
RDATE:19690427T020000
RDATE:19700426T020000
RDATE:19710425T020000
RDATE:19720430T020000
RDATE:19730429T020000
RDATE:19740106T020000
RDATE:19750223T020000
RDATE:19760425T020000
RDATE:19770424T020000
RDATE:19780430T020000
RDATE:19790429T020000
RDATE:19800427T020000
RDATE:19810426T020000
RDATE:19820425T020000
RDATE:19830424T020000
RDATE:19840429T020000
RDATE:19850428T020000
RDATE:19860427T020000
RDATE:19870405T020000
RDATE:19880403T020000
RDATE:19890402T020000
RDATE:19900401T020000
RDATE:19910407T020000
RDATE:19920405T020000
RDATE:19930404T020000
RDATE:19940403T020000
RDATE:19950402T020000
RDATE:19960407T020000
RDATE:19970406T020000
RDATE:19980405T020000
RDATE:19990404T020000
RDATE:20000402T020000
RDATE:20010401T020000
RDATE:20020407T020000
RDATE:20030406T020000
RDATE:20040404T020000
RDATE:20050403T020000
RDATE:20060402T020000
END:DAYLIGHT
BEGIN:STANDARD
TZOFFSETFROM:-0700
TZOFFSETTO:-0800
TZNAME:PST
DTSTART:19181027T020000
RDATE:19181027T020000
RDATE:19191026T020000
RDATE:19450930T020000
RDATE:19490101T020000
RDATE:19500924T020000
RDATE:19510930T020000
RDATE:19520928T020000
RDATE:19530927T020000
RDATE:19540926T020000
RDATE:19550925T020000
RDATE:19560930T020000
RDATE:19570929T020000
RDATE:19580928T020000
RDATE:19590927T020000
RDATE:19600925T020000
RDATE:19610924T020000
RDATE:19621028T020000
RDATE:19631027T020000
RDATE:19641025T020000
RDATE:19651031T020000
RDATE:19661030T020000
RDATE:19671029T020000
RDATE:19681027T020000
RDATE:19691026T020000
RDATE:19701025T020000
RDATE:19711031T020000
RDATE:19721029T020000
RDATE:19731028T020000
RDATE:19741027T020000
RDATE:19751026T020000
RDATE:19761031T020000
RDATE:19771030T020000
RDATE:19781029T020000
RDATE:19791028T020000
RDATE:19801026T020000
RDATE:19811025T020000
RDATE:19821031T020000
RDATE:19831030T020000
RDATE:19841028T020000
RDATE:19851027T020000
RDATE:19861026T020000
RDATE:19871025T020000
RDATE:19881030T020000
RDATE:19891029T020000
RDATE:19901028T020000
RDATE:19911027T020000
RDATE:19921025T020000
RDATE:19931031T020000
RDATE:19941030T020000
RDATE:19951029T020000
RDATE:19961027T020000
RDATE:19971026T020000
RDATE:19981025T020000
RDATE:19991031T020000
RDATE:20001029T020000
RDATE:20011028T020000
RDATE:20021027T020000
RDATE:20031026T020000
RDATE:20041031T020000
RDATE:20051030T020000
RDATE:20061029T020000
END:STANDARD
BEGIN:DAYLIGHT
TZOFFSETFROM:-0800
TZOFFSETTO:-0700
TZNAME:PWT
DTSTART:19420209T020000
RDATE:19420209T020000
END:DAYLIGHT
BEGIN:DAYLIGHT
TZOFFSETFROM:-0700
TZOFFSETTO:-0700
TZNAME:PPT
DTSTART:19450814T160000
RDATE:19450814T160000
END:DAYLIGHT
BEGIN:STANDARD
TZOFFSETFROM:-0800
TZOFFSETTO:-0800
TZNAME:PST
DTSTART:19460101T000000
RDATE:19460101T000000
RDATE:19670101T000000
END:STANDARD
END:VTIMEZONE
BEGIN:VEVENT
UID:ietf-77-1611-apparea
SUMMARY:apparea - Applications Area Open Meeting
LOCATION:California B
STATUS:CONFIRMED
CLASS:PUBLIC
DTSTART;TZID=America/Los_Angeles:20100322T090000
DTEND;TZID=America/Los_Angeles:20100322T113000
DTSTAMP:20161222T095708Z
URL:https://datatracker.ietf.org/meeting/77/materials/agenda-77-apparea
DESCRIPTION:Morning Session I\n
 \n
 Agenda https://datatracker.ietf.org/meeting/77/materials/agenda-77-apparea\n
 \n
 Session materials: https://datatracker.ietf.org/meeting/77/session/apparea\n
 \n
 See in schedule: https://datatracker.ietf.org/meeting/77/agenda#row-77-2010-03-22-mon-0900-app-apparea\n
END:VEVENT
BEGIN:VEVENT
UID:ietf-77-1630-httpbis
SUMMARY:httpbis - Hypertext Transfer Protocol Bis
LOCATION:Manhattan
STATUS:CONFIRMED
CLASS:PUBLIC
DTSTART;TZID=America/Los_Angeles:20100322T152000
DTEND;TZID=America/Los_Angeles:20100322T172000
DTSTAMP:20161222T095708Z
URL:https://datatracker.ietf.org/meeting/77/materials/agenda-77-httpbis
DESCRIPTION:Afternoon Session II\n
 \n
 Agenda https://datatracker.ietf.org/meeting/77/materials/agenda-77-httpbis\n
 \n
 Session materials: https://datatracker.ietf.org/meeting/77/session/httpbis\n
 \n
 See in schedule: https://datatracker.ietf.org/meeting/77/agenda#row-77-2010-03-22-mon-1520-app-httpbis\n
END:VEVENT
BEGIN:VEVENT
UID:ietf-77-1574-eai
SUMMARY:eai - Email Address Internationalization
LOCATION:Huntington
STATUS:CONFIRMED
CLASS:PUBLIC
DTSTART;TZID=America/Los_Angeles:20100322T174000
DTEND;TZID=America/Los_Angeles:20100322T194000
DTSTAMP:20161222T095708Z
URL:https://datatracker.ietf.org/meeting/77/materials/agenda-77-eai
DESCRIPTION:Afternoon Session III\n
 \n
 Agenda https://datatracker.ietf.org/meeting/77/materials/agenda-77-eai\n
 \n
 Session materials: https://datatracker.ietf.org/meeting/77/session/eai\n
 \n
 See in schedule: https://datatracker.ietf.org/meeting/77/agenda#row-77-2010-03-22-mon-1740-app-eai\n
END:VEVENT
BEGIN:VEVENT
UID:ietf-77-1584-vwrap
SUMMARY:vwrap - Virtual World Region Agent Protocol
LOCATION:Redondo
STATUS:CONFIRMED
CLASS:PUBLIC
DTSTART;TZID=America/Los_Angeles:20100323T090000
DTEND;TZID=America/Los_Angeles:20100323T113000
DTSTAMP:20161222T095708Z
URL:https://datatracker.ietf.org/meeting/77/materials/agenda-77-vwrap
DESCRIPTION:Morning Session I\n
 \n
 Agenda https://datatracker.ietf.org/meeting/77/materials/agenda-77-vwrap\n
 \n
 Session materials: https://datatracker.ietf.org/meeting/77/session/vwrap\n
 \n
 See in schedule: https://datatracker.ietf.org/meeting/77/agenda#row-77-2010-03-23-tue-0900-app-vwrap\n
END:VEVENT
BEGIN:VEVENT
UID:ietf-77-1619-marf
SUMMARY:marf - Messaging Abuse Reporting Format
LOCATION:Huntington
STATUS:CONFIRMED
CLASS:PUBLIC
DTSTART;TZID=America/Los_Angeles:20100323T130000
DTEND;TZID=America/Los_Angeles:20100323T150000
DTSTAMP:20161222T095708Z
URL:https://datatracker.ietf.org/meeting/77/materials/agenda-77-marf
DESCRIPTION:Afternoon Session I\n
 \n
 Agenda https://datatracker.ietf.org/meeting/77/materials/agenda-77-marf\n
 \n
 Session materials: https://datatracker.ietf.org/meeting/77/session/marf\n
 \n
 See in schedule: https://datatracker.ietf.org/meeting/77/agenda#row-77-2010-03-23-tue-1300-app-marf\n
END:VEVENT
BEGIN:VEVENT
UID:ietf-77-1665-newprep
SUMMARY:newprep - Stringprep after IDNA2008
LOCATION:Redondo
STATUS:CONFIRMED
CLASS:PUBLIC
DTSTART;TZID=America/Los_Angeles:20100323T152000
DTEND;TZID=America/Los_Angeles:20100323T172000
DTSTAMP:20161222T095708Z
URL:https://datatracker.ietf.org/meeting/77/materials/agenda-77-newprep
DESCRIPTION:Afternoon Session II\n
 \n
 Agenda https://datatracker.ietf.org/meeting/77/materials/agenda-77-newprep\n
 \n
 Session materials: https://datatracker.ietf.org/meeting/77/session/newprep\n
 \n
 See in schedule: https://datatracker.ietf.org/meeting/77/agenda#row-77-2010-03-23-tue-1520-app-newprep\n
END:VEVENT
BEGIN:VEVENT
UID:ietf-77-1601-httpstate
SUMMARY:httpstate - HTTP State Management Mechanism
LOCATION:Palos Verdes
STATUS:CONFIRMED
CLASS:PUBLIC
DTSTART;TZID=America/Los_Angeles:20100323T174000
DTEND;TZID=America/Los_Angeles:20100323T194000
DTSTAMP:20161222T095708Z
URL:https://datatracker.ietf.org/meeting/77/materials/agenda-77-httpstate
DESCRIPTION:Afternoon Session III\n
 \n
 Agenda https://datatracker.ietf.org/meeting/77/materials/agenda-77-httpstate\n
 \n
 Session materials: https://datatracker.ietf.org/meeting/77/session/httpstate\n
 \n
 See in schedule: https://datatracker.ietf.org/meeting/77/agenda#row-77-2010-03-23-tue-1740-app-httpstate\n
END:VEVENT
BEGIN:VEVENT
UID:ietf-77-1575-sieve
SUMMARY:sieve - Sieve Mail Filtering Language
LOCATION:Manhattan
STATUS:CONFIRMED
CLASS:PUBLIC
DTSTART;TZID=America/Los_Angeles:20100323T174000
DTEND;TZID=America/Los_Angeles:20100323T194000
DTSTAMP:20161222T095708Z
URL:https://datatracker.ietf.org/meeting/77/materials/agenda-77-sieve
DESCRIPTION:Afternoon Session III\n
 \n
 Agenda https://datatracker.ietf.org/meeting/77/materials/agenda-77-sieve\n
 \n
 Session materials: https://datatracker.ietf.org/meeting/77/session/sieve\n
 \n
 See in schedule: https://datatracker.ietf.org/meeting/77/agenda#row-77-2010-03-23-tue-1740-app-sieve\n
END:VEVENT
BEGIN:VEVENT
UID:ietf-77-1546-vcarddav
SUMMARY:vcarddav - vCard and CardDAV
LOCATION:Redondo
STATUS:CONFIRMED
CLASS:PUBLIC
DTSTART;TZID=America/Los_Angeles:20100324T090000
DTEND;TZID=America/Los_Angeles:20100324T101500
DTSTAMP:20161222T095708Z
URL:https://datatracker.ietf.org/meeting/77/materials/agenda-77-vcarddav
DESCRIPTION:Morning Session I\n
 \n
 Agenda https://datatracker.ietf.org/meeting/77/materials/agenda-77-vcarddav\n
 \n
 Session materials: https://datatracker.ietf.org/meeting/77/session/vcarddav\n
 \n
 See in schedule: https://datatracker.ietf.org/meeting/77/agenda#row-77-2010-03-24-wed-0900-app-vcarddav\n
END:VEVENT
BEGIN:VEVENT
UID:ietf-77-1666-rydeirde
SUMMARY:rydeirde - Registry Data Escrow/Internet Registration Escrow
LOCATION:Redondo
STATUS:CONFIRMED
CLASS:PUBLIC
DTSTART;TZID=America/Los_Angeles:20100324T103000
DTEND;TZID=America/Los_Angeles:20100324T113000
DTSTAMP:20161222T095708Z
URL:https://datatracker.ietf.org/meeting/77/materials/agenda-77-rydeirde
DESCRIPTION:Morning Session II\n
 \n
 Agenda https://datatracker.ietf.org/meeting/77/materials/agenda-77-rydeirde\n
 \n
 Session materials: https://datatracker.ietf.org/meeting/77/session/rydeirde\n
 \n
 See in schedule: https://datatracker.ietf.org/meeting/77/agenda#row-77-2010-03-24-wed-1030-app-rydeirde\n
END:VEVENT
BEGIN:VEVENT
UID:ietf-77-1617-hybi
SUMMARY:hybi - BiDirectional or Server-Initiated HTTP
LOCATION:Redondo
STATUS:CONFIRMED
CLASS:PUBLIC
DTSTART;TZID=America/Los_Angeles:20100324T130000
DTEND;TZID=America/Los_Angeles:20100324T150000
DTSTAMP:20161222T095708Z
URL:https://datatracker.ietf.org/meeting/77/materials/agenda-77-hybi
DESCRIPTION:Afternoon Session I\n
 \n
 Agenda https://datatracker.ietf.org/meeting/77/materials/agenda-77-hybi\n
 \n
 Session materials: https://datatracker.ietf.org/meeting/77/session/hybi\n
 \n
 See in schedule: https://datatracker.ietf.org/meeting/77/agenda#row-77-2010-03-24-wed-1300-app-hybi\n
END:VEVENT
BEGIN:VEVENT
UID:ietf-77-1661-yam
SUMMARY:yam - Yet Another Mail
LOCATION:Palos Verdes
STATUS:CONFIRMED
CLASS:PUBLIC
DTSTART;TZID=America/Los_Angeles:20100324T151000
DTEND;TZID=America/Los_Angeles:20100324T161000
DTSTAMP:20161222T095708Z
URL:https://datatracker.ietf.org/meeting/77/materials/agenda-77-yam
DESCRIPTION:Afternoon Session II\n
 \n
 Agenda https://datatracker.ietf.org/meeting/77/materials/agenda-77-yam\n
 \n
 Session materials: https://datatracker.ietf.org/meeting/77/session/yam\n
 \n
 See in schedule: https://datatracker.ietf.org/meeting/77/agenda#row-77-2010-03-24-wed-1510-app-yam\n
END:VEVENT
BEGIN:VEVENT
UID:ietf-77-1684-core
SUMMARY:core - Constrained RESTful Environments (Previously known as Application Protocols for Low-power V6 Networks BOF (6lowapp))
LOCATION:California C
STATUS:CONFIRMED
CLASS:PUBLIC
DTSTART;TZID=America/Los_Angeles:20100325T090000
DTEND;TZID=America/Los_Angeles:20100325T113000
DTSTAMP:20161222T095708Z
URL:https://datatracker.ietf.org/meeting/77/materials/agenda-77-core
DESCRIPTION:Morning Session I\n
 Note: Previously known as Application Protocols for Low-power V6 Networks BOF (6lowapp)\n
 \n
 Agenda https://datatracker.ietf.org/meeting/77/materials/agenda-77-core\n
 \n
 Session materials: https://datatracker.ietf.org/meeting/77/session/core\n
 \n
 See in schedule: https://datatracker.ietf.org/meeting/77/agenda#row-77-2010-03-25-thu-0900-app-core\n
END:VEVENT
BEGIN:VEVENT
UID:ietf-77-1651-isms
SUMMARY:isms - Integrated Security Model for SNMP (Cancelled)
LOCATION:Redondo
STATUS:CONFIRMED
CLASS:PUBLIC
DTSTART;TZID=America/Los_Angeles:20100325T151000
DTEND;TZID=America/Los_Angeles:20100325T161000
DTSTAMP:20161222T095708Z
URL:https://datatracker.ietf.org/meeting/77/materials/agenda-77-isms
DESCRIPTION:Afternoon Session II\n
 Note: Cancelled\n
 \n
 Agenda https://datatracker.ietf.org/meeting/77/materials/agenda-77-isms\n
 \n
 Session materials: https://datatracker.ietf.org/meeting/77/session/isms\n
 \n
 See in schedule: https://datatracker.ietf.org/meeting/77/agenda#row-77-2010-03-25-thu-1510-app-isms\n
END:VEVENT
BEGIN:VEVENT
UID:ietf-77-1602-morg
SUMMARY:morg - Message Organization
LOCATION:Manhattan
STATUS:CONFIRMED
CLASS:PUBLIC
DTSTART;TZID=America/Los_Angeles:20100325T151000
DTEND;TZID=America/Los_Angeles:20100325T161000
DTSTAMP:20161222T095708Z
URL:https://datatracker.ietf.org/meeting/77/materials/agenda-77-morg
DESCRIPTION:Afternoon Session II\n
 \n
 Agenda https://datatracker.ietf.org/meeting/77/materials/agenda-77-morg\n
 \n
 Session materials: https://datatracker.ietf.org/meeting/77/session/morg\n
 \n
 See in schedule: https://datatracker.ietf.org/meeting/77/agenda#row-77-2010-03-25-thu-1510-app-morg\n
END:VEVENT
BEGIN:VEVENT
UID:ietf-77-1622-iri
SUMMARY:iri - Internationalized Resource Identifiers
LOCATION:Redondo
STATUS:CONFIRMED
CLASS:PUBLIC
DTSTART;TZID=America/Los_Angeles:20100326T090000
DTEND;TZID=America/Los_Angeles:20100326T113000
DTSTAMP:20161222T095708Z
URL:https://datatracker.ietf.org/meeting/77/materials/agenda-77-iri
DESCRIPTION:Morning Session I\n
 \n
 Agenda https://datatracker.ietf.org/meeting/77/materials/agenda-77-iri\n
 \n
 Session materials: https://datatracker.ietf.org/meeting/77/session/iri\n
 \n
 See in schedule: https://datatracker.ietf.org/meeting/77/agenda#row-77-2010-03-26-fri-0900-app-iri\n
END:VEVENT
END:VCALENDAR
