BEGIN:VCALENDAR
VERSION:2.0
METHOD:PUBLISH
PRODID:-//IETF//datatracker.ietf.org ical agenda//EN
BEGIN:VTIMEZONE
TZID:America/Los_Angeles
X-LIC-LOCATION:America/Los_Angeles
BEGIN:DAYLIGHT
TZOFFSETFROM:-0800
TZOFFSETTO:-0700
TZNAME:PDT
DTSTART:20070311T020000
RRULE:FREQ=YEARLY;BYMONTH=3;BYDAY=2SU
END:DAYLIGHT
BEGIN:STANDARD
TZOFFSETFROM:-0700
TZOFFSETTO:-0800
TZNAME:PST
DTSTART:20071104T020000
RRULE:FREQ=YEARLY;BYMONTH=11;BYDAY=1SU
END:STANDARD
BEGIN:STANDARD
TZOFFSETFROM:-075258
TZOFFSETTO:-0800
TZNAME:PST
DTSTART:18831118T120702
RDATE:18831118T120702
END:STANDARD
BEGIN:DAYLIGHT
TZOFFSETFROM:-0800
TZOFFSETTO:-0700
TZNAME:PDT
DTSTART:19180331T020000
RDATE:19180331T020000
RDATE:19190330T020000
RDATE:19480314T020000
RDATE:19500430T020000
RDATE:19510429T020000
RDATE:19520427T020000
RDATE:19530426T020000
RDATE:19540425T020000
RDATE:19550424T020000
RDATE:19560429T020000
RDATE:19570428T020000
RDATE:19580427T020000
RDATE:19590426T020000
RDATE:19600424T020000
RDATE:19610430T020000
RDATE:19620429T020000
RDATE:19630428T020000
RDATE:19640426T020000
RDATE:19650425T020000
RDATE:19660424T020000
RDATE:19670430T020000
RDATE:19680428T020000
RDATE:19690427T020000
RDATE:19700426T020000
RDATE:19710425T020000
RDATE:19720430T020000
RDATE:19730429T020000
RDATE:19740106T020000
RDATE:19750223T020000
RDATE:19760425T020000
RDATE:19770424T020000
RDATE:19780430T020000
RDATE:19790429T020000
RDATE:19800427T020000
RDATE:19810426T020000
RDATE:19820425T020000
RDATE:19830424T020000
RDATE:19840429T020000
RDATE:19850428T020000
RDATE:19860427T020000
RDATE:19870405T020000
RDATE:19880403T020000
RDATE:19890402T020000
RDATE:19900401T020000
RDATE:19910407T020000
RDATE:19920405T020000
RDATE:19930404T020000
RDATE:19940403T020000
RDATE:19950402T020000
RDATE:19960407T020000
RDATE:19970406T020000
RDATE:19980405T020000
RDATE:19990404T020000
RDATE:20000402T020000
RDATE:20010401T020000
RDATE:20020407T020000
RDATE:20030406T020000
RDATE:20040404T020000
RDATE:20050403T020000
RDATE:20060402T020000
END:DAYLIGHT
BEGIN:STANDARD
TZOFFSETFROM:-0700
TZOFFSETTO:-0800
TZNAME:PST
DTSTART:19181027T020000
RDATE:19181027T020000
RDATE:19191026T020000
RDATE:19450930T020000
RDATE:19490101T020000
RDATE:19500924T020000
RDATE:19510930T020000
RDATE:19520928T020000
RDATE:19530927T020000
RDATE:19540926T020000
RDATE:19550925T020000
RDATE:19560930T020000
RDATE:19570929T020000
RDATE:19580928T020000
RDATE:19590927T020000
RDATE:19600925T020000
RDATE:19610924T020000
RDATE:19621028T020000
RDATE:19631027T020000
RDATE:19641025T020000
RDATE:19651031T020000
RDATE:19661030T020000
RDATE:19671029T020000
RDATE:19681027T020000
RDATE:19691026T020000
RDATE:19701025T020000
RDATE:19711031T020000
RDATE:19721029T020000
RDATE:19731028T020000
RDATE:19741027T020000
RDATE:19751026T020000
RDATE:19761031T020000
RDATE:19771030T020000
RDATE:19781029T020000
RDATE:19791028T020000
RDATE:19801026T020000
RDATE:19811025T020000
RDATE:19821031T020000
RDATE:19831030T020000
RDATE:19841028T020000
RDATE:19851027T020000
RDATE:19861026T020000
RDATE:19871025T020000
RDATE:19881030T020000
RDATE:19891029T020000
RDATE:19901028T020000
RDATE:19911027T020000
RDATE:19921025T020000
RDATE:19931031T020000
RDATE:19941030T020000
RDATE:19951029T020000
RDATE:19961027T020000
RDATE:19971026T020000
RDATE:19981025T020000
RDATE:19991031T020000
RDATE:20001029T020000
RDATE:20011028T020000
RDATE:20021027T020000
RDATE:20031026T020000
RDATE:20041031T020000
RDATE:20051030T020000
RDATE:20061029T020000
END:STANDARD
BEGIN:DAYLIGHT
TZOFFSETFROM:-0800
TZOFFSETTO:-0700
TZNAME:PWT
DTSTART:19420209T020000
RDATE:19420209T020000
END:DAYLIGHT
BEGIN:DAYLIGHT
TZOFFSETFROM:-0700
TZOFFSETTO:-0700
TZNAME:PPT
DTSTART:19450814T160000
RDATE:19450814T160000
END:DAYLIGHT
BEGIN:STANDARD
TZOFFSETFROM:-0800
TZOFFSETTO:-0800
TZNAME:PST
DTSTART:19460101T000000
RDATE:19460101T000000
RDATE:19670101T000000
END:STANDARD
END:VTIMEZONE
BEGIN:VEVENT
UID:ietf-77-1616-mif
SUMMARY:mif - Multiple Interfaces
LOCATION:Huntington
STATUS:CONFIRMED
CLASS:PUBLIC
DTSTART;TZID=America/Los_Angeles:20100322T090000
DTEND;TZID=America/Los_Angeles:20100322T113000
DTSTAMP:20161222T095708Z
URL:https://datatracker.ietf.org/meeting/77/materials/agenda-77-mif
DESCRIPTION:Morning Session I\n
 \n
 Agenda https://datatracker.ietf.org/meeting/77/materials/agenda-77-mif\n
 \n
 Session materials: https://datatracker.ietf.org/meeting/77/session/mif\n
 \n
 See in schedule: https://datatracker.ietf.org/meeting/77/agenda#row-77-2010-03-22-mon-0900-int-mif\n
END:VEVENT
BEGIN:VEVENT
UID:ietf-77-1537-6lowpan
SUMMARY:6lowpan - IPv6 over Low power WPAN
LOCATION:California A
STATUS:CONFIRMED
CLASS:PUBLIC
DTSTART;TZID=America/Los_Angeles:20100322T130000
DTEND;TZID=America/Los_Angeles:20100322T150000
DTSTAMP:20161222T095708Z
URL:https://datatracker.ietf.org/meeting/77/materials/agenda-77-6lowpan
DESCRIPTION:Afternoon Session I\n
 \n
 Agenda https://datatracker.ietf.org/meeting/77/materials/agenda-77-6lowpan\n
 \n
 Session materials: https://datatracker.ietf.org/meeting/77/session/6lowpan\n
 \n
 See in schedule: https://datatracker.ietf.org/meeting/77/agenda#row-77-2010-03-22-mon-1300-int-6lowpan\n
END:VEVENT
BEGIN:VEVENT
UID:ietf-77-1563-lisp
SUMMARY:lisp - Locator/ID Separation Protocol
LOCATION:Huntington
STATUS:CONFIRMED
CLASS:PUBLIC
DTSTART;TZID=America/Los_Angeles:20100322T130000
DTEND;TZID=America/Los_Angeles:20100322T150000
DTSTAMP:20161222T095708Z
URL:https://datatracker.ietf.org/meeting/77/materials/agenda-77-lisp
DESCRIPTION:Afternoon Session I\n
 \n
 Agenda https://datatracker.ietf.org/meeting/77/materials/agenda-77-lisp\n
 \n
 Session materials: https://datatracker.ietf.org/meeting/77/session/lisp\n
 \n
 See in schedule: https://datatracker.ietf.org/meeting/77/agenda#row-77-2010-03-22-mon-1300-int-lisp\n
END:VEVENT
BEGIN:VEVENT
UID:ietf-77-1539-trill
SUMMARY:trill - Transparent Interconnection of Lots of Links
LOCATION:California B
STATUS:CONFIRMED
CLASS:PUBLIC
DTSTART;TZID=America/Los_Angeles:20100322T152000
DTEND;TZID=America/Los_Angeles:20100322T172000
DTSTAMP:20161222T095708Z
URL:https://datatracker.ietf.org/meeting/77/materials/agenda-77-trill
DESCRIPTION:Afternoon Session II\n
 \n
 Agenda https://datatracker.ietf.org/meeting/77/materials/agenda-77-trill\n
 \n
 Session materials: https://datatracker.ietf.org/meeting/77/session/trill\n
 \n
 See in schedule: https://datatracker.ietf.org/meeting/77/agenda#row-77-2010-03-22-mon-1520-int-trill\n
END:VEVENT
BEGIN:VEVENT
UID:ietf-77-1534-csi
SUMMARY:csi - Cga & Send maIntenance
LOCATION:California D
STATUS:CONFIRMED
CLASS:PUBLIC
DTSTART;TZID=America/Los_Angeles:20100322T174000
DTEND;TZID=America/Los_Angeles:20100322T194000
DTSTAMP:20161222T095708Z
URL:https://datatracker.ietf.org/meeting/77/materials/agenda-77-csi
DESCRIPTION:Afternoon Session III\n
 \n
 Agenda https://datatracker.ietf.org/meeting/77/materials/agenda-77-csi\n
 \n
 Session materials: https://datatracker.ietf.org/meeting/77/session/csi\n
 \n
 See in schedule: https://datatracker.ietf.org/meeting/77/agenda#row-77-2010-03-22-mon-1740-int-csi\n
END:VEVENT
BEGIN:VEVENT
UID:ietf-77-1535-intarea
SUMMARY:intarea - Internet Area Working Group
LOCATION:California D
STATUS:CONFIRMED
CLASS:PUBLIC
DTSTART;TZID=America/Los_Angeles:20100323T090000
DTEND;TZID=America/Los_Angeles:20100323T113000
DTSTAMP:20161222T095708Z
URL:https://datatracker.ietf.org/meeting/77/materials/agenda-77-intarea
DESCRIPTION:Morning Session I\n
 \n
 Agenda https://datatracker.ietf.org/meeting/77/materials/agenda-77-intarea\n
 \n
 Session materials: https://datatracker.ietf.org/meeting/77/session/intarea\n
 \n
 See in schedule: https://datatracker.ietf.org/meeting/77/agenda#row-77-2010-03-23-tue-0900-int-intarea\n
END:VEVENT
BEGIN:VEVENT
UID:ietf-77-1571-dnsext
SUMMARY:dnsext - DNS Extensions
LOCATION:California A
STATUS:CONFIRMED
CLASS:PUBLIC
DTSTART;TZID=America/Los_Angeles:20100323T130000
DTEND;TZID=America/Los_Angeles:20100323T150000
DTSTAMP:20161222T095708Z
URL:https://datatracker.ietf.org/meeting/77/materials/agenda-77-dnsext
DESCRIPTION:Afternoon Session I\n
 \n
 Agenda https://datatracker.ietf.org/meeting/77/materials/agenda-77-dnsext\n
 \n
 Session materials: https://datatracker.ietf.org/meeting/77/session/dnsext\n
 \n
 See in schedule: https://datatracker.ietf.org/meeting/77/agenda#row-77-2010-03-23-tue-1300-int-dnsext\n
END:VEVENT
BEGIN:VEVENT
UID:ietf-77-1533-mext
SUMMARY:mext - Mobility EXTensions for IPv6
LOCATION:California C
STATUS:CONFIRMED
CLASS:PUBLIC
DTSTART;TZID=America/Los_Angeles:20100323T130000
DTEND;TZID=America/Los_Angeles:20100323T150000
DTSTAMP:20161222T095708Z
URL:https://datatracker.ietf.org/meeting/77/materials/agenda-77-mext
DESCRIPTION:Afternoon Session I\n
 \n
 Agenda https://datatracker.ietf.org/meeting/77/materials/agenda-77-mext\n
 \n
 Session materials: https://datatracker.ietf.org/meeting/77/session/mext\n
 \n
 See in schedule: https://datatracker.ietf.org/meeting/77/agenda#row-77-2010-03-23-tue-1300-int-mext\n
END:VEVENT
BEGIN:VEVENT
UID:ietf-77-1615-tictoc
SUMMARY:tictoc - Timing over IP Connection and Transfer of Clock (Room changed from California B)
LOCATION:California D
STATUS:CONFIRMED
CLASS:PUBLIC
DTSTART;TZID=America/Los_Angeles:20100323T152000
DTEND;TZID=America/Los_Angeles:20100323T172000
DTSTAMP:20161222T095708Z
URL:https://datatracker.ietf.org/meeting/77/materials/agenda-77-tictoc
DESCRIPTION:Afternoon Session II\n
 Note: Room changed from California B\n
 \n
 Agenda https://datatracker.ietf.org/meeting/77/materials/agenda-77-tictoc\n
 \n
 Session materials: https://datatracker.ietf.org/meeting/77/session/tictoc\n
 \n
 See in schedule: https://datatracker.ietf.org/meeting/77/agenda#row-77-2010-03-23-tue-1520-int-tictoc\n
END:VEVENT
BEGIN:VEVENT
UID:ietf-77-1545-savi
SUMMARY:savi - Source Address Validation Improvements
LOCATION:California B
STATUS:CONFIRMED
CLASS:PUBLIC
DTSTART;TZID=America/Los_Angeles:20100323T174000
DTEND;TZID=America/Los_Angeles:20100323T194000
DTSTAMP:20161222T095708Z
URL:https://datatracker.ietf.org/meeting/77/materials/agenda-77-savi
DESCRIPTION:Afternoon Session III\n
 \n
 Agenda https://datatracker.ietf.org/meeting/77/materials/agenda-77-savi\n
 \n
 Session materials: https://datatracker.ietf.org/meeting/77/session/savi\n
 \n
 See in schedule: https://datatracker.ietf.org/meeting/77/agenda#row-77-2010-03-23-tue-1740-int-savi\n
END:VEVENT
BEGIN:VEVENT
UID:ietf-77-1640-ancp
SUMMARY:ancp - Access Node Control Protocol
LOCATION:Huntington
STATUS:CONFIRMED
CLASS:PUBLIC
DTSTART;TZID=America/Los_Angeles:20100324T090000
DTEND;TZID=America/Los_Angeles:20100324T101500
DTSTAMP:20161222T095708Z
URL:https://datatracker.ietf.org/meeting/77/materials/agenda-77-ancp
DESCRIPTION:Morning Session I\n
 \n
 Agenda https://datatracker.ietf.org/meeting/77/materials/agenda-77-ancp\n
 \n
 Session materials: https://datatracker.ietf.org/meeting/77/session/ancp\n
 \n
 See in schedule: https://datatracker.ietf.org/meeting/77/agenda#row-77-2010-03-24-wed-0900-int-ancp\n
END:VEVENT
BEGIN:VEVENT
UID:ietf-77-1564-lisp
SUMMARY:lisp - Locator/ID Separation Protocol
LOCATION:California B
STATUS:CONFIRMED
CLASS:PUBLIC
DTSTART;TZID=America/Los_Angeles:20100324T090000
DTEND;TZID=America/Los_Angeles:20100324T101500
DTSTAMP:20161222T095708Z
URL:https://datatracker.ietf.org/meeting/77/materials/agenda-77-lisp
DESCRIPTION:Morning Session I\n
 \n
 Agenda https://datatracker.ietf.org/meeting/77/materials/agenda-77-lisp\n
 \n
 Session materials: https://datatracker.ietf.org/meeting/77/session/lisp\n
 \n
 See in schedule: https://datatracker.ietf.org/meeting/77/agenda#row-77-2010-03-24-wed-0900-int-lisp\n
END:VEVENT
BEGIN:VEVENT
UID:ietf-77-1641-ancp
SUMMARY:ancp - Access Node Control Protocol
LOCATION:Huntington
STATUS:CONFIRMED
CLASS:PUBLIC
DTSTART;TZID=America/Los_Angeles:20100324T103000
DTEND;TZID=America/Los_Angeles:20100324T113000
DTSTAMP:20161222T095708Z
URL:https://datatracker.ietf.org/meeting/77/materials/agenda-77-ancp
DESCRIPTION:Morning Session II\n
 \n
 Agenda https://datatracker.ietf.org/meeting/77/materials/agenda-77-ancp\n
 \n
 Session materials: https://datatracker.ietf.org/meeting/77/session/ancp\n
 \n
 See in schedule: https://datatracker.ietf.org/meeting/77/agenda#row-77-2010-03-24-wed-1030-int-ancp\n
END:VEVENT
BEGIN:VEVENT
UID:ietf-77-1565-lisp
SUMMARY:lisp - Locator/ID Separation Protocol
LOCATION:California B
STATUS:CONFIRMED
CLASS:PUBLIC
DTSTART;TZID=America/Los_Angeles:20100324T103000
DTEND;TZID=America/Los_Angeles:20100324T113000
DTSTAMP:20161222T095708Z
URL:https://datatracker.ietf.org/meeting/77/materials/agenda-77-lisp
DESCRIPTION:Morning Session II\n
 \n
 Agenda https://datatracker.ietf.org/meeting/77/materials/agenda-77-lisp\n
 \n
 Session materials: https://datatracker.ietf.org/meeting/77/session/lisp\n
 \n
 See in schedule: https://datatracker.ietf.org/meeting/77/agenda#row-77-2010-03-24-wed-1030-int-lisp\n
END:VEVENT
BEGIN:VEVENT
UID:ietf-77-1588-6man
SUMMARY:6man - IPv6 Maintenance
LOCATION:Huntington
STATUS:CONFIRMED
CLASS:PUBLIC
DTSTART;TZID=America/Los_Angeles:20100324T130000
DTEND;TZID=America/Los_Angeles:20100324T150000
DTSTAMP:20161222T095708Z
URL:https://datatracker.ietf.org/meeting/77/materials/agenda-77-6man
DESCRIPTION:Afternoon Session I\n
 \n
 Agenda https://datatracker.ietf.org/meeting/77/materials/agenda-77-6man\n
 \n
 Session materials: https://datatracker.ietf.org/meeting/77/session/6man\n
 \n
 See in schedule: https://datatracker.ietf.org/meeting/77/agenda#row-77-2010-03-24-wed-1300-int-6man\n
END:VEVENT
BEGIN:VEVENT
UID:ietf-77-1589-6man
SUMMARY:6man - IPv6 Maintenance
LOCATION:Huntington
STATUS:CONFIRMED
CLASS:PUBLIC
DTSTART;TZID=America/Los_Angeles:20100324T151000
DTEND;TZID=America/Los_Angeles:20100324T161000
DTSTAMP:20161222T095708Z
URL:https://datatracker.ietf.org/meeting/77/materials/agenda-77-6man
DESCRIPTION:Afternoon Session II\n
 \n
 Agenda https://datatracker.ietf.org/meeting/77/materials/agenda-77-6man\n
 \n
 Session materials: https://datatracker.ietf.org/meeting/77/session/6man\n
 \n
 See in schedule: https://datatracker.ietf.org/meeting/77/agenda#row-77-2010-03-24-wed-1510-int-6man\n
END:VEVENT
BEGIN:VEVENT
UID:ietf-77-1672-softwire
SUMMARY:softwire - Softwires
LOCATION:California D
STATUS:CONFIRMED
CLASS:PUBLIC
DTSTART;TZID=America/Los_Angeles:20100324T151000
DTEND;TZID=America/Los_Angeles:20100324T161000
DTSTAMP:20161222T095708Z
URL:https://datatracker.ietf.org/meeting/77/materials/agenda-77-softwire
DESCRIPTION:Afternoon Session II\n
 \n
 Agenda https://datatracker.ietf.org/meeting/77/materials/agenda-77-softwire\n
 \n
 Session materials: https://datatracker.ietf.org/meeting/77/session/softwire\n
 \n
 See in schedule: https://datatracker.ietf.org/meeting/77/agenda#row-77-2010-03-24-wed-1510-int-softwire\n
END:VEVENT
BEGIN:VEVENT
UID:ietf-77-1536-dhc
SUMMARY:dhc - Dynamic Host Configuration
LOCATION:California B
STATUS:CONFIRMED
CLASS:PUBLIC
DTSTART;TZID=America/Los_Angeles:20100325T090000
DTEND;TZID=America/Los_Angeles:20100325T113000
DTSTAMP:20161222T095708Z
URL:https://datatracker.ietf.org/meeting/77/materials/agenda-77-dhc
DESCRIPTION:Morning Session I\n
 \n
 Agenda https://datatracker.ietf.org/meeting/77/materials/agenda-77-dhc\n
 \n
 Session materials: https://datatracker.ietf.org/meeting/77/session/dhc\n
 \n
 See in schedule: https://datatracker.ietf.org/meeting/77/agenda#row-77-2010-03-25-thu-0900-int-dhc\n
END:VEVENT
BEGIN:VEVENT
UID:ietf-77-1544-multimob
SUMMARY:multimob - Multicast Mobility
LOCATION:Manhattan
STATUS:CONFIRMED
CLASS:PUBLIC
DTSTART;TZID=America/Los_Angeles:20100325T090000
DTEND;TZID=America/Los_Angeles:20100325T113000
DTSTAMP:20161222T095708Z
URL:https://datatracker.ietf.org/meeting/77/materials/agenda-77-multimob
DESCRIPTION:Morning Session I\n
 \n
 Agenda https://datatracker.ietf.org/meeting/77/materials/agenda-77-multimob\n
 \n
 Session materials: https://datatracker.ietf.org/meeting/77/session/multimob\n
 \n
 See in schedule: https://datatracker.ietf.org/meeting/77/agenda#row-77-2010-03-25-thu-0900-int-multimob\n
END:VEVENT
BEGIN:VEVENT
UID:ietf-77-1568-netext
SUMMARY:netext - Network-Based Mobility Extensions
LOCATION:Redondo
STATUS:CONFIRMED
CLASS:PUBLIC
DTSTART;TZID=America/Los_Angeles:20100325T130000
DTEND;TZID=America/Los_Angeles:20100325T150000
DTSTAMP:20161222T095708Z
URL:https://datatracker.ietf.org/meeting/77/materials/agenda-77-netext
DESCRIPTION:Afternoon Session I\n
 \n
 Agenda https://datatracker.ietf.org/meeting/77/materials/agenda-77-netext\n
 \n
 Session materials: https://datatracker.ietf.org/meeting/77/session/netext\n
 \n
 See in schedule: https://datatracker.ietf.org/meeting/77/agenda#row-77-2010-03-25-thu-1300-int-netext\n
END:VEVENT
BEGIN:VEVENT
UID:ietf-77-1543-hip
SUMMARY:hip - Host Identity Protocol
LOCATION:Palos Verdes
STATUS:CONFIRMED
CLASS:PUBLIC
DTSTART;TZID=America/Los_Angeles:20100325T151000
DTEND;TZID=America/Los_Angeles:20100325T161000
DTSTAMP:20161222T095708Z
URL:https://datatracker.ietf.org/meeting/77/materials/agenda-77-hip
DESCRIPTION:Afternoon Session II\n
 \n
 Agenda https://datatracker.ietf.org/meeting/77/materials/agenda-77-hip\n
 \n
 Session materials: https://datatracker.ietf.org/meeting/77/session/hip\n
 \n
 See in schedule: https://datatracker.ietf.org/meeting/77/agenda#row-77-2010-03-25-thu-1510-int-hip\n
END:VEVENT
BEGIN:VEVENT
UID:ietf-77-1561-autoconf
SUMMARY:autoconf - Ad-Hoc Network Autoconfiguration
LOCATION:Huntington
STATUS:CONFIRMED
CLASS:PUBLIC
DTSTART;TZID=America/Los_Angeles:20100326T090000
DTEND;TZID=America/Los_Angeles:20100326T113000
DTSTAMP:20161222T095708Z
URL:https://datatracker.ietf.org/meeting/77/materials/agenda-77-autoconf
DESCRIPTION:Morning Session I\n
 \n
 Agenda https://datatracker.ietf.org/meeting/77/materials/agenda-77-autoconf\n
 \n
 Session materials: https://datatracker.ietf.org/meeting/77/session/autoconf\n
 \n
 See in schedule: https://datatracker.ietf.org/meeting/77/agenda#row-77-2010-03-26-fri-0900-int-autoconf\n
END:VEVENT
BEGIN:VEVENT
UID:ietf-77-1634-mip4
SUMMARY:mip4 - Mobility for IPv4
LOCATION:Palos Verdes
STATUS:CONFIRMED
CLASS:PUBLIC
DTSTART;TZID=America/Los_Angeles:20100326T130000
DTEND;TZID=America/Los_Angeles:20100326T140000
DTSTAMP:20161222T095708Z
URL:https://datatracker.ietf.org/meeting/77/materials/agenda-77-mip4
DESCRIPTION:Afternoon Session I\n
 \n
 Agenda https://datatracker.ietf.org/meeting/77/materials/agenda-77-mip4\n
 \n
 Session materials: https://datatracker.ietf.org/meeting/77/session/mip4\n
 \n
 See in schedule: https://datatracker.ietf.org/meeting/77/agenda#row-77-2010-03-26-fri-1300-int-mip4\n
END:VEVENT
BEGIN:VEVENT
UID:ietf-77-1635-mip4
SUMMARY:mip4 - Mobility for IPv4
LOCATION:Palos Verdes
STATUS:CONFIRMED
CLASS:PUBLIC
DTSTART;TZID=America/Los_Angeles:20100326T141500
DTEND;TZID=America/Los_Angeles:20100326T151500
DTSTAMP:20161222T095708Z
URL:https://datatracker.ietf.org/meeting/77/materials/agenda-77-mip4
DESCRIPTION:Afternoon Session II\n
 \n
 Agenda https://datatracker.ietf.org/meeting/77/materials/agenda-77-mip4\n
 \n
 Session materials: https://datatracker.ietf.org/meeting/77/session/mip4\n
 \n
 See in schedule: https://datatracker.ietf.org/meeting/77/agenda#row-77-2010-03-26-fri-1415-int-mip4\n
END:VEVENT
END:VCALENDAR
