BEGIN:VCALENDAR
VERSION:2.0
METHOD:PUBLISH
PRODID:-//IETF//datatracker.ietf.org ical agenda//EN
BEGIN:VTIMEZONE
TZID:America/Los_Angeles
X-LIC-LOCATION:America/Los_Angeles
BEGIN:DAYLIGHT
TZOFFSETFROM:-0800
TZOFFSETTO:-0700
TZNAME:PDT
DTSTART:20070311T020000
RRULE:FREQ=YEARLY;BYMONTH=3;BYDAY=2SU
END:DAYLIGHT
BEGIN:STANDARD
TZOFFSETFROM:-0700
TZOFFSETTO:-0800
TZNAME:PST
DTSTART:20071104T020000
RRULE:FREQ=YEARLY;BYMONTH=11;BYDAY=1SU
END:STANDARD
BEGIN:STANDARD
TZOFFSETFROM:-075258
TZOFFSETTO:-0800
TZNAME:PST
DTSTART:18831118T120702
RDATE:18831118T120702
END:STANDARD
BEGIN:DAYLIGHT
TZOFFSETFROM:-0800
TZOFFSETTO:-0700
TZNAME:PDT
DTSTART:19180331T020000
RDATE:19180331T020000
RDATE:19190330T020000
RDATE:19480314T020000
RDATE:19500430T020000
RDATE:19510429T020000
RDATE:19520427T020000
RDATE:19530426T020000
RDATE:19540425T020000
RDATE:19550424T020000
RDATE:19560429T020000
RDATE:19570428T020000
RDATE:19580427T020000
RDATE:19590426T020000
RDATE:19600424T020000
RDATE:19610430T020000
RDATE:19620429T020000
RDATE:19630428T020000
RDATE:19640426T020000
RDATE:19650425T020000
RDATE:19660424T020000
RDATE:19670430T020000
RDATE:19680428T020000
RDATE:19690427T020000
RDATE:19700426T020000
RDATE:19710425T020000
RDATE:19720430T020000
RDATE:19730429T020000
RDATE:19740106T020000
RDATE:19750223T020000
RDATE:19760425T020000
RDATE:19770424T020000
RDATE:19780430T020000
RDATE:19790429T020000
RDATE:19800427T020000
RDATE:19810426T020000
RDATE:19820425T020000
RDATE:19830424T020000
RDATE:19840429T020000
RDATE:19850428T020000
RDATE:19860427T020000
RDATE:19870405T020000
RDATE:19880403T020000
RDATE:19890402T020000
RDATE:19900401T020000
RDATE:19910407T020000
RDATE:19920405T020000
RDATE:19930404T020000
RDATE:19940403T020000
RDATE:19950402T020000
RDATE:19960407T020000
RDATE:19970406T020000
RDATE:19980405T020000
RDATE:19990404T020000
RDATE:20000402T020000
RDATE:20010401T020000
RDATE:20020407T020000
RDATE:20030406T020000
RDATE:20040404T020000
RDATE:20050403T020000
RDATE:20060402T020000
END:DAYLIGHT
BEGIN:STANDARD
TZOFFSETFROM:-0700
TZOFFSETTO:-0800
TZNAME:PST
DTSTART:19181027T020000
RDATE:19181027T020000
RDATE:19191026T020000
RDATE:19450930T020000
RDATE:19490101T020000
RDATE:19500924T020000
RDATE:19510930T020000
RDATE:19520928T020000
RDATE:19530927T020000
RDATE:19540926T020000
RDATE:19550925T020000
RDATE:19560930T020000
RDATE:19570929T020000
RDATE:19580928T020000
RDATE:19590927T020000
RDATE:19600925T020000
RDATE:19610924T020000
RDATE:19621028T020000
RDATE:19631027T020000
RDATE:19641025T020000
RDATE:19651031T020000
RDATE:19661030T020000
RDATE:19671029T020000
RDATE:19681027T020000
RDATE:19691026T020000
RDATE:19701025T020000
RDATE:19711031T020000
RDATE:19721029T020000
RDATE:19731028T020000
RDATE:19741027T020000
RDATE:19751026T020000
RDATE:19761031T020000
RDATE:19771030T020000
RDATE:19781029T020000
RDATE:19791028T020000
RDATE:19801026T020000
RDATE:19811025T020000
RDATE:19821031T020000
RDATE:19831030T020000
RDATE:19841028T020000
RDATE:19851027T020000
RDATE:19861026T020000
RDATE:19871025T020000
RDATE:19881030T020000
RDATE:19891029T020000
RDATE:19901028T020000
RDATE:19911027T020000
RDATE:19921025T020000
RDATE:19931031T020000
RDATE:19941030T020000
RDATE:19951029T020000
RDATE:19961027T020000
RDATE:19971026T020000
RDATE:19981025T020000
RDATE:19991031T020000
RDATE:20001029T020000
RDATE:20011028T020000
RDATE:20021027T020000
RDATE:20031026T020000
RDATE:20041031T020000
RDATE:20051030T020000
RDATE:20061029T020000
END:STANDARD
BEGIN:DAYLIGHT
TZOFFSETFROM:-0800
TZOFFSETTO:-0700
TZNAME:PWT
DTSTART:19420209T020000
RDATE:19420209T020000
END:DAYLIGHT
BEGIN:DAYLIGHT
TZOFFSETFROM:-0700
TZOFFSETTO:-0700
TZNAME:PPT
DTSTART:19450814T160000
RDATE:19450814T160000
END:DAYLIGHT
BEGIN:STANDARD
TZOFFSETFROM:-0800
TZOFFSETTO:-0800
TZNAME:PST
DTSTART:19460101T000000
RDATE:19460101T000000
RDATE:19670101T000000
END:STANDARD
END:VTIMEZONE
BEGIN:VEVENT
UID:ietf-77-1559-ecrit
SUMMARY:ecrit - Emergency Context Resolution with Internet Technologies
LOCATION:Palos Verdes
STATUS:CONFIRMED
CLASS:PUBLIC
DTSTART;TZID=America/Los_Angeles:20100322T090000
DTEND;TZID=America/Los_Angeles:20100322T113000
DTSTAMP:20161222T095708Z
URL:https://datatracker.ietf.org/meeting/77/materials/agenda-77-ecrit
DESCRIPTION:Morning Session I\n
 \n
 Agenda https://datatracker.ietf.org/meeting/77/materials/agenda-77-ecrit\n
 \n
 Session materials: https://datatracker.ietf.org/meeting/77/session/ecrit\n
 \n
 See in schedule: https://datatracker.ietf.org/meeting/77/agenda#row-77-2010-03-22-mon-0900-rai-ecrit\n
END:VEVENT
BEGIN:VEVENT
UID:ietf-77-1623-martini
SUMMARY:martini - Multiple AoR reachabiliTy InformatioN Indication
LOCATION:Palos Verdes
STATUS:CONFIRMED
CLASS:PUBLIC
DTSTART;TZID=America/Los_Angeles:20100322T130000
DTEND;TZID=America/Los_Angeles:20100322T150000
DTSTAMP:20161222T095708Z
URL:https://datatracker.ietf.org/meeting/77/materials/agenda-77-martini
DESCRIPTION:Afternoon Session I\n
 \n
 Agenda https://datatracker.ietf.org/meeting/77/materials/agenda-77-martini\n
 \n
 Session materials: https://datatracker.ietf.org/meeting/77/session/martini\n
 \n
 See in schedule: https://datatracker.ietf.org/meeting/77/agenda#row-77-2010-03-22-mon-1300-rai-martini\n
END:VEVENT
BEGIN:VEVENT
UID:ietf-77-1629-speermint
SUMMARY:speermint - Session PEERing for Multimedia INTerconnect
LOCATION:Palos Verdes
STATUS:CONFIRMED
CLASS:PUBLIC
DTSTART;TZID=America/Los_Angeles:20100322T152000
DTEND;TZID=America/Los_Angeles:20100322T172000
DTSTAMP:20161222T095708Z
URL:https://datatracker.ietf.org/meeting/77/materials/agenda-77-speermint
DESCRIPTION:Afternoon Session II\n
 \n
 Agenda https://datatracker.ietf.org/meeting/77/materials/agenda-77-speermint\n
 \n
 Session materials: https://datatracker.ietf.org/meeting/77/session/speermint\n
 \n
 See in schedule: https://datatracker.ietf.org/meeting/77/agenda#row-77-2010-03-22-mon-1520-rai-speermint\n
END:VEVENT
BEGIN:VEVENT
UID:ietf-77-1627-codec
SUMMARY:codec - Internet Wideband Audio Codec
LOCATION:California C
STATUS:CONFIRMED
CLASS:PUBLIC
DTSTART;TZID=America/Los_Angeles:20100322T174000
DTEND;TZID=America/Los_Angeles:20100322T194000
DTSTAMP:20161222T095708Z
URL:https://datatracker.ietf.org/meeting/77/materials/agenda-77-codec
DESCRIPTION:Afternoon Session III\n
 \n
 Agenda https://datatracker.ietf.org/meeting/77/materials/agenda-77-codec\n
 \n
 Session materials: https://datatracker.ietf.org/meeting/77/session/codec\n
 \n
 See in schedule: https://datatracker.ietf.org/meeting/77/agenda#row-77-2010-03-22-mon-1740-rai-codec\n
END:VEVENT
BEGIN:VEVENT
UID:ietf-77-1653-sipcore
SUMMARY:sipcore - Session Initiation Protocol Core (SIPCORE 0900-1030)
LOCATION:California B
STATUS:CONFIRMED
CLASS:PUBLIC
DTSTART;TZID=America/Los_Angeles:20100323T090000
DTEND;TZID=America/Los_Angeles:20100323T113000
DTSTAMP:20161222T095708Z
URL:https://datatracker.ietf.org/meeting/77/materials/agenda-77-sipcore
DESCRIPTION:Morning Session I\n
 Note: SIPCORE 0900-1030\n
 \n
 Agenda https://datatracker.ietf.org/meeting/77/materials/agenda-77-sipcore\n
 \n
 Session materials: https://datatracker.ietf.org/meeting/77/session/sipcore\n
 \n
 See in schedule: https://datatracker.ietf.org/meeting/77/agenda#row-77-2010-03-23-tue-0900-rai-sipcore\n
END:VEVENT
BEGIN:VEVENT
UID:ietf-77-1685-siprec
SUMMARY:siprec - SIP Recording (SIPREC 1030-1130)
LOCATION:California B
STATUS:CONFIRMED
CLASS:PUBLIC
DTSTART;TZID=America/Los_Angeles:20100323T090000
DTEND;TZID=America/Los_Angeles:20100323T113000
DTSTAMP:20161222T095708Z
URL:https://datatracker.ietf.org/meeting/77/materials/agenda-77-siprec
DESCRIPTION:Morning Session I\n
 Note: SIPREC 1030-1130\n
 \n
 Agenda https://datatracker.ietf.org/meeting/77/materials/agenda-77-siprec\n
 \n
 Session materials: https://datatracker.ietf.org/meeting/77/session/siprec\n
 \n
 See in schedule: https://datatracker.ietf.org/meeting/77/agenda#row-77-2010-03-23-tue-0900-rai-siprec\n
END:VEVENT
BEGIN:VEVENT
UID:ietf-77-1583-xmpp
SUMMARY:xmpp - Extensible Messaging and Presence Protocol
LOCATION:Palos Verdes
STATUS:CONFIRMED
CLASS:PUBLIC
DTSTART;TZID=America/Los_Angeles:20100323T130000
DTEND;TZID=America/Los_Angeles:20100323T150000
DTSTAMP:20161222T095708Z
URL:https://datatracker.ietf.org/meeting/77/materials/agenda-77-xmpp
DESCRIPTION:Afternoon Session I\n
 \n
 Agenda https://datatracker.ietf.org/meeting/77/materials/agenda-77-xmpp\n
 \n
 Session materials: https://datatracker.ietf.org/meeting/77/session/xmpp\n
 \n
 See in schedule: https://datatracker.ietf.org/meeting/77/agenda#row-77-2010-03-23-tue-1300-rai-xmpp\n
END:VEVENT
BEGIN:VEVENT
UID:ietf-77-1626-mmusic
SUMMARY:mmusic - Multiparty Multimedia Session Control (Room changed from Calilfornia D)
LOCATION:California B
STATUS:CONFIRMED
CLASS:PUBLIC
DTSTART;TZID=America/Los_Angeles:20100323T152000
DTEND;TZID=America/Los_Angeles:20100323T172000
DTSTAMP:20161222T095708Z
URL:https://datatracker.ietf.org/meeting/77/materials/agenda-77-mmusic
DESCRIPTION:Afternoon Session II\n
 Note: Room changed from Calilfornia D\n
 \n
 Agenda https://datatracker.ietf.org/meeting/77/materials/agenda-77-mmusic\n
 \n
 Session materials: https://datatracker.ietf.org/meeting/77/session/mmusic\n
 \n
 See in schedule: https://datatracker.ietf.org/meeting/77/agenda#row-77-2010-03-23-tue-1520-rai-mmusic\n
END:VEVENT
BEGIN:VEVENT
UID:ietf-77-1549-geopriv
SUMMARY:geopriv - Geographic Location/Privacy
LOCATION:California A
STATUS:CONFIRMED
CLASS:PUBLIC
DTSTART;TZID=America/Los_Angeles:20100323T174000
DTEND;TZID=America/Los_Angeles:20100323T194000
DTSTAMP:20161222T095708Z
URL:https://datatracker.ietf.org/meeting/77/materials/agenda-77-geopriv
DESCRIPTION:Afternoon Session III\n
 \n
 Agenda https://datatracker.ietf.org/meeting/77/materials/agenda-77-geopriv\n
 \n
 Session materials: https://datatracker.ietf.org/meeting/77/session/geopriv\n
 \n
 See in schedule: https://datatracker.ietf.org/meeting/77/agenda#row-77-2010-03-23-tue-1740-rai-geopriv\n
END:VEVENT
BEGIN:VEVENT
UID:ietf-77-1643-drinks
SUMMARY:drinks - Data for Reachability of Inter/tra-NetworK SIP
LOCATION:Palos Verdes
STATUS:CONFIRMED
CLASS:PUBLIC
DTSTART;TZID=America/Los_Angeles:20100324T090000
DTEND;TZID=America/Los_Angeles:20100324T101500
DTSTAMP:20161222T095708Z
URL:https://datatracker.ietf.org/meeting/77/materials/agenda-77-drinks
DESCRIPTION:Morning Session I\n
 \n
 Agenda https://datatracker.ietf.org/meeting/77/materials/agenda-77-drinks\n
 \n
 Session materials: https://datatracker.ietf.org/meeting/77/session/drinks\n
 \n
 See in schedule: https://datatracker.ietf.org/meeting/77/agenda#row-77-2010-03-24-wed-0900-rai-drinks\n
END:VEVENT
BEGIN:VEVENT
UID:ietf-77-1644-drinks
SUMMARY:drinks - Data for Reachability of Inter/tra-NetworK SIP
LOCATION:Palos Verdes
STATUS:CONFIRMED
CLASS:PUBLIC
DTSTART;TZID=America/Los_Angeles:20100324T103000
DTEND;TZID=America/Los_Angeles:20100324T113000
DTSTAMP:20161222T095708Z
URL:https://datatracker.ietf.org/meeting/77/materials/agenda-77-drinks
DESCRIPTION:Morning Session II\n
 \n
 Agenda https://datatracker.ietf.org/meeting/77/materials/agenda-77-drinks\n
 \n
 Session materials: https://datatracker.ietf.org/meeting/77/session/drinks\n
 \n
 See in schedule: https://datatracker.ietf.org/meeting/77/agenda#row-77-2010-03-24-wed-1030-rai-drinks\n
END:VEVENT
BEGIN:VEVENT
UID:ietf-77-1566-avt
SUMMARY:avt - Audio/Video Transport
LOCATION:Palos Verdes
STATUS:CONFIRMED
CLASS:PUBLIC
DTSTART;TZID=America/Los_Angeles:20100324T130000
DTEND;TZID=America/Los_Angeles:20100324T150000
DTSTAMP:20161222T095708Z
URL:https://datatracker.ietf.org/meeting/77/materials/agenda-77-avt
DESCRIPTION:Afternoon Session I\n
 \n
 Agenda https://datatracker.ietf.org/meeting/77/materials/agenda-77-avt\n
 \n
 Session materials: https://datatracker.ietf.org/meeting/77/session/avt\n
 \n
 See in schedule: https://datatracker.ietf.org/meeting/77/agenda#row-77-2010-03-24-wed-1300-rai-avt\n
END:VEVENT
BEGIN:VEVENT
UID:ietf-77-1668-e2md
SUMMARY:e2md - E. 164 to Metadata
LOCATION:Redondo
STATUS:CONFIRMED
CLASS:PUBLIC
DTSTART;TZID=America/Los_Angeles:20100324T151000
DTEND;TZID=America/Los_Angeles:20100324T161000
DTSTAMP:20161222T095708Z
URL:https://datatracker.ietf.org/meeting/77/materials/agenda-77-e2md
DESCRIPTION:Afternoon Session II\n
 \n
 Agenda https://datatracker.ietf.org/meeting/77/materials/agenda-77-e2md\n
 \n
 Session materials: https://datatracker.ietf.org/meeting/77/session/e2md\n
 \n
 See in schedule: https://datatracker.ietf.org/meeting/77/agenda#row-77-2010-03-24-wed-1510-rai-e2md\n
END:VEVENT
BEGIN:VEVENT
UID:ietf-77-1625-mediactrl
SUMMARY:mediactrl - Media Server Control
LOCATION:Huntington
STATUS:CONFIRMED
CLASS:PUBLIC
DTSTART;TZID=America/Los_Angeles:20100325T090000
DTEND;TZID=America/Los_Angeles:20100325T113000
DTSTAMP:20161222T095708Z
URL:https://datatracker.ietf.org/meeting/77/materials/agenda-77-mediactrl
DESCRIPTION:Morning Session I\n
 \n
 Agenda https://datatracker.ietf.org/meeting/77/materials/agenda-77-mediactrl\n
 \n
 Session materials: https://datatracker.ietf.org/meeting/77/session/mediactrl\n
 \n
 See in schedule: https://datatracker.ietf.org/meeting/77/agenda#row-77-2010-03-25-thu-0900-rai-mediactrl\n
END:VEVENT
BEGIN:VEVENT
UID:ietf-77-1569-p2psip
SUMMARY:p2psip - Peer-to-Peer Session Initiation Protocol
LOCATION:California A
STATUS:CONFIRMED
CLASS:PUBLIC
DTSTART;TZID=America/Los_Angeles:20100325T130000
DTEND;TZID=America/Los_Angeles:20100325T150000
DTSTAMP:20161222T095708Z
URL:https://datatracker.ietf.org/meeting/77/materials/agenda-77-p2psip
DESCRIPTION:Afternoon Session I\n
 \n
 Agenda https://datatracker.ietf.org/meeting/77/materials/agenda-77-p2psip\n
 \n
 Session materials: https://datatracker.ietf.org/meeting/77/session/p2psip\n
 \n
 See in schedule: https://datatracker.ietf.org/meeting/77/agenda#row-77-2010-03-25-thu-1300-rai-p2psip\n
END:VEVENT
BEGIN:VEVENT
UID:ietf-77-1567-avt
SUMMARY:avt - Audio/Video Transport
LOCATION:California D
STATUS:CONFIRMED
CLASS:PUBLIC
DTSTART;TZID=America/Los_Angeles:20100325T151000
DTEND;TZID=America/Los_Angeles:20100325T161000
DTSTAMP:20161222T095708Z
URL:https://datatracker.ietf.org/meeting/77/materials/agenda-77-avt
DESCRIPTION:Afternoon Session II\n
 \n
 Agenda https://datatracker.ietf.org/meeting/77/materials/agenda-77-avt\n
 \n
 Session materials: https://datatracker.ietf.org/meeting/77/session/avt\n
 \n
 See in schedule: https://datatracker.ietf.org/meeting/77/agenda#row-77-2010-03-25-thu-1510-rai-avt\n
END:VEVENT
BEGIN:VEVENT
UID:ietf-77-1652-sipclf
SUMMARY:sipclf - SIP Common Log Format
LOCATION:Manhattan
STATUS:CONFIRMED
CLASS:PUBLIC
DTSTART;TZID=America/Los_Angeles:20100326T090000
DTEND;TZID=America/Los_Angeles:20100326T113000
DTSTAMP:20161222T095708Z
URL:https://datatracker.ietf.org/meeting/77/materials/agenda-77-sipclf
DESCRIPTION:Morning Session I\n
 \n
 Agenda https://datatracker.ietf.org/meeting/77/materials/agenda-77-sipclf\n
 \n
 Session materials: https://datatracker.ietf.org/meeting/77/session/sipclf\n
 \n
 See in schedule: https://datatracker.ietf.org/meeting/77/agenda#row-77-2010-03-26-fri-0900-rai-sipclf\n
END:VEVENT
BEGIN:VEVENT
UID:ietf-77-1654-sipcore
SUMMARY:sipcore - Session Initiation Protocol Core (SIPCORE 0900-1030)
LOCATION:California D
STATUS:CONFIRMED
CLASS:PUBLIC
DTSTART;TZID=America/Los_Angeles:20100326T130000
DTEND;TZID=America/Los_Angeles:20100326T140000
DTSTAMP:20161222T095708Z
URL:https://datatracker.ietf.org/meeting/77/materials/agenda-77-sipcore
DESCRIPTION:Afternoon Session I\n
 Note: SIPCORE 0900-1030\n
 \n
 Agenda https://datatracker.ietf.org/meeting/77/materials/agenda-77-sipcore\n
 \n
 Session materials: https://datatracker.ietf.org/meeting/77/session/sipcore\n
 \n
 See in schedule: https://datatracker.ietf.org/meeting/77/agenda#row-77-2010-03-26-fri-1300-rai-sipcore\n
END:VEVENT
BEGIN:VEVENT
UID:ietf-77-1624-martini
SUMMARY:martini - Multiple AoR reachabiliTy InformatioN Indication
LOCATION:California D
STATUS:CONFIRMED
CLASS:PUBLIC
DTSTART;TZID=America/Los_Angeles:20100326T141500
DTEND;TZID=America/Los_Angeles:20100326T151500
DTSTAMP:20161222T095708Z
URL:https://datatracker.ietf.org/meeting/77/materials/agenda-77-martini
DESCRIPTION:Afternoon Session II\n
 \n
 Agenda https://datatracker.ietf.org/meeting/77/materials/agenda-77-martini\n
 \n
 Session materials: https://datatracker.ietf.org/meeting/77/session/martini\n
 \n
 See in schedule: https://datatracker.ietf.org/meeting/77/agenda#row-77-2010-03-26-fri-1415-rai-martini\n
END:VEVENT
END:VCALENDAR
