BEGIN:VCALENDAR
VERSION:2.0
METHOD:PUBLISH
PRODID:-//IETF//datatracker.ietf.org ical agenda//EN
BEGIN:VTIMEZONE
TZID:America/Los_Angeles
X-LIC-LOCATION:America/Los_Angeles
BEGIN:DAYLIGHT
TZOFFSETFROM:-0800
TZOFFSETTO:-0700
TZNAME:PDT
DTSTART:20070311T020000
RRULE:FREQ=YEARLY;BYMONTH=3;BYDAY=2SU
END:DAYLIGHT
BEGIN:STANDARD
TZOFFSETFROM:-0700
TZOFFSETTO:-0800
TZNAME:PST
DTSTART:20071104T020000
RRULE:FREQ=YEARLY;BYMONTH=11;BYDAY=1SU
END:STANDARD
BEGIN:STANDARD
TZOFFSETFROM:-075258
TZOFFSETTO:-0800
TZNAME:PST
DTSTART:18831118T120702
RDATE:18831118T120702
END:STANDARD
BEGIN:DAYLIGHT
TZOFFSETFROM:-0800
TZOFFSETTO:-0700
TZNAME:PDT
DTSTART:19180331T020000
RDATE:19180331T020000
RDATE:19190330T020000
RDATE:19480314T020000
RDATE:19500430T020000
RDATE:19510429T020000
RDATE:19520427T020000
RDATE:19530426T020000
RDATE:19540425T020000
RDATE:19550424T020000
RDATE:19560429T020000
RDATE:19570428T020000
RDATE:19580427T020000
RDATE:19590426T020000
RDATE:19600424T020000
RDATE:19610430T020000
RDATE:19620429T020000
RDATE:19630428T020000
RDATE:19640426T020000
RDATE:19650425T020000
RDATE:19660424T020000
RDATE:19670430T020000
RDATE:19680428T020000
RDATE:19690427T020000
RDATE:19700426T020000
RDATE:19710425T020000
RDATE:19720430T020000
RDATE:19730429T020000
RDATE:19740106T020000
RDATE:19750223T020000
RDATE:19760425T020000
RDATE:19770424T020000
RDATE:19780430T020000
RDATE:19790429T020000
RDATE:19800427T020000
RDATE:19810426T020000
RDATE:19820425T020000
RDATE:19830424T020000
RDATE:19840429T020000
RDATE:19850428T020000
RDATE:19860427T020000
RDATE:19870405T020000
RDATE:19880403T020000
RDATE:19890402T020000
RDATE:19900401T020000
RDATE:19910407T020000
RDATE:19920405T020000
RDATE:19930404T020000
RDATE:19940403T020000
RDATE:19950402T020000
RDATE:19960407T020000
RDATE:19970406T020000
RDATE:19980405T020000
RDATE:19990404T020000
RDATE:20000402T020000
RDATE:20010401T020000
RDATE:20020407T020000
RDATE:20030406T020000
RDATE:20040404T020000
RDATE:20050403T020000
RDATE:20060402T020000
END:DAYLIGHT
BEGIN:STANDARD
TZOFFSETFROM:-0700
TZOFFSETTO:-0800
TZNAME:PST
DTSTART:19181027T020000
RDATE:19181027T020000
RDATE:19191026T020000
RDATE:19450930T020000
RDATE:19490101T020000
RDATE:19500924T020000
RDATE:19510930T020000
RDATE:19520928T020000
RDATE:19530927T020000
RDATE:19540926T020000
RDATE:19550925T020000
RDATE:19560930T020000
RDATE:19570929T020000
RDATE:19580928T020000
RDATE:19590927T020000
RDATE:19600925T020000
RDATE:19610924T020000
RDATE:19621028T020000
RDATE:19631027T020000
RDATE:19641025T020000
RDATE:19651031T020000
RDATE:19661030T020000
RDATE:19671029T020000
RDATE:19681027T020000
RDATE:19691026T020000
RDATE:19701025T020000
RDATE:19711031T020000
RDATE:19721029T020000
RDATE:19731028T020000
RDATE:19741027T020000
RDATE:19751026T020000
RDATE:19761031T020000
RDATE:19771030T020000
RDATE:19781029T020000
RDATE:19791028T020000
RDATE:19801026T020000
RDATE:19811025T020000
RDATE:19821031T020000
RDATE:19831030T020000
RDATE:19841028T020000
RDATE:19851027T020000
RDATE:19861026T020000
RDATE:19871025T020000
RDATE:19881030T020000
RDATE:19891029T020000
RDATE:19901028T020000
RDATE:19911027T020000
RDATE:19921025T020000
RDATE:19931031T020000
RDATE:19941030T020000
RDATE:19951029T020000
RDATE:19961027T020000
RDATE:19971026T020000
RDATE:19981025T020000
RDATE:19991031T020000
RDATE:20001029T020000
RDATE:20011028T020000
RDATE:20021027T020000
RDATE:20031026T020000
RDATE:20041031T020000
RDATE:20051030T020000
RDATE:20061029T020000
END:STANDARD
BEGIN:DAYLIGHT
TZOFFSETFROM:-0800
TZOFFSETTO:-0700
TZNAME:PWT
DTSTART:19420209T020000
RDATE:19420209T020000
END:DAYLIGHT
BEGIN:DAYLIGHT
TZOFFSETFROM:-0700
TZOFFSETTO:-0700
TZNAME:PPT
DTSTART:19450814T160000
RDATE:19450814T160000
END:DAYLIGHT
BEGIN:STANDARD
TZOFFSETFROM:-0800
TZOFFSETTO:-0800
TZNAME:PST
DTSTART:19460101T000000
RDATE:19460101T000000
RDATE:19670101T000000
END:STANDARD
END:VTIMEZONE
BEGIN:VEVENT
UID:ietf-77-1587-ledbat
SUMMARY:ledbat - Low Extra Delay Background Transport
LOCATION:Manhattan
STATUS:CONFIRMED
CLASS:PUBLIC
DTSTART;TZID=America/Los_Angeles:20100322T090000
DTEND;TZID=America/Los_Angeles:20100322T113000
DTSTAMP:20161222T095708Z
URL:https://datatracker.ietf.org/meeting/77/materials/agenda-77-ledbat
DESCRIPTION:Morning Session I\n
 \n
 Agenda https://datatracker.ietf.org/meeting/77/materials/agenda-77-ledbat\n
 \n
 Session materials: https://datatracker.ietf.org/meeting/77/session/ledbat\n
 \n
 See in schedule: https://datatracker.ietf.org/meeting/77/agenda#row-77-2010-03-22-mon-0900-tsv-ledbat\n
END:VEVENT
BEGIN:VEVENT
UID:ietf-77-1570-tsvwg
SUMMARY:tsvwg - Transport Area Working Group
LOCATION:California C
STATUS:CONFIRMED
CLASS:PUBLIC
DTSTART;TZID=America/Los_Angeles:20100322T130000
DTEND;TZID=America/Los_Angeles:20100322T150000
DTSTAMP:20161222T095708Z
URL:https://datatracker.ietf.org/meeting/77/materials/agenda-77-tsvwg
DESCRIPTION:Afternoon Session I\n
 \n
 Agenda https://datatracker.ietf.org/meeting/77/materials/agenda-77-tsvwg\n
 \n
 Session materials: https://datatracker.ietf.org/meeting/77/session/tsvwg\n
 \n
 See in schedule: https://datatracker.ietf.org/meeting/77/agenda#row-77-2010-03-22-mon-1300-tsv-tsvwg\n
END:VEVENT
BEGIN:VEVENT
UID:ietf-77-1662-ppsp
SUMMARY:ppsp - Peer to Peer Streaming Protocol
LOCATION:Huntington
STATUS:CONFIRMED
CLASS:PUBLIC
DTSTART;TZID=America/Los_Angeles:20100322T152000
DTEND;TZID=America/Los_Angeles:20100322T172000
DTSTAMP:20161222T095708Z
URL:https://datatracker.ietf.org/meeting/77/materials/agenda-77-ppsp
DESCRIPTION:Afternoon Session II\n
 \n
 Agenda https://datatracker.ietf.org/meeting/77/materials/agenda-77-ppsp\n
 \n
 Session materials: https://datatracker.ietf.org/meeting/77/session/ppsp\n
 \n
 See in schedule: https://datatracker.ietf.org/meeting/77/agenda#row-77-2010-03-22-mon-1520-tsv-ppsp\n
END:VEVENT
BEGIN:VEVENT
UID:ietf-77-1608-rmt
SUMMARY:rmt - Reliable Multicast Transport
LOCATION:California A
STATUS:CONFIRMED
CLASS:PUBLIC
DTSTART;TZID=America/Los_Angeles:20100322T152000
DTEND;TZID=America/Los_Angeles:20100322T172000
DTSTAMP:20161222T095708Z
URL:https://datatracker.ietf.org/meeting/77/materials/agenda-77-rmt
DESCRIPTION:Afternoon Session II\n
 \n
 Agenda https://datatracker.ietf.org/meeting/77/materials/agenda-77-rmt\n
 \n
 Session materials: https://datatracker.ietf.org/meeting/77/session/rmt\n
 \n
 See in schedule: https://datatracker.ietf.org/meeting/77/agenda#row-77-2010-03-22-mon-1520-tsv-rmt\n
END:VEVENT
BEGIN:VEVENT
UID:ietf-77-1555-alto
SUMMARY:alto - Application-Layer Traffic Optimization
LOCATION:California A
STATUS:CONFIRMED
CLASS:PUBLIC
DTSTART;TZID=America/Los_Angeles:20100322T174000
DTEND;TZID=America/Los_Angeles:20100322T194000
DTSTAMP:20161222T095708Z
URL:https://datatracker.ietf.org/meeting/77/materials/agenda-77-alto
DESCRIPTION:Afternoon Session III\n
 \n
 Agenda https://datatracker.ietf.org/meeting/77/materials/agenda-77-alto\n
 \n
 Session materials: https://datatracker.ietf.org/meeting/77/session/alto\n
 \n
 See in schedule: https://datatracker.ietf.org/meeting/77/agenda#row-77-2010-03-22-mon-1740-tsv-alto\n
END:VEVENT
BEGIN:VEVENT
UID:ietf-77-1645-nfsv4
SUMMARY:nfsv4 - Network File System Version 4
LOCATION:Manhattan
STATUS:CONFIRMED
CLASS:PUBLIC
DTSTART;TZID=America/Los_Angeles:20100323T090000
DTEND;TZID=America/Los_Angeles:20100323T113000
DTSTAMP:20161222T095708Z
URL:https://datatracker.ietf.org/meeting/77/materials/agenda-77-nfsv4
DESCRIPTION:Morning Session I\n
 \n
 Agenda https://datatracker.ietf.org/meeting/77/materials/agenda-77-nfsv4\n
 \n
 Session materials: https://datatracker.ietf.org/meeting/77/session/nfsv4\n
 \n
 See in schedule: https://datatracker.ietf.org/meeting/77/agenda#row-77-2010-03-23-tue-0900-tsv-nfsv4\n
END:VEVENT
BEGIN:VEVENT
UID:ietf-77-1556-tcpm
SUMMARY:tcpm - TCP Maintenance and Minor Extensions
LOCATION:Manhattan
STATUS:CONFIRMED
CLASS:PUBLIC
DTSTART;TZID=America/Los_Angeles:20100323T130000
DTEND;TZID=America/Los_Angeles:20100323T150000
DTSTAMP:20161222T095708Z
URL:https://datatracker.ietf.org/meeting/77/materials/agenda-77-tcpm
DESCRIPTION:Afternoon Session I\n
 \n
 Agenda https://datatracker.ietf.org/meeting/77/materials/agenda-77-tcpm\n
 \n
 Session materials: https://datatracker.ietf.org/meeting/77/session/tcpm\n
 \n
 See in schedule: https://datatracker.ietf.org/meeting/77/agenda#row-77-2010-03-23-tue-1300-tsv-tcpm\n
END:VEVENT
BEGIN:VEVENT
UID:ietf-77-1598-fecframe
SUMMARY:fecframe - FEC Framework
LOCATION:Huntington
STATUS:CONFIRMED
CLASS:PUBLIC
DTSTART;TZID=America/Los_Angeles:20100323T152000
DTEND;TZID=America/Los_Angeles:20100323T172000
DTSTAMP:20161222T095708Z
URL:https://datatracker.ietf.org/meeting/77/materials/agenda-77-fecframe
DESCRIPTION:Afternoon Session II\n
 \n
 Agenda https://datatracker.ietf.org/meeting/77/materials/agenda-77-fecframe\n
 \n
 Session materials: https://datatracker.ietf.org/meeting/77/session/fecframe\n
 \n
 See in schedule: https://datatracker.ietf.org/meeting/77/agenda#row-77-2010-03-23-tue-1520-tsv-fecframe\n
END:VEVENT
BEGIN:VEVENT
UID:ietf-77-1605-mptcp
SUMMARY:mptcp - Multipath TCP
LOCATION:California C
STATUS:CONFIRMED
CLASS:PUBLIC
DTSTART;TZID=America/Los_Angeles:20100323T152000
DTEND;TZID=America/Los_Angeles:20100323T172000
DTSTAMP:20161222T095708Z
URL:https://datatracker.ietf.org/meeting/77/materials/agenda-77-mptcp
DESCRIPTION:Afternoon Session II\n
 \n
 Agenda https://datatracker.ietf.org/meeting/77/materials/agenda-77-mptcp\n
 \n
 Session materials: https://datatracker.ietf.org/meeting/77/session/mptcp\n
 \n
 See in schedule: https://datatracker.ietf.org/meeting/77/agenda#row-77-2010-03-23-tue-1520-tsv-mptcp\n
END:VEVENT
BEGIN:VEVENT
UID:ietf-77-1550-ippm
SUMMARY:ippm - IP Performance Metrics
LOCATION:Huntington
STATUS:CONFIRMED
CLASS:PUBLIC
DTSTART;TZID=America/Los_Angeles:20100323T174000
DTEND;TZID=America/Los_Angeles:20100323T194000
DTSTAMP:20161222T095708Z
URL:https://datatracker.ietf.org/meeting/77/materials/agenda-77-ippm
DESCRIPTION:Afternoon Session III\n
 \n
 Agenda https://datatracker.ietf.org/meeting/77/materials/agenda-77-ippm\n
 \n
 Session materials: https://datatracker.ietf.org/meeting/77/session/ippm\n
 \n
 See in schedule: https://datatracker.ietf.org/meeting/77/agenda#row-77-2010-03-23-tue-1740-tsv-ippm\n
END:VEVENT
BEGIN:VEVENT
UID:ietf-77-1599-tsvarea
SUMMARY:tsvarea - Transport Area Open Meeting
LOCATION:California C
STATUS:CONFIRMED
CLASS:PUBLIC
DTSTART;TZID=America/Los_Angeles:20100324T130000
DTEND;TZID=America/Los_Angeles:20100324T150000
DTSTAMP:20161222T095708Z
URL:https://datatracker.ietf.org/meeting/77/materials/agenda-77-tsvarea
DESCRIPTION:Afternoon Session I\n
 \n
 Agenda https://datatracker.ietf.org/meeting/77/materials/agenda-77-tsvarea\n
 \n
 Session materials: https://datatracker.ietf.org/meeting/77/session/tsvarea\n
 \n
 See in schedule: https://datatracker.ietf.org/meeting/77/agenda#row-77-2010-03-24-wed-1300-tsv-tsvarea\n
END:VEVENT
BEGIN:VEVENT
UID:ietf-77-1603-conex
SUMMARY:conex - Congestion Exposure
LOCATION:California C
STATUS:CONFIRMED
CLASS:PUBLIC
DTSTART;TZID=America/Los_Angeles:20100324T151000
DTEND;TZID=America/Los_Angeles:20100324T161000
DTSTAMP:20161222T095708Z
URL:https://datatracker.ietf.org/meeting/77/materials/agenda-77-conex
DESCRIPTION:Afternoon Session II\n
 \n
 Agenda https://datatracker.ietf.org/meeting/77/materials/agenda-77-conex\n
 \n
 Session materials: https://datatracker.ietf.org/meeting/77/session/conex\n
 \n
 See in schedule: https://datatracker.ietf.org/meeting/77/agenda#row-77-2010-03-24-wed-1510-tsv-conex\n
END:VEVENT
BEGIN:VEVENT
UID:ietf-77-1628-storm
SUMMARY:storm - STORage Maintenance
LOCATION:Redondo
STATUS:CONFIRMED
CLASS:PUBLIC
DTSTART;TZID=America/Los_Angeles:20100325T090000
DTEND;TZID=America/Los_Angeles:20100325T113000
DTSTAMP:20161222T095708Z
URL:https://datatracker.ietf.org/meeting/77/materials/agenda-77-storm
DESCRIPTION:Morning Session I\n
 \n
 Agenda https://datatracker.ietf.org/meeting/77/materials/agenda-77-storm\n
 \n
 Session materials: https://datatracker.ietf.org/meeting/77/session/storm\n
 \n
 See in schedule: https://datatracker.ietf.org/meeting/77/agenda#row-77-2010-03-25-thu-0900-tsv-storm\n
END:VEVENT
BEGIN:VEVENT
UID:ietf-77-1647-behave
SUMMARY:behave - Behavior Engineering for Hindrance Avoidance
LOCATION:California C
STATUS:CONFIRMED
CLASS:PUBLIC
DTSTART;TZID=America/Los_Angeles:20100325T130000
DTEND;TZID=America/Los_Angeles:20100325T150000
DTSTAMP:20161222T095708Z
URL:https://datatracker.ietf.org/meeting/77/materials/agenda-77-behave
DESCRIPTION:Afternoon Session I\n
 \n
 Agenda https://datatracker.ietf.org/meeting/77/materials/agenda-77-behave\n
 \n
 Session materials: https://datatracker.ietf.org/meeting/77/session/behave\n
 \n
 See in schedule: https://datatracker.ietf.org/meeting/77/agenda#row-77-2010-03-25-thu-1300-tsv-behave\n
END:VEVENT
BEGIN:VEVENT
UID:ietf-77-1648-behave
SUMMARY:behave - Behavior Engineering for Hindrance Avoidance
LOCATION:California C
STATUS:CONFIRMED
CLASS:PUBLIC
DTSTART;TZID=America/Los_Angeles:20100325T151000
DTEND;TZID=America/Los_Angeles:20100325T161000
DTSTAMP:20161222T095708Z
URL:https://datatracker.ietf.org/meeting/77/materials/agenda-77-behave
DESCRIPTION:Afternoon Session II\n
 \n
 Agenda https://datatracker.ietf.org/meeting/77/materials/agenda-77-behave\n
 \n
 Session materials: https://datatracker.ietf.org/meeting/77/session/behave\n
 \n
 See in schedule: https://datatracker.ietf.org/meeting/77/agenda#row-77-2010-03-25-thu-1510-tsv-behave\n
END:VEVENT
BEGIN:VEVENT
UID:ietf-77-1604-conex
SUMMARY:conex - Congestion Exposure
LOCATION:California B
STATUS:CONFIRMED
CLASS:PUBLIC
DTSTART;TZID=America/Los_Angeles:20100325T151000
DTEND;TZID=America/Los_Angeles:20100325T161000
DTSTAMP:20161222T095708Z
URL:https://datatracker.ietf.org/meeting/77/materials/agenda-77-conex
DESCRIPTION:Afternoon Session II\n
 \n
 Agenda https://datatracker.ietf.org/meeting/77/materials/agenda-77-conex\n
 \n
 Session materials: https://datatracker.ietf.org/meeting/77/session/conex\n
 \n
 See in schedule: https://datatracker.ietf.org/meeting/77/agenda#row-77-2010-03-25-thu-1510-tsv-conex\n
END:VEVENT
BEGIN:VEVENT
UID:ietf-77-1606-mptcp
SUMMARY:mptcp - Multipath TCP
LOCATION:California B
STATUS:CONFIRMED
CLASS:PUBLIC
DTSTART;TZID=America/Los_Angeles:20100326T090000
DTEND;TZID=America/Los_Angeles:20100326T113000
DTSTAMP:20161222T095708Z
URL:https://datatracker.ietf.org/meeting/77/materials/agenda-77-mptcp
DESCRIPTION:Morning Session I\n
 \n
 Agenda https://datatracker.ietf.org/meeting/77/materials/agenda-77-mptcp\n
 \n
 Session materials: https://datatracker.ietf.org/meeting/77/session/mptcp\n
 \n
 See in schedule: https://datatracker.ietf.org/meeting/77/agenda#row-77-2010-03-26-fri-0900-tsv-mptcp\n
END:VEVENT
BEGIN:VEVENT
UID:ietf-77-1649-behave
SUMMARY:behave - Behavior Engineering for Hindrance Avoidance
LOCATION:California B
STATUS:CONFIRMED
CLASS:PUBLIC
DTSTART;TZID=America/Los_Angeles:20100326T130000
DTEND;TZID=America/Los_Angeles:20100326T140000
DTSTAMP:20161222T095708Z
URL:https://datatracker.ietf.org/meeting/77/materials/agenda-77-behave
DESCRIPTION:Afternoon Session I\n
 \n
 Agenda https://datatracker.ietf.org/meeting/77/materials/agenda-77-behave\n
 \n
 Session materials: https://datatracker.ietf.org/meeting/77/session/behave\n
 \n
 See in schedule: https://datatracker.ietf.org/meeting/77/agenda#row-77-2010-03-26-fri-1300-tsv-behave\n
END:VEVENT
BEGIN:VEVENT
UID:ietf-77-1663-decade
SUMMARY:decade - Decoupled Application Data Enroute
LOCATION:Redondo
STATUS:CONFIRMED
CLASS:PUBLIC
DTSTART;TZID=America/Los_Angeles:20100326T130000
DTEND;TZID=America/Los_Angeles:20100326T140000
DTSTAMP:20161222T095708Z
URL:https://datatracker.ietf.org/meeting/77/materials/agenda-77-decade
DESCRIPTION:Afternoon Session I\n
 \n
 Agenda https://datatracker.ietf.org/meeting/77/materials/agenda-77-decade\n
 \n
 Session materials: https://datatracker.ietf.org/meeting/77/session/decade\n
 \n
 See in schedule: https://datatracker.ietf.org/meeting/77/agenda#row-77-2010-03-26-fri-1300-tsv-decade\n
END:VEVENT
BEGIN:VEVENT
UID:ietf-77-1657-pcn
SUMMARY:pcn - Congestion and Pre-Congestion Notification
LOCATION:Manhattan
STATUS:CONFIRMED
CLASS:PUBLIC
DTSTART;TZID=America/Los_Angeles:20100326T130000
DTEND;TZID=America/Los_Angeles:20100326T140000
DTSTAMP:20161222T095708Z
URL:https://datatracker.ietf.org/meeting/77/materials/agenda-77-pcn
DESCRIPTION:Afternoon Session I\n
 \n
 Agenda https://datatracker.ietf.org/meeting/77/materials/agenda-77-pcn\n
 \n
 Session materials: https://datatracker.ietf.org/meeting/77/session/pcn\n
 \n
 See in schedule: https://datatracker.ietf.org/meeting/77/agenda#row-77-2010-03-26-fri-1300-tsv-pcn\n
END:VEVENT
BEGIN:VEVENT
UID:ietf-77-1650-behave
SUMMARY:behave - Behavior Engineering for Hindrance Avoidance
LOCATION:California B
STATUS:CONFIRMED
CLASS:PUBLIC
DTSTART;TZID=America/Los_Angeles:20100326T141500
DTEND;TZID=America/Los_Angeles:20100326T151500
DTSTAMP:20161222T095708Z
URL:https://datatracker.ietf.org/meeting/77/materials/agenda-77-behave
DESCRIPTION:Afternoon Session II\n
 \n
 Agenda https://datatracker.ietf.org/meeting/77/materials/agenda-77-behave\n
 \n
 Session materials: https://datatracker.ietf.org/meeting/77/session/behave\n
 \n
 See in schedule: https://datatracker.ietf.org/meeting/77/agenda#row-77-2010-03-26-fri-1415-tsv-behave\n
END:VEVENT
BEGIN:VEVENT
UID:ietf-77-1664-decade
SUMMARY:decade - Decoupled Application Data Enroute
LOCATION:Redondo
STATUS:CONFIRMED
CLASS:PUBLIC
DTSTART;TZID=America/Los_Angeles:20100326T141500
DTEND;TZID=America/Los_Angeles:20100326T151500
DTSTAMP:20161222T095708Z
URL:https://datatracker.ietf.org/meeting/77/materials/agenda-77-decade
DESCRIPTION:Afternoon Session II\n
 \n
 Agenda https://datatracker.ietf.org/meeting/77/materials/agenda-77-decade\n
 \n
 Session materials: https://datatracker.ietf.org/meeting/77/session/decade\n
 \n
 See in schedule: https://datatracker.ietf.org/meeting/77/agenda#row-77-2010-03-26-fri-1415-tsv-decade\n
END:VEVENT
BEGIN:VEVENT
UID:ietf-77-1658-pcn
SUMMARY:pcn - Congestion and Pre-Congestion Notification
LOCATION:Manhattan
STATUS:CONFIRMED
CLASS:PUBLIC
DTSTART;TZID=America/Los_Angeles:20100326T141500
DTEND;TZID=America/Los_Angeles:20100326T151500
DTSTAMP:20161222T095708Z
URL:https://datatracker.ietf.org/meeting/77/materials/agenda-77-pcn
DESCRIPTION:Afternoon Session II\n
 \n
 Agenda https://datatracker.ietf.org/meeting/77/materials/agenda-77-pcn\n
 \n
 Session materials: https://datatracker.ietf.org/meeting/77/session/pcn\n
 \n
 See in schedule: https://datatracker.ietf.org/meeting/77/agenda#row-77-2010-03-26-fri-1415-tsv-pcn\n
END:VEVENT
END:VCALENDAR
