BEGIN:VCALENDAR
VERSION:2.0
METHOD:PUBLISH
PRODID:-//IETF//datatracker.ietf.org ical agenda//EN
BEGIN:VTIMEZONE
TZID:Europe/Amsterdam
X-LIC-LOCATION:Europe/Amsterdam
BEGIN:DAYLIGHT
TZOFFSETFROM:+0100
TZOFFSETTO:+0200
TZNAME:CEST
DTSTART:19810329T020000
RRULE:FREQ=YEARLY;BYMONTH=3;BYDAY=-1SU
END:DAYLIGHT
BEGIN:STANDARD
TZOFFSETFROM:+0200
TZOFFSETTO:+0100
TZNAME:CET
DTSTART:19961027T030000
RRULE:FREQ=YEARLY;BYMONTH=10;BYDAY=-1SU
END:STANDARD
BEGIN:STANDARD
TZOFFSETFROM:+001932
TZOFFSETTO:+001932
TZNAME:AMT
DTSTART:18350101T000000
RDATE:18350101T000000
END:STANDARD
BEGIN:DAYLIGHT
TZOFFSETFROM:+001932
TZOFFSETTO:+011932
TZNAME:NST
DTSTART:19160501T000000
RDATE:19160501T000000
RDATE:19170416T020000
RDATE:19180401T020000
RDATE:19190407T020000
RDATE:19200405T020000
RDATE:19210404T020000
RDATE:19220326T020000
RDATE:19230601T020000
RDATE:19240330T020000
RDATE:19250605T020000
RDATE:19260515T020000
RDATE:19270515T020000
RDATE:19280515T020000
RDATE:19290515T020000
RDATE:19300515T020000
RDATE:19310515T020000
RDATE:19320522T020000
RDATE:19330515T020000
RDATE:19340515T020000
RDATE:19350515T020000
RDATE:19360515T020000
RDATE:19370522T020000
END:DAYLIGHT
BEGIN:STANDARD
TZOFFSETFROM:+011932
TZOFFSETTO:+001932
TZNAME:AMT
DTSTART:19161001T000000
RDATE:19161001T000000
RDATE:19170917T030000
RDATE:19180930T030000
RDATE:19190929T030000
RDATE:19200927T030000
RDATE:19210926T030000
RDATE:19221008T030000
RDATE:19231007T030000
RDATE:19241005T030000
RDATE:19251004T030000
RDATE:19261003T030000
RDATE:19271002T030000
RDATE:19281007T030000
RDATE:19291006T030000
RDATE:19301005T030000
RDATE:19311004T030000
RDATE:19321002T030000
RDATE:19331008T030000
RDATE:19341007T030000
RDATE:19351006T030000
RDATE:19361004T030000
END:STANDARD
BEGIN:DAYLIGHT
TZOFFSETFROM:+011932
TZOFFSETTO:+0120
TZNAME:NEST
DTSTART:19370701T000000
RDATE:19370701T000000
END:DAYLIGHT
BEGIN:STANDARD
TZOFFSETFROM:+0120
TZOFFSETTO:+0020
TZNAME:NET
DTSTART:19371003T030000
RDATE:19371003T030000
RDATE:19381002T030000
RDATE:19391008T030000
END:STANDARD
BEGIN:DAYLIGHT
TZOFFSETFROM:+0020
TZOFFSETTO:+0120
TZNAME:NEST
DTSTART:19380515T020000
RDATE:19380515T020000
RDATE:19390515T020000
END:DAYLIGHT
BEGIN:DAYLIGHT
TZOFFSETFROM:+0020
TZOFFSETTO:+0200
TZNAME:CEST
DTSTART:19400516T000000
RDATE:19400516T000000
END:DAYLIGHT
BEGIN:STANDARD
TZOFFSETFROM:+0200
TZOFFSETTO:+0100
TZNAME:CET
DTSTART:19421102T030000
RDATE:19421102T030000
RDATE:19431004T030000
RDATE:19441002T030000
RDATE:19450916T030000
RDATE:19770925T030000
RDATE:19781001T030000
RDATE:19790930T030000
RDATE:19800928T030000
RDATE:19810927T030000
RDATE:19820926T030000
RDATE:19830925T030000
RDATE:19840930T030000
RDATE:19850929T030000
RDATE:19860928T030000
RDATE:19870927T030000
RDATE:19880925T030000
RDATE:19890924T030000
RDATE:19900930T030000
RDATE:19910929T030000
RDATE:19920927T030000
RDATE:19930926T030000
RDATE:19940925T030000
RDATE:19950924T030000
END:STANDARD
BEGIN:DAYLIGHT
TZOFFSETFROM:+0100
TZOFFSETTO:+0200
TZNAME:CEST
DTSTART:19430329T020000
RDATE:19430329T020000
RDATE:19440403T020000
RDATE:19450402T020000
RDATE:19770403T020000
RDATE:19780402T020000
RDATE:19790401T020000
RDATE:19800406T020000
END:DAYLIGHT
BEGIN:STANDARD
TZOFFSETFROM:+0100
TZOFFSETTO:+0100
TZNAME:CET
DTSTART:19770101T000000
RDATE:19770101T000000
END:STANDARD
END:VTIMEZONE
BEGIN:VEVENT
UID:ietf-78-1808-apparea
SUMMARY:apparea - Applications Area Open Meeting
LOCATION:2.1 Colorado
STATUS:CONFIRMED
CLASS:PUBLIC
DTSTART;TZID=Europe/Amsterdam:20100726T090000
DTEND;TZID=Europe/Amsterdam:20100726T113000
DTSTAMP:20161222T095708Z
URL:https://datatracker.ietf.org/meeting/78/materials/agenda-78-apparea
DESCRIPTION:Morning Session I\n
 \n
 Agenda https://datatracker.ietf.org/meeting/78/materials/agenda-78-apparea\n
 \n
 Session materials: https://datatracker.ietf.org/meeting/78/session/apparea\n
 \n
 See in schedule: https://datatracker.ietf.org/meeting/78/agenda#row-78-2010-07-26-mon-0900-app-apparea\n
END:VEVENT
BEGIN:VEVENT
UID:ietf-78-1733-httpbis
SUMMARY:httpbis - Hypertext Transfer Protocol Bis
LOCATION:0.1 London
STATUS:CONFIRMED
CLASS:PUBLIC
DTSTART;TZID=Europe/Amsterdam:20100726T152000
DTEND;TZID=Europe/Amsterdam:20100726T172000
DTSTAMP:20161222T095708Z
URL:https://datatracker.ietf.org/meeting/78/materials/agenda-78-httpbis
DESCRIPTION:Afternoon Session II\n
 \n
 Agenda https://datatracker.ietf.org/meeting/78/materials/agenda-78-httpbis\n
 \n
 Session materials: https://datatracker.ietf.org/meeting/78/session/httpbis\n
 \n
 See in schedule: https://datatracker.ietf.org/meeting/78/agenda#row-78-2010-07-26-mon-1520-app-httpbis\n
END:VEVENT
BEGIN:VEVENT
UID:ietf-78-1812-ftpext2
SUMMARY:ftpext2 - FTP Extensions, 2nd edition
LOCATION:2.1 Colorado
STATUS:CONFIRMED
CLASS:PUBLIC
DTSTART;TZID=Europe/Amsterdam:20100726T174000
DTEND;TZID=Europe/Amsterdam:20100726T194000
DTSTAMP:20161222T095708Z
URL:https://datatracker.ietf.org/meeting/78/materials/agenda-78-ftpext2
DESCRIPTION:Afternoon Session III\n
 \n
 Agenda https://datatracker.ietf.org/meeting/78/materials/agenda-78-ftpext2\n
 \n
 Session materials: https://datatracker.ietf.org/meeting/78/session/ftpext2\n
 \n
 See in schedule: https://datatracker.ietf.org/meeting/78/agenda#row-78-2010-07-26-mon-1740-app-ftpext2\n
END:VEVENT
BEGIN:VEVENT
UID:ietf-78-1800-httpstate
SUMMARY:httpstate - HTTP State Management Mechanism
LOCATION:0.2 Berlin
STATUS:CONFIRMED
CLASS:PUBLIC
DTSTART;TZID=Europe/Amsterdam:20100726T174000
DTEND;TZID=Europe/Amsterdam:20100726T194000
DTSTAMP:20161222T095708Z
URL:https://datatracker.ietf.org/meeting/78/materials/agenda-78-httpstate
DESCRIPTION:Afternoon Session III\n
 \n
 Agenda https://datatracker.ietf.org/meeting/78/materials/agenda-78-httpstate\n
 \n
 Session materials: https://datatracker.ietf.org/meeting/78/session/httpstate\n
 \n
 See in schedule: https://datatracker.ietf.org/meeting/78/agenda#row-78-2010-07-26-mon-1740-app-httpstate\n
END:VEVENT
BEGIN:VEVENT
UID:ietf-78-1814-urnbis
SUMMARY:urnbis - Uniform Resource Names, Revised
LOCATION:0.8 Rome
STATUS:CONFIRMED
CLASS:PUBLIC
DTSTART;TZID=Europe/Amsterdam:20100727T090000
DTEND;TZID=Europe/Amsterdam:20100727T113000
DTSTAMP:20161222T095708Z
URL:https://datatracker.ietf.org/meeting/78/materials/agenda-78-urnbis
DESCRIPTION:Morning Session I\n
 \n
 Agenda https://datatracker.ietf.org/meeting/78/materials/agenda-78-urnbis\n
 \n
 Session materials: https://datatracker.ietf.org/meeting/78/session/urnbis\n
 \n
 See in schedule: https://datatracker.ietf.org/meeting/78/agenda#row-78-2010-07-27-tue-0900-app-urnbis\n
END:VEVENT
BEGIN:VEVENT
UID:ietf-78-1805-hasmat
SUMMARY:hasmat - HTTP Application Security Minus Authentication and Transport
LOCATION:0.1 London
STATUS:CONFIRMED
CLASS:PUBLIC
DTSTART;TZID=Europe/Amsterdam:20100727T130000
DTEND;TZID=Europe/Amsterdam:20100727T150000
DTSTAMP:20161222T095708Z
URL:https://datatracker.ietf.org/meeting/78/materials/agenda-78-hasmat
DESCRIPTION:Afternoon Session I\n
 \n
 Agenda https://datatracker.ietf.org/meeting/78/materials/agenda-78-hasmat\n
 \n
 Session materials: https://datatracker.ietf.org/meeting/78/session/hasmat\n
 \n
 See in schedule: https://datatracker.ietf.org/meeting/78/agenda#row-78-2010-07-27-tue-1300-app-hasmat\n
END:VEVENT
BEGIN:VEVENT
UID:ietf-78-1762-marf
SUMMARY:marf - Messaging Abuse Reporting Format
LOCATION:0.1 London
STATUS:CONFIRMED
CLASS:PUBLIC
DTSTART;TZID=Europe/Amsterdam:20100727T152000
DTEND;TZID=Europe/Amsterdam:20100727T170000
DTSTAMP:20161222T095708Z
URL:https://datatracker.ietf.org/meeting/78/materials/agenda-78-marf
DESCRIPTION:Afternoon Session II\n
 \n
 Agenda https://datatracker.ietf.org/meeting/78/materials/agenda-78-marf\n
 \n
 Session materials: https://datatracker.ietf.org/meeting/78/session/marf\n
 \n
 See in schedule: https://datatracker.ietf.org/meeting/78/agenda#row-78-2010-07-27-tue-1520-app-marf\n
END:VEVENT
BEGIN:VEVENT
UID:ietf-78-1785-morg
SUMMARY:morg - Message Organization
LOCATION:0.1 London
STATUS:CONFIRMED
CLASS:PUBLIC
DTSTART;TZID=Europe/Amsterdam:20100727T171000
DTEND;TZID=Europe/Amsterdam:20100727T181000
DTSTAMP:20161222T095708Z
URL:https://datatracker.ietf.org/meeting/78/materials/agenda-78-morg
DESCRIPTION:Afternoon Session III\n
 \n
 Agenda https://datatracker.ietf.org/meeting/78/materials/agenda-78-morg\n
 \n
 Session materials: https://datatracker.ietf.org/meeting/78/session/morg\n
 \n
 See in schedule: https://datatracker.ietf.org/meeting/78/agenda#row-78-2010-07-27-tue-1710-app-morg\n
END:VEVENT
BEGIN:VEVENT
UID:ietf-78-1738-core
SUMMARY:core - Constrained RESTful Environments
LOCATION:2.1 Colorado
STATUS:CONFIRMED
CLASS:PUBLIC
DTSTART;TZID=Europe/Amsterdam:20100728T090000
DTEND;TZID=Europe/Amsterdam:20100728T101500
DTSTAMP:20161222T095708Z
URL:https://datatracker.ietf.org/meeting/78/materials/agenda-78-core
DESCRIPTION:Morning Session I\n
 \n
 Agenda https://datatracker.ietf.org/meeting/78/materials/agenda-78-core\n
 \n
 Session materials: https://datatracker.ietf.org/meeting/78/session/core\n
 \n
 See in schedule: https://datatracker.ietf.org/meeting/78/agenda#row-78-2010-07-28-wed-0900-app-core\n
END:VEVENT
BEGIN:VEVENT
UID:ietf-78-1739-core
SUMMARY:core - Constrained RESTful Environments
LOCATION:2.1 Colorado
STATUS:CONFIRMED
CLASS:PUBLIC
DTSTART;TZID=Europe/Amsterdam:20100728T103000
DTEND;TZID=Europe/Amsterdam:20100728T113000
DTSTAMP:20161222T095708Z
URL:https://datatracker.ietf.org/meeting/78/materials/agenda-78-core
DESCRIPTION:Morning Session II\n
 \n
 Agenda https://datatracker.ietf.org/meeting/78/materials/agenda-78-core\n
 \n
 Session materials: https://datatracker.ietf.org/meeting/78/session/core\n
 \n
 See in schedule: https://datatracker.ietf.org/meeting/78/agenda#row-78-2010-07-28-wed-1030-app-core\n
END:VEVENT
BEGIN:VEVENT
UID:ietf-78-1686-vcarddav
SUMMARY:vcarddav - vCard and CardDAV
LOCATION:0.9 Athens
STATUS:CONFIRMED
CLASS:PUBLIC
DTSTART;TZID=Europe/Amsterdam:20100728T103000
DTEND;TZID=Europe/Amsterdam:20100728T113000
DTSTAMP:20161222T095708Z
URL:https://datatracker.ietf.org/meeting/78/materials/agenda-78-vcarddav
DESCRIPTION:Morning Session II\n
 \n
 Agenda https://datatracker.ietf.org/meeting/78/materials/agenda-78-vcarddav\n
 \n
 Session materials: https://datatracker.ietf.org/meeting/78/session/vcarddav\n
 \n
 See in schedule: https://datatracker.ietf.org/meeting/78/agenda#row-78-2010-07-28-wed-1030-app-vcarddav\n
END:VEVENT
BEGIN:VEVENT
UID:ietf-78-1710-iri
SUMMARY:iri - Internationalized Resource Identifiers (Cancelled)
LOCATION:0.8 Rome
STATUS:CONFIRMED
CLASS:PUBLIC
DTSTART;TZID=Europe/Amsterdam:20100728T130000
DTEND;TZID=Europe/Amsterdam:20100728T153000
DTSTAMP:20161222T095708Z
URL:https://datatracker.ietf.org/meeting/78/materials/agenda-78-iri
DESCRIPTION:Afternoon Session I\n
 Note: Cancelled\n
 \n
 Agenda https://datatracker.ietf.org/meeting/78/materials/agenda-78-iri\n
 \n
 Session materials: https://datatracker.ietf.org/meeting/78/session/iri\n
 \n
 See in schedule: https://datatracker.ietf.org/meeting/78/agenda#row-78-2010-07-28-wed-1300-app-iri\n
END:VEVENT
BEGIN:VEVENT
UID:ietf-78-1793-precis
SUMMARY:precis - Preparation and Comparison of Internationalized Strings
LOCATION:0.9 Athens
STATUS:CONFIRMED
CLASS:PUBLIC
DTSTART;TZID=Europe/Amsterdam:20100729T090000
DTEND;TZID=Europe/Amsterdam:20100729T113000
DTSTAMP:20161222T095708Z
URL:https://datatracker.ietf.org/meeting/78/materials/agenda-78-precis
DESCRIPTION:Morning Session I\n
 \n
 Agenda https://datatracker.ietf.org/meeting/78/materials/agenda-78-precis\n
 \n
 Session materials: https://datatracker.ietf.org/meeting/78/session/precis\n
 \n
 See in schedule: https://datatracker.ietf.org/meeting/78/agenda#row-78-2010-07-29-thu-0900-app-precis\n
END:VEVENT
BEGIN:VEVENT
UID:ietf-78-1790-sieve
SUMMARY:sieve - Sieve Mail Filtering Language
LOCATION:0.1 London
STATUS:CONFIRMED
CLASS:PUBLIC
DTSTART;TZID=Europe/Amsterdam:20100729T130000
DTEND;TZID=Europe/Amsterdam:20100729T150000
DTSTAMP:20161222T095708Z
URL:https://datatracker.ietf.org/meeting/78/materials/agenda-78-sieve
DESCRIPTION:Afternoon Session I\n
 \n
 Agenda https://datatracker.ietf.org/meeting/78/materials/agenda-78-sieve\n
 \n
 Session materials: https://datatracker.ietf.org/meeting/78/session/sieve\n
 \n
 See in schedule: https://datatracker.ietf.org/meeting/78/agenda#row-78-2010-07-29-thu-1300-app-sieve\n
END:VEVENT
BEGIN:VEVENT
UID:ietf-78-1802-yam
SUMMARY:yam - Yet Another Mail
LOCATION:0.9 Athens
STATUS:CONFIRMED
CLASS:PUBLIC
DTSTART;TZID=Europe/Amsterdam:20100729T151000
DTEND;TZID=Europe/Amsterdam:20100729T161000
DTSTAMP:20161222T095708Z
URL:https://datatracker.ietf.org/meeting/78/materials/agenda-78-yam
DESCRIPTION:Afternoon Session II\n
 \n
 Agenda https://datatracker.ietf.org/meeting/78/materials/agenda-78-yam\n
 \n
 Session materials: https://datatracker.ietf.org/meeting/78/session/yam\n
 \n
 See in schedule: https://datatracker.ietf.org/meeting/78/agenda#row-78-2010-07-29-thu-1510-app-yam\n
END:VEVENT
BEGIN:VEVENT
UID:ietf-78-1791-eai
SUMMARY:eai - Email Address Internationalization
LOCATION:0.9 Athens
STATUS:CONFIRMED
CLASS:PUBLIC
DTSTART;TZID=Europe/Amsterdam:20100730T090000
DTEND;TZID=Europe/Amsterdam:20100730T113000
DTSTAMP:20161222T095708Z
URL:https://datatracker.ietf.org/meeting/78/materials/agenda-78-eai
DESCRIPTION:Morning Session I\n
 \n
 Agenda https://datatracker.ietf.org/meeting/78/materials/agenda-78-eai\n
 \n
 Session materials: https://datatracker.ietf.org/meeting/78/session/eai\n
 \n
 See in schedule: https://datatracker.ietf.org/meeting/78/agenda#row-78-2010-07-30-fri-0900-app-eai\n
END:VEVENT
BEGIN:VEVENT
UID:ietf-78-1766-hybi
SUMMARY:hybi - BiDirectional or Server-Initiated HTTP
LOCATION:0.2 Berlin
STATUS:CONFIRMED
CLASS:PUBLIC
DTSTART;TZID=Europe/Amsterdam:20100730T130000
DTEND;TZID=Europe/Amsterdam:20100730T140000
DTSTAMP:20161222T095708Z
URL:https://datatracker.ietf.org/meeting/78/materials/agenda-78-hybi
DESCRIPTION:Afternoon Session I\n
 \n
 Agenda https://datatracker.ietf.org/meeting/78/materials/agenda-78-hybi\n
 \n
 Session materials: https://datatracker.ietf.org/meeting/78/session/hybi\n
 \n
 See in schedule: https://datatracker.ietf.org/meeting/78/agenda#row-78-2010-07-30-fri-1300-app-hybi\n
END:VEVENT
BEGIN:VEVENT
UID:ietf-78-1784-ltans
SUMMARY:ltans - Long-Term Archive and Notary Services
LOCATION:0.4 Brussels
STATUS:CONFIRMED
CLASS:PUBLIC
DTSTART;TZID=Europe/Amsterdam:20100730T130000
DTEND;TZID=Europe/Amsterdam:20100730T140000
DTSTAMP:20161222T095708Z
URL:https://datatracker.ietf.org/meeting/78/materials/agenda-78-ltans
DESCRIPTION:Afternoon Session I\n
 \n
 Agenda https://datatracker.ietf.org/meeting/78/materials/agenda-78-ltans\n
 \n
 Session materials: https://datatracker.ietf.org/meeting/78/session/ltans\n
 \n
 See in schedule: https://datatracker.ietf.org/meeting/78/agenda#row-78-2010-07-30-fri-1300-app-ltans\n
END:VEVENT
BEGIN:VEVENT
UID:ietf-78-1767-hybi
SUMMARY:hybi - BiDirectional or Server-Initiated HTTP
LOCATION:0.2 Berlin
STATUS:CONFIRMED
CLASS:PUBLIC
DTSTART;TZID=Europe/Amsterdam:20100730T141500
DTEND;TZID=Europe/Amsterdam:20100730T151500
DTSTAMP:20161222T095708Z
URL:https://datatracker.ietf.org/meeting/78/materials/agenda-78-hybi
DESCRIPTION:Afternoon Session II\n
 \n
 Agenda https://datatracker.ietf.org/meeting/78/materials/agenda-78-hybi\n
 \n
 Session materials: https://datatracker.ietf.org/meeting/78/session/hybi\n
 \n
 See in schedule: https://datatracker.ietf.org/meeting/78/agenda#row-78-2010-07-30-fri-1415-app-hybi\n
END:VEVENT
END:VCALENDAR
