BEGIN:VCALENDAR
VERSION:2.0
METHOD:PUBLISH
PRODID:-//IETF//datatracker.ietf.org ical agenda//EN
BEGIN:VTIMEZONE
TZID:Europe/Amsterdam
X-LIC-LOCATION:Europe/Amsterdam
BEGIN:DAYLIGHT
TZOFFSETFROM:+0100
TZOFFSETTO:+0200
TZNAME:CEST
DTSTART:19810329T020000
RRULE:FREQ=YEARLY;BYMONTH=3;BYDAY=-1SU
END:DAYLIGHT
BEGIN:STANDARD
TZOFFSETFROM:+0200
TZOFFSETTO:+0100
TZNAME:CET
DTSTART:19961027T030000
RRULE:FREQ=YEARLY;BYMONTH=10;BYDAY=-1SU
END:STANDARD
BEGIN:STANDARD
TZOFFSETFROM:+001932
TZOFFSETTO:+001932
TZNAME:AMT
DTSTART:18350101T000000
RDATE:18350101T000000
END:STANDARD
BEGIN:DAYLIGHT
TZOFFSETFROM:+001932
TZOFFSETTO:+011932
TZNAME:NST
DTSTART:19160501T000000
RDATE:19160501T000000
RDATE:19170416T020000
RDATE:19180401T020000
RDATE:19190407T020000
RDATE:19200405T020000
RDATE:19210404T020000
RDATE:19220326T020000
RDATE:19230601T020000
RDATE:19240330T020000
RDATE:19250605T020000
RDATE:19260515T020000
RDATE:19270515T020000
RDATE:19280515T020000
RDATE:19290515T020000
RDATE:19300515T020000
RDATE:19310515T020000
RDATE:19320522T020000
RDATE:19330515T020000
RDATE:19340515T020000
RDATE:19350515T020000
RDATE:19360515T020000
RDATE:19370522T020000
END:DAYLIGHT
BEGIN:STANDARD
TZOFFSETFROM:+011932
TZOFFSETTO:+001932
TZNAME:AMT
DTSTART:19161001T000000
RDATE:19161001T000000
RDATE:19170917T030000
RDATE:19180930T030000
RDATE:19190929T030000
RDATE:19200927T030000
RDATE:19210926T030000
RDATE:19221008T030000
RDATE:19231007T030000
RDATE:19241005T030000
RDATE:19251004T030000
RDATE:19261003T030000
RDATE:19271002T030000
RDATE:19281007T030000
RDATE:19291006T030000
RDATE:19301005T030000
RDATE:19311004T030000
RDATE:19321002T030000
RDATE:19331008T030000
RDATE:19341007T030000
RDATE:19351006T030000
RDATE:19361004T030000
END:STANDARD
BEGIN:DAYLIGHT
TZOFFSETFROM:+011932
TZOFFSETTO:+0120
TZNAME:NEST
DTSTART:19370701T000000
RDATE:19370701T000000
END:DAYLIGHT
BEGIN:STANDARD
TZOFFSETFROM:+0120
TZOFFSETTO:+0020
TZNAME:NET
DTSTART:19371003T030000
RDATE:19371003T030000
RDATE:19381002T030000
RDATE:19391008T030000
END:STANDARD
BEGIN:DAYLIGHT
TZOFFSETFROM:+0020
TZOFFSETTO:+0120
TZNAME:NEST
DTSTART:19380515T020000
RDATE:19380515T020000
RDATE:19390515T020000
END:DAYLIGHT
BEGIN:DAYLIGHT
TZOFFSETFROM:+0020
TZOFFSETTO:+0200
TZNAME:CEST
DTSTART:19400516T000000
RDATE:19400516T000000
END:DAYLIGHT
BEGIN:STANDARD
TZOFFSETFROM:+0200
TZOFFSETTO:+0100
TZNAME:CET
DTSTART:19421102T030000
RDATE:19421102T030000
RDATE:19431004T030000
RDATE:19441002T030000
RDATE:19450916T030000
RDATE:19770925T030000
RDATE:19781001T030000
RDATE:19790930T030000
RDATE:19800928T030000
RDATE:19810927T030000
RDATE:19820926T030000
RDATE:19830925T030000
RDATE:19840930T030000
RDATE:19850929T030000
RDATE:19860928T030000
RDATE:19870927T030000
RDATE:19880925T030000
RDATE:19890924T030000
RDATE:19900930T030000
RDATE:19910929T030000
RDATE:19920927T030000
RDATE:19930926T030000
RDATE:19940925T030000
RDATE:19950924T030000
END:STANDARD
BEGIN:DAYLIGHT
TZOFFSETFROM:+0100
TZOFFSETTO:+0200
TZNAME:CEST
DTSTART:19430329T020000
RDATE:19430329T020000
RDATE:19440403T020000
RDATE:19450402T020000
RDATE:19770403T020000
RDATE:19780402T020000
RDATE:19790401T020000
RDATE:19800406T020000
END:DAYLIGHT
BEGIN:STANDARD
TZOFFSETFROM:+0100
TZOFFSETTO:+0100
TZNAME:CET
DTSTART:19770101T000000
RDATE:19770101T000000
END:STANDARD
END:VTIMEZONE
BEGIN:VEVENT
UID:ietf-78-1724-netconf
SUMMARY:netconf - Network Configuration
LOCATION:0.1 London
STATUS:CONFIRMED
CLASS:PUBLIC
DTSTART;TZID=Europe/Amsterdam:20100726T130000
DTEND;TZID=Europe/Amsterdam:20100726T150000
DTSTAMP:20161222T095708Z
URL:https://datatracker.ietf.org/meeting/78/materials/agenda-78-netconf
DESCRIPTION:Afternoon Session I\n
 \n
 Agenda https://datatracker.ietf.org/meeting/78/materials/agenda-78-netconf\n
 \n
 Session materials: https://datatracker.ietf.org/meeting/78/session/netconf\n
 \n
 See in schedule: https://datatracker.ietf.org/meeting/78/agenda#row-78-2010-07-26-mon-1300-ops-netconf\n
END:VEVENT
BEGIN:VEVENT
UID:ietf-78-1690-v6ops
SUMMARY:v6ops - IPv6 Operations
LOCATION:Auditorium 1
STATUS:CONFIRMED
CLASS:PUBLIC
DTSTART;TZID=Europe/Amsterdam:20100726T130000
DTEND;TZID=Europe/Amsterdam:20100726T150000
DTSTAMP:20161222T095708Z
URL:https://datatracker.ietf.org/meeting/78/materials/agenda-78-v6ops
DESCRIPTION:Afternoon Session I\n
 \n
 Agenda https://datatracker.ietf.org/meeting/78/materials/agenda-78-v6ops\n
 \n
 Session materials: https://datatracker.ietf.org/meeting/78/session/v6ops\n
 \n
 See in schedule: https://datatracker.ietf.org/meeting/78/agenda#row-78-2010-07-26-mon-1300-ops-v6ops\n
END:VEVENT
BEGIN:VEVENT
UID:ietf-78-1737-opsarea
SUMMARY:opsarea - Operations & Management Area Open Meeting
LOCATION:0.4 Brussels
STATUS:CONFIRMED
CLASS:PUBLIC
DTSTART;TZID=Europe/Amsterdam:20100726T152000
DTEND;TZID=Europe/Amsterdam:20100726T172000
DTSTAMP:20161222T095708Z
URL:https://datatracker.ietf.org/meeting/78/materials/agenda-78-opsarea
DESCRIPTION:Afternoon Session II\n
 \n
 Agenda https://datatracker.ietf.org/meeting/78/materials/agenda-78-opsarea\n
 \n
 Session materials: https://datatracker.ietf.org/meeting/78/session/opsarea\n
 \n
 See in schedule: https://datatracker.ietf.org/meeting/78/agenda#row-78-2010-07-26-mon-1520-ops-opsarea\n
END:VEVENT
BEGIN:VEVENT
UID:ietf-78-1736-opsec
SUMMARY:opsec - Operational Security Capabilities for IP Network Infrastructure
LOCATION:0.1 London
STATUS:CONFIRMED
CLASS:PUBLIC
DTSTART;TZID=Europe/Amsterdam:20100726T174000
DTEND;TZID=Europe/Amsterdam:20100726T194000
DTSTAMP:20161222T095708Z
URL:https://datatracker.ietf.org/meeting/78/materials/agenda-78-opsec
DESCRIPTION:Afternoon Session III\n
 \n
 Agenda https://datatracker.ietf.org/meeting/78/materials/agenda-78-opsec\n
 \n
 Session materials: https://datatracker.ietf.org/meeting/78/session/opsec\n
 \n
 See in schedule: https://datatracker.ietf.org/meeting/78/agenda#row-78-2010-07-26-mon-1740-ops-opsec\n
END:VEVENT
BEGIN:VEVENT
UID:ietf-78-1755-dnsop
SUMMARY:dnsop - Domain Name System Operations
LOCATION:2.1 Colorado
STATUS:CONFIRMED
CLASS:PUBLIC
DTSTART;TZID=Europe/Amsterdam:20100727T090000
DTEND;TZID=Europe/Amsterdam:20100727T113000
DTSTAMP:20161222T095708Z
URL:https://datatracker.ietf.org/meeting/78/materials/agenda-78-dnsop
DESCRIPTION:Morning Session I\n
 \n
 Agenda https://datatracker.ietf.org/meeting/78/materials/agenda-78-dnsop\n
 \n
 Session materials: https://datatracker.ietf.org/meeting/78/session/dnsop\n
 \n
 See in schedule: https://datatracker.ietf.org/meeting/78/agenda#row-78-2010-07-27-tue-0900-ops-dnsop\n
END:VEVENT
BEGIN:VEVENT
UID:ietf-78-1723-netmod
SUMMARY:netmod - NETCONF Data Modeling Language
LOCATION:0.9 Athens
STATUS:CONFIRMED
CLASS:PUBLIC
DTSTART;TZID=Europe/Amsterdam:20100727T090000
DTEND;TZID=Europe/Amsterdam:20100727T113000
DTSTAMP:20161222T095708Z
URL:https://datatracker.ietf.org/meeting/78/materials/agenda-78-netmod
DESCRIPTION:Morning Session I\n
 \n
 Agenda https://datatracker.ietf.org/meeting/78/materials/agenda-78-netmod\n
 \n
 Session materials: https://datatracker.ietf.org/meeting/78/session/netmod\n
 \n
 See in schedule: https://datatracker.ietf.org/meeting/78/agenda#row-78-2010-07-27-tue-0900-ops-netmod\n
END:VEVENT
BEGIN:VEVENT
UID:ietf-78-1731-dime
SUMMARY:dime - Diameter Maintenance and Extensions
LOCATION:0.9 Athens
STATUS:CONFIRMED
CLASS:PUBLIC
DTSTART;TZID=Europe/Amsterdam:20100727T130000
DTEND;TZID=Europe/Amsterdam:20100727T150000
DTSTAMP:20161222T095708Z
URL:https://datatracker.ietf.org/meeting/78/materials/agenda-78-dime
DESCRIPTION:Afternoon Session I\n
 \n
 Agenda https://datatracker.ietf.org/meeting/78/materials/agenda-78-dime\n
 \n
 Session materials: https://datatracker.ietf.org/meeting/78/session/dime\n
 \n
 See in schedule: https://datatracker.ietf.org/meeting/78/agenda#row-78-2010-07-27-tue-1300-ops-dime\n
END:VEVENT
BEGIN:VEVENT
UID:ietf-78-1765-opsawg
SUMMARY:opsawg - Operations and Management Area Working Group
LOCATION:0.2 Berlin
STATUS:CONFIRMED
CLASS:PUBLIC
DTSTART;TZID=Europe/Amsterdam:20100727T152000
DTEND;TZID=Europe/Amsterdam:20100727T170000
DTSTAMP:20161222T095708Z
URL:https://datatracker.ietf.org/meeting/78/materials/agenda-78-opsawg
DESCRIPTION:Afternoon Session II\n
 \n
 Agenda https://datatracker.ietf.org/meeting/78/materials/agenda-78-opsawg\n
 \n
 Session materials: https://datatracker.ietf.org/meeting/78/session/opsawg\n
 \n
 See in schedule: https://datatracker.ietf.org/meeting/78/agenda#row-78-2010-07-27-tue-1520-ops-opsawg\n
END:VEVENT
BEGIN:VEVENT
UID:ietf-78-1780-mboned
SUMMARY:mboned - MBONE Deployment
LOCATION:0.2 Berlin
STATUS:CONFIRMED
CLASS:PUBLIC
DTSTART;TZID=Europe/Amsterdam:20100728T090000
DTEND;TZID=Europe/Amsterdam:20100728T101500
DTSTAMP:20161222T095708Z
URL:https://datatracker.ietf.org/meeting/78/materials/agenda-78-mboned
DESCRIPTION:Morning Session I\n
 \n
 Agenda https://datatracker.ietf.org/meeting/78/materials/agenda-78-mboned\n
 \n
 Session materials: https://datatracker.ietf.org/meeting/78/session/mboned\n
 \n
 See in schedule: https://datatracker.ietf.org/meeting/78/agenda#row-78-2010-07-28-wed-0900-ops-mboned\n
END:VEVENT
BEGIN:VEVENT
UID:ietf-78-1823-radext
SUMMARY:radext - RADIUS EXTensions
LOCATION:0.8 Rome
STATUS:CONFIRMED
CLASS:PUBLIC
DTSTART;TZID=Europe/Amsterdam:20100728T090000
DTEND;TZID=Europe/Amsterdam:20100728T101500
DTSTAMP:20161222T095708Z
URL:https://datatracker.ietf.org/meeting/78/materials/agenda-78-radext
DESCRIPTION:Morning Session I\n
 \n
 Agenda https://datatracker.ietf.org/meeting/78/materials/agenda-78-radext\n
 \n
 Session materials: https://datatracker.ietf.org/meeting/78/session/radext\n
 \n
 See in schedule: https://datatracker.ietf.org/meeting/78/agenda#row-78-2010-07-28-wed-0900-ops-radext\n
END:VEVENT
BEGIN:VEVENT
UID:ietf-78-1781-mboned
SUMMARY:mboned - MBONE Deployment
LOCATION:0.2 Berlin
STATUS:CONFIRMED
CLASS:PUBLIC
DTSTART;TZID=Europe/Amsterdam:20100728T103000
DTEND;TZID=Europe/Amsterdam:20100728T113000
DTSTAMP:20161222T095708Z
URL:https://datatracker.ietf.org/meeting/78/materials/agenda-78-mboned
DESCRIPTION:Morning Session II\n
 \n
 Agenda https://datatracker.ietf.org/meeting/78/materials/agenda-78-mboned\n
 \n
 Session materials: https://datatracker.ietf.org/meeting/78/session/mboned\n
 \n
 See in schedule: https://datatracker.ietf.org/meeting/78/agenda#row-78-2010-07-28-wed-1030-ops-mboned\n
END:VEVENT
BEGIN:VEVENT
UID:ietf-78-1824-radext
SUMMARY:radext - RADIUS EXTensions
LOCATION:0.8 Rome
STATUS:CONFIRMED
CLASS:PUBLIC
DTSTART;TZID=Europe/Amsterdam:20100728T103000
DTEND;TZID=Europe/Amsterdam:20100728T113000
DTSTAMP:20161222T095708Z
URL:https://datatracker.ietf.org/meeting/78/materials/agenda-78-radext
DESCRIPTION:Morning Session II\n
 \n
 Agenda https://datatracker.ietf.org/meeting/78/materials/agenda-78-radext\n
 \n
 Session materials: https://datatracker.ietf.org/meeting/78/session/radext\n
 \n
 See in schedule: https://datatracker.ietf.org/meeting/78/agenda#row-78-2010-07-28-wed-1030-ops-radext\n
END:VEVENT
BEGIN:VEVENT
UID:ietf-78-1726-bmwg
SUMMARY:bmwg - Benchmarking Methodology
LOCATION:0.8 Rome
STATUS:CONFIRMED
CLASS:PUBLIC
DTSTART;TZID=Europe/Amsterdam:20100729T090000
DTEND;TZID=Europe/Amsterdam:20100729T113000
DTSTAMP:20161222T095708Z
URL:https://datatracker.ietf.org/meeting/78/materials/agenda-78-bmwg
DESCRIPTION:Morning Session I\n
 \n
 Agenda https://datatracker.ietf.org/meeting/78/materials/agenda-78-bmwg\n
 \n
 Session materials: https://datatracker.ietf.org/meeting/78/session/bmwg\n
 \n
 See in schedule: https://datatracker.ietf.org/meeting/78/agenda#row-78-2010-07-29-thu-0900-ops-bmwg\n
END:VEVENT
BEGIN:VEVENT
UID:ietf-78-1730-ipfix
SUMMARY:ipfix - IP Flow Information Export
LOCATION:0.2 Berlin
STATUS:CONFIRMED
CLASS:PUBLIC
DTSTART;TZID=Europe/Amsterdam:20100729T130000
DTEND;TZID=Europe/Amsterdam:20100729T150000
DTSTAMP:20161222T095708Z
URL:https://datatracker.ietf.org/meeting/78/materials/agenda-78-ipfix
DESCRIPTION:Afternoon Session I\n
 \n
 Agenda https://datatracker.ietf.org/meeting/78/materials/agenda-78-ipfix\n
 \n
 Session materials: https://datatracker.ietf.org/meeting/78/session/ipfix\n
 \n
 See in schedule: https://datatracker.ietf.org/meeting/78/agenda#row-78-2010-07-29-thu-1300-ops-ipfix\n
END:VEVENT
BEGIN:VEVENT
UID:ietf-78-1801-grow
SUMMARY:grow - Global Routing Operations
LOCATION:0.4 Brussels
STATUS:CONFIRMED
CLASS:PUBLIC
DTSTART;TZID=Europe/Amsterdam:20100729T151000
DTEND;TZID=Europe/Amsterdam:20100729T161000
DTSTAMP:20161222T095708Z
URL:https://datatracker.ietf.org/meeting/78/materials/agenda-78-grow
DESCRIPTION:Afternoon Session II\n
 \n
 Agenda https://datatracker.ietf.org/meeting/78/materials/agenda-78-grow\n
 \n
 Session materials: https://datatracker.ietf.org/meeting/78/session/grow\n
 \n
 See in schedule: https://datatracker.ietf.org/meeting/78/agenda#row-78-2010-07-29-thu-1510-ops-grow\n
END:VEVENT
BEGIN:VEVENT
UID:ietf-78-1691-v6ops
SUMMARY:v6ops - IPv6 Operations
LOCATION:Auditorium 1
STATUS:CONFIRMED
CLASS:PUBLIC
DTSTART;TZID=Europe/Amsterdam:20100730T130000
DTEND;TZID=Europe/Amsterdam:20100730T140000
DTSTAMP:20161222T095708Z
URL:https://datatracker.ietf.org/meeting/78/materials/agenda-78-v6ops
DESCRIPTION:Afternoon Session I\n
 \n
 Agenda https://datatracker.ietf.org/meeting/78/materials/agenda-78-v6ops\n
 \n
 Session materials: https://datatracker.ietf.org/meeting/78/session/v6ops\n
 \n
 See in schedule: https://datatracker.ietf.org/meeting/78/agenda#row-78-2010-07-30-fri-1300-ops-v6ops\n
END:VEVENT
BEGIN:VEVENT
UID:ietf-78-1692-v6ops
SUMMARY:v6ops - IPv6 Operations
LOCATION:Auditorium 1
STATUS:CONFIRMED
CLASS:PUBLIC
DTSTART;TZID=Europe/Amsterdam:20100730T141500
DTEND;TZID=Europe/Amsterdam:20100730T151500
DTSTAMP:20161222T095708Z
URL:https://datatracker.ietf.org/meeting/78/materials/agenda-78-v6ops
DESCRIPTION:Afternoon Session II\n
 \n
 Agenda https://datatracker.ietf.org/meeting/78/materials/agenda-78-v6ops\n
 \n
 Session materials: https://datatracker.ietf.org/meeting/78/session/v6ops\n
 \n
 See in schedule: https://datatracker.ietf.org/meeting/78/agenda#row-78-2010-07-30-fri-1415-ops-v6ops\n
END:VEVENT
END:VCALENDAR
