BEGIN:VCALENDAR
VERSION:2.0
METHOD:PUBLISH
PRODID:-//IETF//datatracker.ietf.org ical agenda//EN
BEGIN:VTIMEZONE
TZID:Europe/Amsterdam
X-LIC-LOCATION:Europe/Amsterdam
BEGIN:DAYLIGHT
TZOFFSETFROM:+0100
TZOFFSETTO:+0200
TZNAME:CEST
DTSTART:19810329T020000
RRULE:FREQ=YEARLY;BYMONTH=3;BYDAY=-1SU
END:DAYLIGHT
BEGIN:STANDARD
TZOFFSETFROM:+0200
TZOFFSETTO:+0100
TZNAME:CET
DTSTART:19961027T030000
RRULE:FREQ=YEARLY;BYMONTH=10;BYDAY=-1SU
END:STANDARD
BEGIN:STANDARD
TZOFFSETFROM:+001932
TZOFFSETTO:+001932
TZNAME:AMT
DTSTART:18350101T000000
RDATE:18350101T000000
END:STANDARD
BEGIN:DAYLIGHT
TZOFFSETFROM:+001932
TZOFFSETTO:+011932
TZNAME:NST
DTSTART:19160501T000000
RDATE:19160501T000000
RDATE:19170416T020000
RDATE:19180401T020000
RDATE:19190407T020000
RDATE:19200405T020000
RDATE:19210404T020000
RDATE:19220326T020000
RDATE:19230601T020000
RDATE:19240330T020000
RDATE:19250605T020000
RDATE:19260515T020000
RDATE:19270515T020000
RDATE:19280515T020000
RDATE:19290515T020000
RDATE:19300515T020000
RDATE:19310515T020000
RDATE:19320522T020000
RDATE:19330515T020000
RDATE:19340515T020000
RDATE:19350515T020000
RDATE:19360515T020000
RDATE:19370522T020000
END:DAYLIGHT
BEGIN:STANDARD
TZOFFSETFROM:+011932
TZOFFSETTO:+001932
TZNAME:AMT
DTSTART:19161001T000000
RDATE:19161001T000000
RDATE:19170917T030000
RDATE:19180930T030000
RDATE:19190929T030000
RDATE:19200927T030000
RDATE:19210926T030000
RDATE:19221008T030000
RDATE:19231007T030000
RDATE:19241005T030000
RDATE:19251004T030000
RDATE:19261003T030000
RDATE:19271002T030000
RDATE:19281007T030000
RDATE:19291006T030000
RDATE:19301005T030000
RDATE:19311004T030000
RDATE:19321002T030000
RDATE:19331008T030000
RDATE:19341007T030000
RDATE:19351006T030000
RDATE:19361004T030000
END:STANDARD
BEGIN:DAYLIGHT
TZOFFSETFROM:+011932
TZOFFSETTO:+0120
TZNAME:NEST
DTSTART:19370701T000000
RDATE:19370701T000000
END:DAYLIGHT
BEGIN:STANDARD
TZOFFSETFROM:+0120
TZOFFSETTO:+0020
TZNAME:NET
DTSTART:19371003T030000
RDATE:19371003T030000
RDATE:19381002T030000
RDATE:19391008T030000
END:STANDARD
BEGIN:DAYLIGHT
TZOFFSETFROM:+0020
TZOFFSETTO:+0120
TZNAME:NEST
DTSTART:19380515T020000
RDATE:19380515T020000
RDATE:19390515T020000
END:DAYLIGHT
BEGIN:DAYLIGHT
TZOFFSETFROM:+0020
TZOFFSETTO:+0200
TZNAME:CEST
DTSTART:19400516T000000
RDATE:19400516T000000
END:DAYLIGHT
BEGIN:STANDARD
TZOFFSETFROM:+0200
TZOFFSETTO:+0100
TZNAME:CET
DTSTART:19421102T030000
RDATE:19421102T030000
RDATE:19431004T030000
RDATE:19441002T030000
RDATE:19450916T030000
RDATE:19770925T030000
RDATE:19781001T030000
RDATE:19790930T030000
RDATE:19800928T030000
RDATE:19810927T030000
RDATE:19820926T030000
RDATE:19830925T030000
RDATE:19840930T030000
RDATE:19850929T030000
RDATE:19860928T030000
RDATE:19870927T030000
RDATE:19880925T030000
RDATE:19890924T030000
RDATE:19900930T030000
RDATE:19910929T030000
RDATE:19920927T030000
RDATE:19930926T030000
RDATE:19940925T030000
RDATE:19950924T030000
END:STANDARD
BEGIN:DAYLIGHT
TZOFFSETFROM:+0100
TZOFFSETTO:+0200
TZNAME:CEST
DTSTART:19430329T020000
RDATE:19430329T020000
RDATE:19440403T020000
RDATE:19450402T020000
RDATE:19770403T020000
RDATE:19780402T020000
RDATE:19790401T020000
RDATE:19800406T020000
END:DAYLIGHT
BEGIN:STANDARD
TZOFFSETFROM:+0100
TZOFFSETTO:+0100
TZNAME:CET
DTSTART:19770101T000000
RDATE:19770101T000000
END:STANDARD
END:VTIMEZONE
BEGIN:VEVENT
UID:ietf-78-1687-sipcore
SUMMARY:sipcore - Session Initiation Protocol Core
LOCATION:0.4 Brussels
STATUS:CONFIRMED
CLASS:PUBLIC
DTSTART;TZID=Europe/Amsterdam:20100726T090000
DTEND;TZID=Europe/Amsterdam:20100726T113000
DTSTAMP:20161222T095708Z
URL:https://datatracker.ietf.org/meeting/78/materials/agenda-78-sipcore
DESCRIPTION:Morning Session I\n
 \n
 Agenda https://datatracker.ietf.org/meeting/78/materials/agenda-78-sipcore\n
 \n
 Session materials: https://datatracker.ietf.org/meeting/78/session/sipcore\n
 \n
 See in schedule: https://datatracker.ietf.org/meeting/78/agenda#row-78-2010-07-26-mon-0900-rai-sipcore\n
END:VEVENT
BEGIN:VEVENT
UID:ietf-78-1740-codec
SUMMARY:codec - Internet Wideband Audio Codec
LOCATION:Auditorium 2
STATUS:CONFIRMED
CLASS:PUBLIC
DTSTART;TZID=Europe/Amsterdam:20100726T130000
DTEND;TZID=Europe/Amsterdam:20100726T150000
DTSTAMP:20161222T095708Z
URL:https://datatracker.ietf.org/meeting/78/materials/agenda-78-codec
DESCRIPTION:Afternoon Session I\n
 \n
 Agenda https://datatracker.ietf.org/meeting/78/materials/agenda-78-codec\n
 \n
 Session materials: https://datatracker.ietf.org/meeting/78/session/codec\n
 \n
 See in schedule: https://datatracker.ietf.org/meeting/78/agenda#row-78-2010-07-26-mon-1300-rai-codec\n
END:VEVENT
BEGIN:VEVENT
UID:ietf-78-1792-mmusic
SUMMARY:mmusic - Multiparty Multimedia Session Control
LOCATION:2.1 Colorado
STATUS:CONFIRMED
CLASS:PUBLIC
DTSTART;TZID=Europe/Amsterdam:20100726T152000
DTEND;TZID=Europe/Amsterdam:20100726T172000
DTSTAMP:20161222T095708Z
URL:https://datatracker.ietf.org/meeting/78/materials/agenda-78-mmusic
DESCRIPTION:Afternoon Session II\n
 \n
 Agenda https://datatracker.ietf.org/meeting/78/materials/agenda-78-mmusic\n
 \n
 Session materials: https://datatracker.ietf.org/meeting/78/session/mmusic\n
 \n
 See in schedule: https://datatracker.ietf.org/meeting/78/agenda#row-78-2010-07-26-mon-1520-rai-mmusic\n
END:VEVENT
BEGIN:VEVENT
UID:ietf-78-1746-soc
SUMMARY:soc - SIP Overload Control
LOCATION:0.9 Athens
STATUS:CONFIRMED
CLASS:PUBLIC
DTSTART;TZID=Europe/Amsterdam:20100726T152000
DTEND;TZID=Europe/Amsterdam:20100726T172000
DTSTAMP:20161222T095708Z
URL:https://datatracker.ietf.org/meeting/78/materials/agenda-78-soc
DESCRIPTION:Afternoon Session II\n
 \n
 Agenda https://datatracker.ietf.org/meeting/78/materials/agenda-78-soc\n
 \n
 Session materials: https://datatracker.ietf.org/meeting/78/session/soc\n
 \n
 See in schedule: https://datatracker.ietf.org/meeting/78/agenda#row-78-2010-07-26-mon-1520-rai-soc\n
END:VEVENT
BEGIN:VEVENT
UID:ietf-78-1688-p2psip
SUMMARY:p2psip - Peer-to-Peer Session Initiation Protocol
LOCATION:0.4 Brussels
STATUS:CONFIRMED
CLASS:PUBLIC
DTSTART;TZID=Europe/Amsterdam:20100726T174000
DTEND;TZID=Europe/Amsterdam:20100726T194000
DTSTAMP:20161222T095708Z
URL:https://datatracker.ietf.org/meeting/78/materials/agenda-78-p2psip
DESCRIPTION:Afternoon Session III\n
 \n
 Agenda https://datatracker.ietf.org/meeting/78/materials/agenda-78-p2psip\n
 \n
 Session materials: https://datatracker.ietf.org/meeting/78/session/p2psip\n
 \n
 See in schedule: https://datatracker.ietf.org/meeting/78/agenda#row-78-2010-07-26-mon-1740-rai-p2psip\n
END:VEVENT
BEGIN:VEVENT
UID:ietf-78-1774-sipclf
SUMMARY:sipclf - SIP Common Log Format
LOCATION:0.9 Athens
STATUS:CONFIRMED
CLASS:PUBLIC
DTSTART;TZID=Europe/Amsterdam:20100726T174000
DTEND;TZID=Europe/Amsterdam:20100726T194000
DTSTAMP:20161222T095708Z
URL:https://datatracker.ietf.org/meeting/78/materials/agenda-78-sipclf
DESCRIPTION:Afternoon Session III\n
 \n
 Agenda https://datatracker.ietf.org/meeting/78/materials/agenda-78-sipclf\n
 \n
 Session materials: https://datatracker.ietf.org/meeting/78/session/sipclf\n
 \n
 See in schedule: https://datatracker.ietf.org/meeting/78/agenda#row-78-2010-07-26-mon-1740-rai-sipclf\n
END:VEVENT
BEGIN:VEVENT
UID:ietf-78-1732-dispatch
SUMMARY:dispatch - Dispatch
LOCATION:Auditorium 2
STATUS:CONFIRMED
CLASS:PUBLIC
DTSTART;TZID=Europe/Amsterdam:20100727T090000
DTEND;TZID=Europe/Amsterdam:20100727T113000
DTSTAMP:20161222T095708Z
URL:https://datatracker.ietf.org/meeting/78/materials/agenda-78-dispatch
DESCRIPTION:Morning Session I\n
 \n
 Agenda https://datatracker.ietf.org/meeting/78/materials/agenda-78-dispatch\n
 \n
 Session materials: https://datatracker.ietf.org/meeting/78/session/dispatch\n
 \n
 See in schedule: https://datatracker.ietf.org/meeting/78/agenda#row-78-2010-07-27-tue-0900-rai-dispatch\n
END:VEVENT
BEGIN:VEVENT
UID:ietf-78-1797-enum
SUMMARY:enum - Telephone Number Mapping
LOCATION:Auditorium 2
STATUS:CONFIRMED
CLASS:PUBLIC
DTSTART;TZID=Europe/Amsterdam:20100727T130000
DTEND;TZID=Europe/Amsterdam:20100727T150000
DTSTAMP:20161222T095708Z
URL:https://datatracker.ietf.org/meeting/78/materials/agenda-78-enum
DESCRIPTION:Afternoon Session I\n
 \n
 Agenda https://datatracker.ietf.org/meeting/78/materials/agenda-78-enum\n
 \n
 Session materials: https://datatracker.ietf.org/meeting/78/session/enum\n
 \n
 See in schedule: https://datatracker.ietf.org/meeting/78/agenda#row-78-2010-07-27-tue-1300-rai-enum\n
END:VEVENT
BEGIN:VEVENT
UID:ietf-78-1751-avt
SUMMARY:avt - Audio/Video Transport
LOCATION:2.1 Colorado
STATUS:CONFIRMED
CLASS:PUBLIC
DTSTART;TZID=Europe/Amsterdam:20100727T171000
DTEND;TZID=Europe/Amsterdam:20100727T181000
DTSTAMP:20161222T095708Z
URL:https://datatracker.ietf.org/meeting/78/materials/agenda-78-avt
DESCRIPTION:Afternoon Session III\n
 \n
 Agenda https://datatracker.ietf.org/meeting/78/materials/agenda-78-avt\n
 \n
 Session materials: https://datatracker.ietf.org/meeting/78/session/avt\n
 \n
 See in schedule: https://datatracker.ietf.org/meeting/78/agenda#row-78-2010-07-27-tue-1710-rai-avt\n
END:VEVENT
BEGIN:VEVENT
UID:ietf-78-1714-drinks
SUMMARY:drinks - Data for Reachability of Inter/tra-NetworK SIP
LOCATION:0.1 London
STATUS:CONFIRMED
CLASS:PUBLIC
DTSTART;TZID=Europe/Amsterdam:20100728T090000
DTEND;TZID=Europe/Amsterdam:20100728T101500
DTSTAMP:20161222T095708Z
URL:https://datatracker.ietf.org/meeting/78/materials/agenda-78-drinks
DESCRIPTION:Morning Session I\n
 \n
 Agenda https://datatracker.ietf.org/meeting/78/materials/agenda-78-drinks\n
 \n
 Session materials: https://datatracker.ietf.org/meeting/78/session/drinks\n
 \n
 See in schedule: https://datatracker.ietf.org/meeting/78/agenda#row-78-2010-07-28-wed-0900-rai-drinks\n
END:VEVENT
BEGIN:VEVENT
UID:ietf-78-1715-drinks
SUMMARY:drinks - Data for Reachability of Inter/tra-NetworK SIP
LOCATION:0.1 London
STATUS:CONFIRMED
CLASS:PUBLIC
DTSTART;TZID=Europe/Amsterdam:20100728T103000
DTEND;TZID=Europe/Amsterdam:20100728T113000
DTSTAMP:20161222T095708Z
URL:https://datatracker.ietf.org/meeting/78/materials/agenda-78-drinks
DESCRIPTION:Morning Session II\n
 \n
 Agenda https://datatracker.ietf.org/meeting/78/materials/agenda-78-drinks\n
 \n
 Session materials: https://datatracker.ietf.org/meeting/78/session/drinks\n
 \n
 See in schedule: https://datatracker.ietf.org/meeting/78/agenda#row-78-2010-07-28-wed-1030-rai-drinks\n
END:VEVENT
BEGIN:VEVENT
UID:ietf-78-1709-geopriv
SUMMARY:geopriv - Geographic Location/Privacy
LOCATION:0.4 Brussels
STATUS:CONFIRMED
CLASS:PUBLIC
DTSTART;TZID=Europe/Amsterdam:20100728T130000
DTEND;TZID=Europe/Amsterdam:20100728T153000
DTSTAMP:20161222T095708Z
URL:https://datatracker.ietf.org/meeting/78/materials/agenda-78-geopriv
DESCRIPTION:Afternoon Session I\n
 \n
 Agenda https://datatracker.ietf.org/meeting/78/materials/agenda-78-geopriv\n
 \n
 Session materials: https://datatracker.ietf.org/meeting/78/session/geopriv\n
 \n
 See in schedule: https://datatracker.ietf.org/meeting/78/agenda#row-78-2010-07-28-wed-1300-rai-geopriv\n
END:VEVENT
BEGIN:VEVENT
UID:ietf-78-1753-martini
SUMMARY:martini - Multiple AoR reachabiliTy InformatioN Indication
LOCATION:2.1 Colorado
STATUS:CONFIRMED
CLASS:PUBLIC
DTSTART;TZID=Europe/Amsterdam:20100729T090000
DTEND;TZID=Europe/Amsterdam:20100729T113000
DTSTAMP:20161222T095708Z
URL:https://datatracker.ietf.org/meeting/78/materials/agenda-78-martini
DESCRIPTION:Morning Session I\n
 \n
 Agenda https://datatracker.ietf.org/meeting/78/materials/agenda-78-martini\n
 \n
 Session materials: https://datatracker.ietf.org/meeting/78/session/martini\n
 \n
 See in schedule: https://datatracker.ietf.org/meeting/78/agenda#row-78-2010-07-29-thu-0900-rai-martini\n
END:VEVENT
BEGIN:VEVENT
UID:ietf-78-1788-ecrit
SUMMARY:ecrit - Emergency Context Resolution with Internet Technologies
LOCATION:0.4 Brussels
STATUS:CONFIRMED
CLASS:PUBLIC
DTSTART;TZID=Europe/Amsterdam:20100729T130000
DTEND;TZID=Europe/Amsterdam:20100729T150000
DTSTAMP:20161222T095708Z
URL:https://datatracker.ietf.org/meeting/78/materials/agenda-78-ecrit
DESCRIPTION:Afternoon Session I\n
 \n
 Agenda https://datatracker.ietf.org/meeting/78/materials/agenda-78-ecrit\n
 \n
 Session materials: https://datatracker.ietf.org/meeting/78/session/ecrit\n
 \n
 See in schedule: https://datatracker.ietf.org/meeting/78/agenda#row-78-2010-07-29-thu-1300-rai-ecrit\n
END:VEVENT
BEGIN:VEVENT
UID:ietf-78-1795-xmpp
SUMMARY:xmpp - Extensible Messaging and Presence Protocol
LOCATION:2.1 Colorado
STATUS:CONFIRMED
CLASS:PUBLIC
DTSTART;TZID=Europe/Amsterdam:20100729T151000
DTEND;TZID=Europe/Amsterdam:20100729T161000
DTSTAMP:20161222T095708Z
URL:https://datatracker.ietf.org/meeting/78/materials/agenda-78-xmpp
DESCRIPTION:Afternoon Session II\n
 \n
 Agenda https://datatracker.ietf.org/meeting/78/materials/agenda-78-xmpp\n
 \n
 Session materials: https://datatracker.ietf.org/meeting/78/session/xmpp\n
 \n
 See in schedule: https://datatracker.ietf.org/meeting/78/agenda#row-78-2010-07-29-thu-1510-rai-xmpp\n
END:VEVENT
BEGIN:VEVENT
UID:ietf-78-1754-martini
SUMMARY:martini - Multiple AoR reachabiliTy InformatioN Indication
LOCATION:0.2 Berlin
STATUS:CONFIRMED
CLASS:PUBLIC
DTSTART;TZID=Europe/Amsterdam:20100729T151000
DTEND;TZID=Europe/Amsterdam:20100729T161000
DTSTAMP:20161222T095708Z
URL:https://datatracker.ietf.org/meeting/78/materials/agenda-78-martini
DESCRIPTION:Afternoon Session II\n
 \n
 Agenda https://datatracker.ietf.org/meeting/78/materials/agenda-78-martini\n
 \n
 Session materials: https://datatracker.ietf.org/meeting/78/session/martini\n
 \n
 See in schedule: https://datatracker.ietf.org/meeting/78/agenda#row-78-2010-07-29-thu-1510-rai-martini\n
END:VEVENT
BEGIN:VEVENT
UID:ietf-78-1752-avt
SUMMARY:avt - Audio/Video Transport
LOCATION:0.4 Brussels
STATUS:CONFIRMED
CLASS:PUBLIC
DTSTART;TZID=Europe/Amsterdam:20100730T090000
DTEND;TZID=Europe/Amsterdam:20100730T113000
DTSTAMP:20161222T095708Z
URL:https://datatracker.ietf.org/meeting/78/materials/agenda-78-avt
DESCRIPTION:Morning Session I\n
 \n
 Agenda https://datatracker.ietf.org/meeting/78/materials/agenda-78-avt\n
 \n
 Session materials: https://datatracker.ietf.org/meeting/78/session/avt\n
 \n
 See in schedule: https://datatracker.ietf.org/meeting/78/agenda#row-78-2010-07-30-fri-0900-rai-avt\n
END:VEVENT
BEGIN:VEVENT
UID:ietf-78-1698-siprec
SUMMARY:siprec - SIP Recording
LOCATION:2.1 Colorado
STATUS:CONFIRMED
CLASS:PUBLIC
DTSTART;TZID=Europe/Amsterdam:20100730T130000
DTEND;TZID=Europe/Amsterdam:20100730T140000
DTSTAMP:20161222T095708Z
URL:https://datatracker.ietf.org/meeting/78/materials/agenda-78-siprec
DESCRIPTION:Afternoon Session I\n
 \n
 Agenda https://datatracker.ietf.org/meeting/78/materials/agenda-78-siprec\n
 \n
 Session materials: https://datatracker.ietf.org/meeting/78/session/siprec\n
 \n
 See in schedule: https://datatracker.ietf.org/meeting/78/agenda#row-78-2010-07-30-fri-1300-rai-siprec\n
END:VEVENT
BEGIN:VEVENT
UID:ietf-78-1829-salud
SUMMARY:salud - Sip ALerting for User Devices
LOCATION:0.1 London
STATUS:CONFIRMED
CLASS:PUBLIC
DTSTART;TZID=Europe/Amsterdam:20100730T130000
DTEND;TZID=Europe/Amsterdam:20100730T140000
DTSTAMP:20161222T095708Z
URL:https://datatracker.ietf.org/meeting/78/materials/agenda-78-salud
DESCRIPTION:Afternoon Session I\n
 \n
 Agenda https://datatracker.ietf.org/meeting/78/materials/agenda-78-salud\n
 \n
 Session materials: https://datatracker.ietf.org/meeting/78/session/salud\n
 \n
 See in schedule: https://datatracker.ietf.org/meeting/78/agenda#row-78-2010-07-30-fri-1300-rai-salud\n
END:VEVENT
BEGIN:VEVENT
UID:ietf-78-1699-siprec
SUMMARY:siprec - SIP Recording
LOCATION:2.1 Colorado
STATUS:CONFIRMED
CLASS:PUBLIC
DTSTART;TZID=Europe/Amsterdam:20100730T141500
DTEND;TZID=Europe/Amsterdam:20100730T151500
DTSTAMP:20161222T095708Z
URL:https://datatracker.ietf.org/meeting/78/materials/agenda-78-siprec
DESCRIPTION:Afternoon Session II\n
 \n
 Agenda https://datatracker.ietf.org/meeting/78/materials/agenda-78-siprec\n
 \n
 Session materials: https://datatracker.ietf.org/meeting/78/session/siprec\n
 \n
 See in schedule: https://datatracker.ietf.org/meeting/78/agenda#row-78-2010-07-30-fri-1415-rai-siprec\n
END:VEVENT
END:VCALENDAR
