BEGIN:VCALENDAR
VERSION:2.0
METHOD:PUBLISH
PRODID:-//IETF//datatracker.ietf.org ical agenda//EN
BEGIN:VTIMEZONE
TZID:Europe/Amsterdam
X-LIC-LOCATION:Europe/Amsterdam
BEGIN:DAYLIGHT
TZOFFSETFROM:+0100
TZOFFSETTO:+0200
TZNAME:CEST
DTSTART:19810329T020000
RRULE:FREQ=YEARLY;BYMONTH=3;BYDAY=-1SU
END:DAYLIGHT
BEGIN:STANDARD
TZOFFSETFROM:+0200
TZOFFSETTO:+0100
TZNAME:CET
DTSTART:19961027T030000
RRULE:FREQ=YEARLY;BYMONTH=10;BYDAY=-1SU
END:STANDARD
BEGIN:STANDARD
TZOFFSETFROM:+001932
TZOFFSETTO:+001932
TZNAME:AMT
DTSTART:18350101T000000
RDATE:18350101T000000
END:STANDARD
BEGIN:DAYLIGHT
TZOFFSETFROM:+001932
TZOFFSETTO:+011932
TZNAME:NST
DTSTART:19160501T000000
RDATE:19160501T000000
RDATE:19170416T020000
RDATE:19180401T020000
RDATE:19190407T020000
RDATE:19200405T020000
RDATE:19210404T020000
RDATE:19220326T020000
RDATE:19230601T020000
RDATE:19240330T020000
RDATE:19250605T020000
RDATE:19260515T020000
RDATE:19270515T020000
RDATE:19280515T020000
RDATE:19290515T020000
RDATE:19300515T020000
RDATE:19310515T020000
RDATE:19320522T020000
RDATE:19330515T020000
RDATE:19340515T020000
RDATE:19350515T020000
RDATE:19360515T020000
RDATE:19370522T020000
END:DAYLIGHT
BEGIN:STANDARD
TZOFFSETFROM:+011932
TZOFFSETTO:+001932
TZNAME:AMT
DTSTART:19161001T000000
RDATE:19161001T000000
RDATE:19170917T030000
RDATE:19180930T030000
RDATE:19190929T030000
RDATE:19200927T030000
RDATE:19210926T030000
RDATE:19221008T030000
RDATE:19231007T030000
RDATE:19241005T030000
RDATE:19251004T030000
RDATE:19261003T030000
RDATE:19271002T030000
RDATE:19281007T030000
RDATE:19291006T030000
RDATE:19301005T030000
RDATE:19311004T030000
RDATE:19321002T030000
RDATE:19331008T030000
RDATE:19341007T030000
RDATE:19351006T030000
RDATE:19361004T030000
END:STANDARD
BEGIN:DAYLIGHT
TZOFFSETFROM:+011932
TZOFFSETTO:+0120
TZNAME:NEST
DTSTART:19370701T000000
RDATE:19370701T000000
END:DAYLIGHT
BEGIN:STANDARD
TZOFFSETFROM:+0120
TZOFFSETTO:+0020
TZNAME:NET
DTSTART:19371003T030000
RDATE:19371003T030000
RDATE:19381002T030000
RDATE:19391008T030000
END:STANDARD
BEGIN:DAYLIGHT
TZOFFSETFROM:+0020
TZOFFSETTO:+0120
TZNAME:NEST
DTSTART:19380515T020000
RDATE:19380515T020000
RDATE:19390515T020000
END:DAYLIGHT
BEGIN:DAYLIGHT
TZOFFSETFROM:+0020
TZOFFSETTO:+0200
TZNAME:CEST
DTSTART:19400516T000000
RDATE:19400516T000000
END:DAYLIGHT
BEGIN:STANDARD
TZOFFSETFROM:+0200
TZOFFSETTO:+0100
TZNAME:CET
DTSTART:19421102T030000
RDATE:19421102T030000
RDATE:19431004T030000
RDATE:19441002T030000
RDATE:19450916T030000
RDATE:19770925T030000
RDATE:19781001T030000
RDATE:19790930T030000
RDATE:19800928T030000
RDATE:19810927T030000
RDATE:19820926T030000
RDATE:19830925T030000
RDATE:19840930T030000
RDATE:19850929T030000
RDATE:19860928T030000
RDATE:19870927T030000
RDATE:19880925T030000
RDATE:19890924T030000
RDATE:19900930T030000
RDATE:19910929T030000
RDATE:19920927T030000
RDATE:19930926T030000
RDATE:19940925T030000
RDATE:19950924T030000
END:STANDARD
BEGIN:DAYLIGHT
TZOFFSETFROM:+0100
TZOFFSETTO:+0200
TZNAME:CEST
DTSTART:19430329T020000
RDATE:19430329T020000
RDATE:19440403T020000
RDATE:19450402T020000
RDATE:19770403T020000
RDATE:19780402T020000
RDATE:19790401T020000
RDATE:19800406T020000
END:DAYLIGHT
BEGIN:STANDARD
TZOFFSETFROM:+0100
TZOFFSETTO:+0100
TZNAME:CET
DTSTART:19770101T000000
RDATE:19770101T000000
END:STANDARD
END:VTIMEZONE
BEGIN:VEVENT
UID:ietf-78-1704-idr
SUMMARY:idr - Inter-Domain Routing
LOCATION:0.9 Athens
STATUS:CONFIRMED
CLASS:PUBLIC
DTSTART;TZID=Europe/Amsterdam:20100726T090000
DTEND;TZID=Europe/Amsterdam:20100726T113000
DTSTAMP:20161222T095708Z
URL:https://datatracker.ietf.org/meeting/78/materials/agenda-78-idr
DESCRIPTION:Morning Session I\n
 \n
 Agenda https://datatracker.ietf.org/meeting/78/materials/agenda-78-idr\n
 \n
 Session materials: https://datatracker.ietf.org/meeting/78/session/idr\n
 \n
 See in schedule: https://datatracker.ietf.org/meeting/78/agenda#row-78-2010-07-26-mon-0900-rtg-idr\n
END:VEVENT
BEGIN:VEVENT
UID:ietf-78-1729-l2vpn
SUMMARY:l2vpn - Layer 2 Virtual Private Networks
LOCATION:Auditorium 1
STATUS:CONFIRMED
CLASS:PUBLIC
DTSTART;TZID=Europe/Amsterdam:20100726T090000
DTEND;TZID=Europe/Amsterdam:20100726T113000
DTSTAMP:20161222T095708Z
URL:https://datatracker.ietf.org/meeting/78/materials/agenda-78-l2vpn
DESCRIPTION:Morning Session I\n
 \n
 Agenda https://datatracker.ietf.org/meeting/78/materials/agenda-78-l2vpn\n
 \n
 Session materials: https://datatracker.ietf.org/meeting/78/session/l2vpn\n
 \n
 See in schedule: https://datatracker.ietf.org/meeting/78/agenda#row-78-2010-07-26-mon-0900-rtg-l2vpn\n
END:VEVENT
BEGIN:VEVENT
UID:ietf-78-1696-pce
SUMMARY:pce - Path Computation Element
LOCATION:0.2 Berlin
STATUS:CONFIRMED
CLASS:PUBLIC
DTSTART;TZID=Europe/Amsterdam:20100726T130000
DTEND;TZID=Europe/Amsterdam:20100726T150000
DTSTAMP:20161222T095708Z
URL:https://datatracker.ietf.org/meeting/78/materials/agenda-78-pce
DESCRIPTION:Afternoon Session I\n
 \n
 Agenda https://datatracker.ietf.org/meeting/78/materials/agenda-78-pce\n
 \n
 Session materials: https://datatracker.ietf.org/meeting/78/session/pce\n
 \n
 See in schedule: https://datatracker.ietf.org/meeting/78/agenda#row-78-2010-07-26-mon-1300-rtg-pce\n
END:VEVENT
BEGIN:VEVENT
UID:ietf-78-1705-rtgwg
SUMMARY:rtgwg - Routing Area Working Group
LOCATION:0.9 Athens
STATUS:CONFIRMED
CLASS:PUBLIC
DTSTART;TZID=Europe/Amsterdam:20100726T130000
DTEND;TZID=Europe/Amsterdam:20100726T150000
DTSTAMP:20161222T095708Z
URL:https://datatracker.ietf.org/meeting/78/materials/agenda-78-rtgwg
DESCRIPTION:Afternoon Session I\n
 \n
 Agenda https://datatracker.ietf.org/meeting/78/materials/agenda-78-rtgwg\n
 \n
 Session materials: https://datatracker.ietf.org/meeting/78/session/rtgwg\n
 \n
 See in schedule: https://datatracker.ietf.org/meeting/78/agenda#row-78-2010-07-26-mon-1300-rtg-rtgwg\n
END:VEVENT
BEGIN:VEVENT
UID:ietf-78-1703-rtgarea
SUMMARY:rtgarea - Routing Area Open Meeting
LOCATION:Auditorium 2
STATUS:CONFIRMED
CLASS:PUBLIC
DTSTART;TZID=Europe/Amsterdam:20100726T152000
DTEND;TZID=Europe/Amsterdam:20100726T172000
DTSTAMP:20161222T095708Z
URL:https://datatracker.ietf.org/meeting/78/materials/agenda-78-rtgarea
DESCRIPTION:Afternoon Session II\n
 \n
 Agenda https://datatracker.ietf.org/meeting/78/materials/agenda-78-rtgarea\n
 \n
 Session materials: https://datatracker.ietf.org/meeting/78/session/rtgarea\n
 \n
 See in schedule: https://datatracker.ietf.org/meeting/78/agenda#row-78-2010-07-26-mon-1520-rtg-rtgarea\n
END:VEVENT
BEGIN:VEVENT
UID:ietf-78-1759-mpls
SUMMARY:mpls - Multiprotocol Label Switching
LOCATION:Auditorium 2
STATUS:CONFIRMED
CLASS:PUBLIC
DTSTART;TZID=Europe/Amsterdam:20100726T174000
DTEND;TZID=Europe/Amsterdam:20100726T194000
DTSTAMP:20161222T095708Z
URL:https://datatracker.ietf.org/meeting/78/materials/agenda-78-mpls
DESCRIPTION:Afternoon Session III\n
 \n
 Agenda https://datatracker.ietf.org/meeting/78/materials/agenda-78-mpls\n
 \n
 Session materials: https://datatracker.ietf.org/meeting/78/session/mpls\n
 \n
 See in schedule: https://datatracker.ietf.org/meeting/78/agenda#row-78-2010-07-26-mon-1740-rtg-mpls\n
END:VEVENT
BEGIN:VEVENT
UID:ietf-78-1712-pwe3
SUMMARY:pwe3 - Pseudowire Emulation Edge to Edge
LOCATION:0.4 Brussels
STATUS:CONFIRMED
CLASS:PUBLIC
DTSTART;TZID=Europe/Amsterdam:20100727T090000
DTEND;TZID=Europe/Amsterdam:20100727T113000
DTSTAMP:20161222T095708Z
URL:https://datatracker.ietf.org/meeting/78/materials/agenda-78-pwe3
DESCRIPTION:Morning Session I\n
 \n
 Agenda https://datatracker.ietf.org/meeting/78/materials/agenda-78-pwe3\n
 \n
 Session materials: https://datatracker.ietf.org/meeting/78/session/pwe3\n
 \n
 See in schedule: https://datatracker.ietf.org/meeting/78/agenda#row-78-2010-07-27-tue-0900-rtg-pwe3\n
END:VEVENT
BEGIN:VEVENT
UID:ietf-78-1701-ccamp
SUMMARY:ccamp - Common Control and Measurement Plane
LOCATION:Auditorium 1
STATUS:CONFIRMED
CLASS:PUBLIC
DTSTART;TZID=Europe/Amsterdam:20100727T130000
DTEND;TZID=Europe/Amsterdam:20100727T150000
DTSTAMP:20161222T095708Z
URL:https://datatracker.ietf.org/meeting/78/materials/agenda-78-ccamp
DESCRIPTION:Afternoon Session I\n
 \n
 Agenda https://datatracker.ietf.org/meeting/78/materials/agenda-78-ccamp\n
 \n
 Session materials: https://datatracker.ietf.org/meeting/78/session/ccamp\n
 \n
 See in schedule: https://datatracker.ietf.org/meeting/78/agenda#row-78-2010-07-27-tue-1300-rtg-ccamp\n
END:VEVENT
BEGIN:VEVENT
UID:ietf-78-1826-bfd
SUMMARY:bfd - Bidirectional Forwarding Detection
LOCATION:0.4 Brussels
STATUS:CONFIRMED
CLASS:PUBLIC
DTSTART;TZID=Europe/Amsterdam:20100727T152000
DTEND;TZID=Europe/Amsterdam:20100727T170000
DTSTAMP:20161222T095708Z
URL:https://datatracker.ietf.org/meeting/78/materials/agenda-78-bfd
DESCRIPTION:Afternoon Session II\n
 \n
 Agenda https://datatracker.ietf.org/meeting/78/materials/agenda-78-bfd\n
 \n
 Session materials: https://datatracker.ietf.org/meeting/78/session/bfd\n
 \n
 See in schedule: https://datatracker.ietf.org/meeting/78/agenda#row-78-2010-07-27-tue-1520-rtg-bfd\n
END:VEVENT
BEGIN:VEVENT
UID:ietf-78-1708-forces
SUMMARY:forces - Forwarding and Control Element Separation
LOCATION:2.1 Colorado
STATUS:CONFIRMED
CLASS:PUBLIC
DTSTART;TZID=Europe/Amsterdam:20100727T152000
DTEND;TZID=Europe/Amsterdam:20100727T170000
DTSTAMP:20161222T095708Z
URL:https://datatracker.ietf.org/meeting/78/materials/agenda-78-forces
DESCRIPTION:Afternoon Session II\n
 \n
 Agenda https://datatracker.ietf.org/meeting/78/materials/agenda-78-forces\n
 \n
 Session materials: https://datatracker.ietf.org/meeting/78/session/forces\n
 \n
 See in schedule: https://datatracker.ietf.org/meeting/78/agenda#row-78-2010-07-27-tue-1520-rtg-forces\n
END:VEVENT
BEGIN:VEVENT
UID:ietf-78-1700-manet
SUMMARY:manet - Mobile Ad-hoc Networks
LOCATION:0.9 Athens
STATUS:CONFIRMED
CLASS:PUBLIC
DTSTART;TZID=Europe/Amsterdam:20100727T152000
DTEND;TZID=Europe/Amsterdam:20100727T170000
DTSTAMP:20161222T095708Z
URL:https://datatracker.ietf.org/meeting/78/materials/agenda-78-manet
DESCRIPTION:Afternoon Session II\n
 \n
 Agenda https://datatracker.ietf.org/meeting/78/materials/agenda-78-manet\n
 \n
 Session materials: https://datatracker.ietf.org/meeting/78/session/manet\n
 \n
 See in schedule: https://datatracker.ietf.org/meeting/78/agenda#row-78-2010-07-27-tue-1520-rtg-manet\n
END:VEVENT
BEGIN:VEVENT
UID:ietf-78-1810-isis
SUMMARY:isis - IS-IS for IP Internets
LOCATION:0.4 Brussels
STATUS:CONFIRMED
CLASS:PUBLIC
DTSTART;TZID=Europe/Amsterdam:20100727T171000
DTEND;TZID=Europe/Amsterdam:20100727T181000
DTSTAMP:20161222T095708Z
URL:https://datatracker.ietf.org/meeting/78/materials/agenda-78-isis
DESCRIPTION:Afternoon Session III\n
 \n
 Agenda https://datatracker.ietf.org/meeting/78/materials/agenda-78-isis\n
 \n
 Session materials: https://datatracker.ietf.org/meeting/78/session/isis\n
 \n
 See in schedule: https://datatracker.ietf.org/meeting/78/agenda#row-78-2010-07-27-tue-1710-rtg-isis\n
END:VEVENT
BEGIN:VEVENT
UID:ietf-78-1804-pim
SUMMARY:pim - Protocol Independent Multicast
LOCATION:0.9 Athens
STATUS:CONFIRMED
CLASS:PUBLIC
DTSTART;TZID=Europe/Amsterdam:20100727T171000
DTEND;TZID=Europe/Amsterdam:20100727T181000
DTSTAMP:20161222T095708Z
URL:https://datatracker.ietf.org/meeting/78/materials/agenda-78-pim
DESCRIPTION:Afternoon Session III\n
 \n
 Agenda https://datatracker.ietf.org/meeting/78/materials/agenda-78-pim\n
 \n
 Session materials: https://datatracker.ietf.org/meeting/78/session/pim\n
 \n
 See in schedule: https://datatracker.ietf.org/meeting/78/agenda#row-78-2010-07-27-tue-1710-rtg-pim\n
END:VEVENT
BEGIN:VEVENT
UID:ietf-78-1760-mpls
SUMMARY:mpls - Multiprotocol Label Switching
LOCATION:Auditorium 1
STATUS:CONFIRMED
CLASS:PUBLIC
DTSTART;TZID=Europe/Amsterdam:20100728T090000
DTEND;TZID=Europe/Amsterdam:20100728T101500
DTSTAMP:20161222T095708Z
URL:https://datatracker.ietf.org/meeting/78/materials/agenda-78-mpls
DESCRIPTION:Morning Session I\n
 \n
 Agenda https://datatracker.ietf.org/meeting/78/materials/agenda-78-mpls\n
 \n
 Session materials: https://datatracker.ietf.org/meeting/78/session/mpls\n
 \n
 See in schedule: https://datatracker.ietf.org/meeting/78/agenda#row-78-2010-07-28-wed-0900-rtg-mpls\n
END:VEVENT
BEGIN:VEVENT
UID:ietf-78-1761-mpls
SUMMARY:mpls - Multiprotocol Label Switching
LOCATION:Auditorium 1
STATUS:CONFIRMED
CLASS:PUBLIC
DTSTART;TZID=Europe/Amsterdam:20100728T103000
DTEND;TZID=Europe/Amsterdam:20100728T113000
DTSTAMP:20161222T095708Z
URL:https://datatracker.ietf.org/meeting/78/materials/agenda-78-mpls
DESCRIPTION:Morning Session II\n
 \n
 Agenda https://datatracker.ietf.org/meeting/78/materials/agenda-78-mpls\n
 \n
 Session materials: https://datatracker.ietf.org/meeting/78/session/mpls\n
 \n
 See in schedule: https://datatracker.ietf.org/meeting/78/agenda#row-78-2010-07-28-wed-1030-rtg-mpls\n
END:VEVENT
BEGIN:VEVENT
UID:ietf-78-1702-ccamp
SUMMARY:ccamp - Common Control and Measurement Plane
LOCATION:Auditorium 1
STATUS:CONFIRMED
CLASS:PUBLIC
DTSTART;TZID=Europe/Amsterdam:20100728T130000
DTEND;TZID=Europe/Amsterdam:20100728T153000
DTSTAMP:20161222T095708Z
URL:https://datatracker.ietf.org/meeting/78/materials/agenda-78-ccamp
DESCRIPTION:Afternoon Session I\n
 \n
 Agenda https://datatracker.ietf.org/meeting/78/materials/agenda-78-ccamp\n
 \n
 Session materials: https://datatracker.ietf.org/meeting/78/session/ccamp\n
 \n
 See in schedule: https://datatracker.ietf.org/meeting/78/agenda#row-78-2010-07-28-wed-1300-rtg-ccamp\n
END:VEVENT
BEGIN:VEVENT
UID:ietf-78-1748-sidr
SUMMARY:sidr - Secure Inter-Domain Routing
LOCATION:Auditorium 2
STATUS:CONFIRMED
CLASS:PUBLIC
DTSTART;TZID=Europe/Amsterdam:20100728T130000
DTEND;TZID=Europe/Amsterdam:20100728T153000
DTSTAMP:20161222T095708Z
URL:https://datatracker.ietf.org/meeting/78/materials/agenda-78-sidr
DESCRIPTION:Afternoon Session I\n
 \n
 Agenda https://datatracker.ietf.org/meeting/78/materials/agenda-78-sidr\n
 \n
 Session materials: https://datatracker.ietf.org/meeting/78/session/sidr\n
 \n
 See in schedule: https://datatracker.ietf.org/meeting/78/agenda#row-78-2010-07-28-wed-1300-rtg-sidr\n
END:VEVENT
BEGIN:VEVENT
UID:ietf-78-1778-karp
SUMMARY:karp - Keying and Authentication for Routing Protocols
LOCATION:Auditorium 1
STATUS:CONFIRMED
CLASS:PUBLIC
DTSTART;TZID=Europe/Amsterdam:20100729T090000
DTEND;TZID=Europe/Amsterdam:20100729T113000
DTSTAMP:20161222T095708Z
URL:https://datatracker.ietf.org/meeting/78/materials/agenda-78-karp
DESCRIPTION:Morning Session I\n
 \n
 Agenda https://datatracker.ietf.org/meeting/78/materials/agenda-78-karp\n
 \n
 Session materials: https://datatracker.ietf.org/meeting/78/session/karp\n
 \n
 See in schedule: https://datatracker.ietf.org/meeting/78/agenda#row-78-2010-07-29-thu-0900-rtg-karp\n
END:VEVENT
BEGIN:VEVENT
UID:ietf-78-1706-roll
SUMMARY:roll - Routing Over Low power and Lossy networks
LOCATION:Auditorium 2
STATUS:CONFIRMED
CLASS:PUBLIC
DTSTART;TZID=Europe/Amsterdam:20100729T130000
DTEND;TZID=Europe/Amsterdam:20100729T150000
DTSTAMP:20161222T095708Z
URL:https://datatracker.ietf.org/meeting/78/materials/agenda-78-roll
DESCRIPTION:Afternoon Session I\n
 \n
 Agenda https://datatracker.ietf.org/meeting/78/materials/agenda-78-roll\n
 \n
 Session materials: https://datatracker.ietf.org/meeting/78/session/roll\n
 \n
 See in schedule: https://datatracker.ietf.org/meeting/78/agenda#row-78-2010-07-29-thu-1300-rtg-roll\n
END:VEVENT
BEGIN:VEVENT
UID:ietf-78-1707-roll
SUMMARY:roll - Routing Over Low power and Lossy networks
LOCATION:Auditorium 2
STATUS:CONFIRMED
CLASS:PUBLIC
DTSTART;TZID=Europe/Amsterdam:20100729T151000
DTEND;TZID=Europe/Amsterdam:20100729T161000
DTSTAMP:20161222T095708Z
URL:https://datatracker.ietf.org/meeting/78/materials/agenda-78-roll
DESCRIPTION:Afternoon Session II\n
 \n
 Agenda https://datatracker.ietf.org/meeting/78/materials/agenda-78-roll\n
 \n
 Session materials: https://datatracker.ietf.org/meeting/78/session/roll\n
 \n
 See in schedule: https://datatracker.ietf.org/meeting/78/agenda#row-78-2010-07-29-thu-1510-rtg-roll\n
END:VEVENT
BEGIN:VEVENT
UID:ietf-78-1747-l3vpn
SUMMARY:l3vpn - Layer 3 Virtual Private Networks
LOCATION:Auditorium 1
STATUS:CONFIRMED
CLASS:PUBLIC
DTSTART;TZID=Europe/Amsterdam:20100730T090000
DTEND;TZID=Europe/Amsterdam:20100730T113000
DTSTAMP:20161222T095708Z
URL:https://datatracker.ietf.org/meeting/78/materials/agenda-78-l3vpn
DESCRIPTION:Morning Session I\n
 \n
 Agenda https://datatracker.ietf.org/meeting/78/materials/agenda-78-l3vpn\n
 \n
 Session materials: https://datatracker.ietf.org/meeting/78/session/l3vpn\n
 \n
 See in schedule: https://datatracker.ietf.org/meeting/78/agenda#row-78-2010-07-30-fri-0900-rtg-l3vpn\n
END:VEVENT
END:VCALENDAR
