BEGIN:VCALENDAR
VERSION:2.0
METHOD:PUBLISH
PRODID:-//IETF//datatracker.ietf.org ical agenda//EN
BEGIN:VTIMEZONE
TZID:Europe/Amsterdam
X-LIC-LOCATION:Europe/Amsterdam
BEGIN:DAYLIGHT
TZOFFSETFROM:+0100
TZOFFSETTO:+0200
TZNAME:CEST
DTSTART:19810329T020000
RRULE:FREQ=YEARLY;BYMONTH=3;BYDAY=-1SU
END:DAYLIGHT
BEGIN:STANDARD
TZOFFSETFROM:+0200
TZOFFSETTO:+0100
TZNAME:CET
DTSTART:19961027T030000
RRULE:FREQ=YEARLY;BYMONTH=10;BYDAY=-1SU
END:STANDARD
BEGIN:STANDARD
TZOFFSETFROM:+001932
TZOFFSETTO:+001932
TZNAME:AMT
DTSTART:18350101T000000
RDATE:18350101T000000
END:STANDARD
BEGIN:DAYLIGHT
TZOFFSETFROM:+001932
TZOFFSETTO:+011932
TZNAME:NST
DTSTART:19160501T000000
RDATE:19160501T000000
RDATE:19170416T020000
RDATE:19180401T020000
RDATE:19190407T020000
RDATE:19200405T020000
RDATE:19210404T020000
RDATE:19220326T020000
RDATE:19230601T020000
RDATE:19240330T020000
RDATE:19250605T020000
RDATE:19260515T020000
RDATE:19270515T020000
RDATE:19280515T020000
RDATE:19290515T020000
RDATE:19300515T020000
RDATE:19310515T020000
RDATE:19320522T020000
RDATE:19330515T020000
RDATE:19340515T020000
RDATE:19350515T020000
RDATE:19360515T020000
RDATE:19370522T020000
END:DAYLIGHT
BEGIN:STANDARD
TZOFFSETFROM:+011932
TZOFFSETTO:+001932
TZNAME:AMT
DTSTART:19161001T000000
RDATE:19161001T000000
RDATE:19170917T030000
RDATE:19180930T030000
RDATE:19190929T030000
RDATE:19200927T030000
RDATE:19210926T030000
RDATE:19221008T030000
RDATE:19231007T030000
RDATE:19241005T030000
RDATE:19251004T030000
RDATE:19261003T030000
RDATE:19271002T030000
RDATE:19281007T030000
RDATE:19291006T030000
RDATE:19301005T030000
RDATE:19311004T030000
RDATE:19321002T030000
RDATE:19331008T030000
RDATE:19341007T030000
RDATE:19351006T030000
RDATE:19361004T030000
END:STANDARD
BEGIN:DAYLIGHT
TZOFFSETFROM:+011932
TZOFFSETTO:+0120
TZNAME:NEST
DTSTART:19370701T000000
RDATE:19370701T000000
END:DAYLIGHT
BEGIN:STANDARD
TZOFFSETFROM:+0120
TZOFFSETTO:+0020
TZNAME:NET
DTSTART:19371003T030000
RDATE:19371003T030000
RDATE:19381002T030000
RDATE:19391008T030000
END:STANDARD
BEGIN:DAYLIGHT
TZOFFSETFROM:+0020
TZOFFSETTO:+0120
TZNAME:NEST
DTSTART:19380515T020000
RDATE:19380515T020000
RDATE:19390515T020000
END:DAYLIGHT
BEGIN:DAYLIGHT
TZOFFSETFROM:+0020
TZOFFSETTO:+0200
TZNAME:CEST
DTSTART:19400516T000000
RDATE:19400516T000000
END:DAYLIGHT
BEGIN:STANDARD
TZOFFSETFROM:+0200
TZOFFSETTO:+0100
TZNAME:CET
DTSTART:19421102T030000
RDATE:19421102T030000
RDATE:19431004T030000
RDATE:19441002T030000
RDATE:19450916T030000
RDATE:19770925T030000
RDATE:19781001T030000
RDATE:19790930T030000
RDATE:19800928T030000
RDATE:19810927T030000
RDATE:19820926T030000
RDATE:19830925T030000
RDATE:19840930T030000
RDATE:19850929T030000
RDATE:19860928T030000
RDATE:19870927T030000
RDATE:19880925T030000
RDATE:19890924T030000
RDATE:19900930T030000
RDATE:19910929T030000
RDATE:19920927T030000
RDATE:19930926T030000
RDATE:19940925T030000
RDATE:19950924T030000
END:STANDARD
BEGIN:DAYLIGHT
TZOFFSETFROM:+0100
TZOFFSETTO:+0200
TZNAME:CEST
DTSTART:19430329T020000
RDATE:19430329T020000
RDATE:19440403T020000
RDATE:19450402T020000
RDATE:19770403T020000
RDATE:19780402T020000
RDATE:19790401T020000
RDATE:19800406T020000
END:DAYLIGHT
BEGIN:STANDARD
TZOFFSETFROM:+0100
TZOFFSETTO:+0100
TZNAME:CET
DTSTART:19770101T000000
RDATE:19770101T000000
END:STANDARD
END:VTIMEZONE
BEGIN:VEVENT
UID:ietf-78-1783-ipsecme
SUMMARY:ipsecme - IP Security Maintenance and Extensions
LOCATION:0.8 Rome
STATUS:CONFIRMED
CLASS:PUBLIC
DTSTART;TZID=Europe/Amsterdam:20100726T090000
DTEND;TZID=Europe/Amsterdam:20100726T113000
DTSTAMP:20161222T095708Z
URL:https://datatracker.ietf.org/meeting/78/materials/agenda-78-ipsecme
DESCRIPTION:Morning Session I\n
 \n
 Agenda https://datatracker.ietf.org/meeting/78/materials/agenda-78-ipsecme\n
 \n
 Session materials: https://datatracker.ietf.org/meeting/78/session/ipsecme\n
 \n
 See in schedule: https://datatracker.ietf.org/meeting/78/agenda#row-78-2010-07-26-mon-0900-sec-ipsecme\n
END:VEVENT
BEGIN:VEVENT
UID:ietf-78-1720-pkix
SUMMARY:pkix - Public-Key Infrastructure (X.509)
LOCATION:0.8 Rome
STATUS:CONFIRMED
CLASS:PUBLIC
DTSTART;TZID=Europe/Amsterdam:20100726T130000
DTEND;TZID=Europe/Amsterdam:20100726T150000
DTSTAMP:20161222T095708Z
URL:https://datatracker.ietf.org/meeting/78/materials/agenda-78-pkix
DESCRIPTION:Afternoon Session I\n
 \n
 Agenda https://datatracker.ietf.org/meeting/78/materials/agenda-78-pkix\n
 \n
 Session materials: https://datatracker.ietf.org/meeting/78/session/pkix\n
 \n
 See in schedule: https://datatracker.ietf.org/meeting/78/agenda#row-78-2010-07-26-mon-1300-sec-pkix\n
END:VEVENT
BEGIN:VEVENT
UID:ietf-78-1796-kitten
SUMMARY:kitten - Common Authentication Technology Next Generation
LOCATION:0.8 Rome
STATUS:CONFIRMED
CLASS:PUBLIC
DTSTART;TZID=Europe/Amsterdam:20100726T174000
DTEND;TZID=Europe/Amsterdam:20100726T194000
DTSTAMP:20161222T095708Z
URL:https://datatracker.ietf.org/meeting/78/materials/agenda-78-kitten
DESCRIPTION:Afternoon Session III\n
 \n
 Agenda https://datatracker.ietf.org/meeting/78/materials/agenda-78-kitten\n
 \n
 Session materials: https://datatracker.ietf.org/meeting/78/session/kitten\n
 \n
 See in schedule: https://datatracker.ietf.org/meeting/78/agenda#row-78-2010-07-26-mon-1740-sec-kitten\n
END:VEVENT
BEGIN:VEVENT
UID:ietf-78-1811-fedauth
SUMMARY:fedauth - Federated Authentication Beyond the Web
LOCATION:0.2 Berlin
STATUS:CONFIRMED
CLASS:PUBLIC
DTSTART;TZID=Europe/Amsterdam:20100727T090000
DTEND;TZID=Europe/Amsterdam:20100727T113000
DTSTAMP:20161222T095708Z
URL:https://datatracker.ietf.org/meeting/78/materials/agenda-78-fedauth
DESCRIPTION:Morning Session I\n
 \n
 Agenda https://datatracker.ietf.org/meeting/78/materials/agenda-78-fedauth\n
 \n
 Session materials: https://datatracker.ietf.org/meeting/78/session/fedauth\n
 \n
 See in schedule: https://datatracker.ietf.org/meeting/78/agenda#row-78-2010-07-27-tue-0900-sec-fedauth\n
END:VEVENT
BEGIN:VEVENT
UID:ietf-78-1756-nea
SUMMARY:nea - Network Endpoint Assessment
LOCATION:0.8 Rome
STATUS:CONFIRMED
CLASS:PUBLIC
DTSTART;TZID=Europe/Amsterdam:20100727T130000
DTEND;TZID=Europe/Amsterdam:20100727T150000
DTSTAMP:20161222T095708Z
URL:https://datatracker.ietf.org/meeting/78/materials/agenda-78-nea
DESCRIPTION:Afternoon Session I\n
 \n
 Agenda https://datatracker.ietf.org/meeting/78/materials/agenda-78-nea\n
 \n
 Session materials: https://datatracker.ietf.org/meeting/78/session/nea\n
 \n
 See in schedule: https://datatracker.ietf.org/meeting/78/agenda#row-78-2010-07-27-tue-1300-sec-nea\n
END:VEVENT
BEGIN:VEVENT
UID:ietf-78-1744-oauth
SUMMARY:oauth - Web Authorization Protocol
LOCATION:0.8 Rome
STATUS:CONFIRMED
CLASS:PUBLIC
DTSTART;TZID=Europe/Amsterdam:20100727T152000
DTEND;TZID=Europe/Amsterdam:20100727T170000
DTSTAMP:20161222T095708Z
URL:https://datatracker.ietf.org/meeting/78/materials/agenda-78-oauth
DESCRIPTION:Afternoon Session II\n
 \n
 Agenda https://datatracker.ietf.org/meeting/78/materials/agenda-78-oauth\n
 \n
 Session materials: https://datatracker.ietf.org/meeting/78/session/oauth\n
 \n
 See in schedule: https://datatracker.ietf.org/meeting/78/agenda#row-78-2010-07-27-tue-1520-sec-oauth\n
END:VEVENT
BEGIN:VEVENT
UID:ietf-78-1745-oauth
SUMMARY:oauth - Web Authorization Protocol
LOCATION:0.8 Rome
STATUS:CONFIRMED
CLASS:PUBLIC
DTSTART;TZID=Europe/Amsterdam:20100727T171000
DTEND;TZID=Europe/Amsterdam:20100727T181000
DTSTAMP:20161222T095708Z
URL:https://datatracker.ietf.org/meeting/78/materials/agenda-78-oauth
DESCRIPTION:Afternoon Session III\n
 \n
 Agenda https://datatracker.ietf.org/meeting/78/materials/agenda-78-oauth\n
 \n
 Session materials: https://datatracker.ietf.org/meeting/78/session/oauth\n
 \n
 See in schedule: https://datatracker.ietf.org/meeting/78/agenda#row-78-2010-07-27-tue-1710-sec-oauth\n
END:VEVENT
BEGIN:VEVENT
UID:ietf-78-1725-emu
SUMMARY:emu - EAP Method Update
LOCATION:0.9 Athens
STATUS:CONFIRMED
CLASS:PUBLIC
DTSTART;TZID=Europe/Amsterdam:20100728T090000
DTEND;TZID=Europe/Amsterdam:20100728T101500
DTSTAMP:20161222T095708Z
URL:https://datatracker.ietf.org/meeting/78/materials/agenda-78-emu
DESCRIPTION:Morning Session I\n
 \n
 Agenda https://datatracker.ietf.org/meeting/78/materials/agenda-78-emu\n
 \n
 Session materials: https://datatracker.ietf.org/meeting/78/session/emu\n
 \n
 See in schedule: https://datatracker.ietf.org/meeting/78/agenda#row-78-2010-07-28-wed-0900-sec-emu\n
END:VEVENT
BEGIN:VEVENT
UID:ietf-78-1772-dkim
SUMMARY:dkim - Domain Keys Identified Mail
LOCATION:2.1 Colorado
STATUS:CONFIRMED
CLASS:PUBLIC
DTSTART;TZID=Europe/Amsterdam:20100728T130000
DTEND;TZID=Europe/Amsterdam:20100728T153000
DTSTAMP:20161222T095708Z
URL:https://datatracker.ietf.org/meeting/78/materials/agenda-78-dkim
DESCRIPTION:Afternoon Session I\n
 \n
 Agenda https://datatracker.ietf.org/meeting/78/materials/agenda-78-dkim\n
 \n
 Session materials: https://datatracker.ietf.org/meeting/78/session/dkim\n
 \n
 See in schedule: https://datatracker.ietf.org/meeting/78/agenda#row-78-2010-07-28-wed-1300-sec-dkim\n
END:VEVENT
BEGIN:VEVENT
UID:ietf-78-1773-saag
SUMMARY:saag - Security Area Open Meeting
LOCATION:Auditorium 1
STATUS:CONFIRMED
CLASS:PUBLIC
DTSTART;TZID=Europe/Amsterdam:20100729T130000
DTEND;TZID=Europe/Amsterdam:20100729T150000
DTSTAMP:20161222T095708Z
URL:https://datatracker.ietf.org/meeting/78/materials/agenda-78-saag
DESCRIPTION:Afternoon Session I\n
 \n
 Agenda https://datatracker.ietf.org/meeting/78/materials/agenda-78-saag\n
 \n
 Session materials: https://datatracker.ietf.org/meeting/78/session/saag\n
 \n
 See in schedule: https://datatracker.ietf.org/meeting/78/agenda#row-78-2010-07-29-thu-1300-sec-saag\n
END:VEVENT
BEGIN:VEVENT
UID:ietf-78-1742-hokey
SUMMARY:hokey - Handover Keying
LOCATION:0.1 London
STATUS:CONFIRMED
CLASS:PUBLIC
DTSTART;TZID=Europe/Amsterdam:20100729T151000
DTEND;TZID=Europe/Amsterdam:20100729T161000
DTSTAMP:20161222T095708Z
URL:https://datatracker.ietf.org/meeting/78/materials/agenda-78-hokey
DESCRIPTION:Afternoon Session II\n
 \n
 Agenda https://datatracker.ietf.org/meeting/78/materials/agenda-78-hokey\n
 \n
 Session materials: https://datatracker.ietf.org/meeting/78/session/hokey\n
 \n
 See in schedule: https://datatracker.ietf.org/meeting/78/agenda#row-78-2010-07-29-thu-1510-sec-hokey\n
END:VEVENT
BEGIN:VEVENT
UID:ietf-78-1787-krb-wg
SUMMARY:krb-wg - Kerberos (Cancelled)
LOCATION:0.8 Rome
STATUS:CONFIRMED
CLASS:PUBLIC
DTSTART;TZID=Europe/Amsterdam:20100729T151000
DTEND;TZID=Europe/Amsterdam:20100729T161000
DTSTAMP:20161222T095708Z
DESCRIPTION:Afternoon Session II\n
 Note: Cancelled\n
 \n
 Session materials: https://datatracker.ietf.org/meeting/78/session/krb-wg\n
 \n
 See in schedule: https://datatracker.ietf.org/meeting/78/agenda#row-78-2010-07-29-thu-1510-sec-krb-wg\n
END:VEVENT
BEGIN:VEVENT
UID:ietf-78-1776-tls
SUMMARY:tls - Transport Layer Security
LOCATION:0.8 Rome
STATUS:CONFIRMED
CLASS:PUBLIC
DTSTART;TZID=Europe/Amsterdam:20100729T151000
DTEND;TZID=Europe/Amsterdam:20100729T161000
DTSTAMP:20161222T095708Z
URL:https://datatracker.ietf.org/meeting/78/materials/agenda-78-tls
DESCRIPTION:Afternoon Session II\n
 \n
 Agenda https://datatracker.ietf.org/meeting/78/materials/agenda-78-tls\n
 \n
 Session materials: https://datatracker.ietf.org/meeting/78/session/tls\n
 \n
 See in schedule: https://datatracker.ietf.org/meeting/78/agenda#row-78-2010-07-29-thu-1510-sec-tls\n
END:VEVENT
BEGIN:VEVENT
UID:ietf-78-1794-msec
SUMMARY:msec - Multicast Security
LOCATION:0.1 London
STATUS:CONFIRMED
CLASS:PUBLIC
DTSTART;TZID=Europe/Amsterdam:20100730T090000
DTEND;TZID=Europe/Amsterdam:20100730T113000
DTSTAMP:20161222T095708Z
URL:https://datatracker.ietf.org/meeting/78/materials/agenda-78-msec
DESCRIPTION:Morning Session I\n
 \n
 Agenda https://datatracker.ietf.org/meeting/78/materials/agenda-78-msec\n
 \n
 Session materials: https://datatracker.ietf.org/meeting/78/session/msec\n
 \n
 See in schedule: https://datatracker.ietf.org/meeting/78/agenda#row-78-2010-07-30-fri-0900-sec-msec\n
END:VEVENT
END:VCALENDAR
