BEGIN:VCALENDAR
VERSION:2.0
METHOD:PUBLISH
PRODID:-//IETF//datatracker.ietf.org ical agenda//EN
BEGIN:VTIMEZONE
TZID:Asia/Shanghai
X-LIC-LOCATION:Asia/Shanghai
BEGIN:STANDARD
TZOFFSETFROM:+080543
TZOFFSETTO:+0800
TZNAME:CST
DTSTART:19010101T000000
RDATE:19010101T000000
END:STANDARD
BEGIN:DAYLIGHT
TZOFFSETFROM:+0800
TZOFFSETTO:+0900
TZNAME:CDT
DTSTART:19400603T000000
RDATE:19400603T000000
RDATE:19410316T000000
RDATE:19860504T000000
RDATE:19870412T000000
RDATE:19880410T000000
RDATE:19890416T000000
RDATE:19900415T000000
RDATE:19910414T000000
END:DAYLIGHT
BEGIN:STANDARD
TZOFFSETFROM:+0900
TZOFFSETTO:+0800
TZNAME:CST
DTSTART:19401001T000000
RDATE:19401001T000000
RDATE:19411001T000000
RDATE:19860914T000000
RDATE:19870913T000000
RDATE:19880911T000000
RDATE:19890917T000000
RDATE:19900916T000000
RDATE:19910915T000000
END:STANDARD
BEGIN:STANDARD
TZOFFSETFROM:+0800
TZOFFSETTO:+0800
TZNAME:CST
DTSTART:19490101T000000
RDATE:19490101T000000
END:STANDARD
END:VTIMEZONE
BEGIN:VEVENT
UID:ietf-79-1945-apparea
SUMMARY:apparea - Applications Area Open Meeting
LOCATION:Garden Ballroom 1
STATUS:CONFIRMED
CLASS:PUBLIC
DTSTART;TZID=Asia/Shanghai:20101108T090000
DTEND;TZID=Asia/Shanghai:20101108T113000
DTSTAMP:20161222T095708Z
URL:https://datatracker.ietf.org/meeting/79/materials/agenda-79-apparea
DESCRIPTION:Morning Session I\n
 \n
 Agenda https://datatracker.ietf.org/meeting/79/materials/agenda-79-apparea\n
 \n
 Session materials: https://datatracker.ietf.org/meeting/79/session/apparea\n
 \n
 See in schedule: https://datatracker.ietf.org/meeting/79/agenda#row-79-2010-11-08-mon-0900-app-apparea\n
END:VEVENT
BEGIN:VEVENT
UID:ietf-79-1899-precis
SUMMARY:precis - Preparation and Comparison of Internationalized Strings
LOCATION:Jade 1
STATUS:CONFIRMED
CLASS:PUBLIC
DTSTART;TZID=Asia/Shanghai:20101108T130000
DTEND;TZID=Asia/Shanghai:20101108T150000
DTSTAMP:20161222T095708Z
URL:https://datatracker.ietf.org/meeting/79/materials/agenda-79-precis
DESCRIPTION:Afternoon Session I\n
 \n
 Agenda https://datatracker.ietf.org/meeting/79/materials/agenda-79-precis\n
 \n
 Session materials: https://datatracker.ietf.org/meeting/79/session/precis\n
 \n
 See in schedule: https://datatracker.ietf.org/meeting/79/agenda#row-79-2010-11-08-mon-1300-app-precis\n
END:VEVENT
BEGIN:VEVENT
UID:ietf-79-1923-core
SUMMARY:core - Constrained RESTful Environments
LOCATION:Emerald
STATUS:CONFIRMED
CLASS:PUBLIC
DTSTART;TZID=Asia/Shanghai:20101108T151000
DTEND;TZID=Asia/Shanghai:20101108T161000
DTSTAMP:20161222T095708Z
URL:https://datatracker.ietf.org/meeting/79/materials/agenda-79-core
DESCRIPTION:Afternoon Session II\n
 \n
 Agenda https://datatracker.ietf.org/meeting/79/materials/agenda-79-core\n
 \n
 Session materials: https://datatracker.ietf.org/meeting/79/session/core\n
 \n
 See in schedule: https://datatracker.ietf.org/meeting/79/agenda#row-79-2010-11-08-mon-1510-app-core\n
END:VEVENT
BEGIN:VEVENT
UID:ietf-79-1915-eai
SUMMARY:eai - Email Address Internationalization
LOCATION:Garden Ballroom 3
STATUS:CONFIRMED
CLASS:PUBLIC
DTSTART;TZID=Asia/Shanghai:20101109T090000
DTEND;TZID=Asia/Shanghai:20101109T113000
DTSTAMP:20161222T095708Z
URL:https://datatracker.ietf.org/meeting/79/materials/agenda-79-eai
DESCRIPTION:Morning Session I\n
 \n
 Agenda https://datatracker.ietf.org/meeting/79/materials/agenda-79-eai\n
 \n
 Session materials: https://datatracker.ietf.org/meeting/79/session/eai\n
 \n
 See in schedule: https://datatracker.ietf.org/meeting/79/agenda#row-79-2010-11-09-tue-0900-app-eai\n
END:VEVENT
BEGIN:VEVENT
UID:ietf-79-1949-websec
SUMMARY:websec - Web Security
LOCATION:Valley Ballroom B
STATUS:CONFIRMED
CLASS:PUBLIC
DTSTART;TZID=Asia/Shanghai:20101109T130000
DTEND;TZID=Asia/Shanghai:20101109T150000
DTSTAMP:20161222T095708Z
URL:https://datatracker.ietf.org/meeting/79/materials/agenda-79-websec
DESCRIPTION:Afternoon Session I\n
 \n
 Agenda https://datatracker.ietf.org/meeting/79/materials/agenda-79-websec\n
 \n
 Session materials: https://datatracker.ietf.org/meeting/79/session/websec\n
 \n
 See in schedule: https://datatracker.ietf.org/meeting/79/agenda#row-79-2010-11-09-tue-1300-app-websec\n
END:VEVENT
BEGIN:VEVENT
UID:ietf-79-1897-iri
SUMMARY:iri - Internationalized Resource Identifiers
LOCATION:Jade 1
STATUS:CONFIRMED
CLASS:PUBLIC
DTSTART;TZID=Asia/Shanghai:20101109T152000
DTEND;TZID=Asia/Shanghai:20101109T170000
DTSTAMP:20161222T095708Z
URL:https://datatracker.ietf.org/meeting/79/materials/agenda-79-iri
DESCRIPTION:Afternoon Session II\n
 \n
 Agenda https://datatracker.ietf.org/meeting/79/materials/agenda-79-iri\n
 \n
 Session materials: https://datatracker.ietf.org/meeting/79/session/iri\n
 \n
 See in schedule: https://datatracker.ietf.org/meeting/79/agenda#row-79-2010-11-09-tue-1520-app-iri\n
END:VEVENT
BEGIN:VEVENT
UID:ietf-79-1898-iri
SUMMARY:iri - Internationalized Resource Identifiers
LOCATION:Jade 1
STATUS:CONFIRMED
CLASS:PUBLIC
DTSTART;TZID=Asia/Shanghai:20101109T171000
DTEND;TZID=Asia/Shanghai:20101109T181000
DTSTAMP:20161222T095708Z
URL:https://datatracker.ietf.org/meeting/79/materials/agenda-79-iri
DESCRIPTION:Afternoon Session III\n
 \n
 Agenda https://datatracker.ietf.org/meeting/79/materials/agenda-79-iri\n
 \n
 Session materials: https://datatracker.ietf.org/meeting/79/session/iri\n
 \n
 See in schedule: https://datatracker.ietf.org/meeting/79/agenda#row-79-2010-11-09-tue-1710-app-iri\n
END:VEVENT
BEGIN:VEVENT
UID:ietf-79-1924-core
SUMMARY:core - Constrained RESTful Environments
LOCATION:Emerald
STATUS:CONFIRMED
CLASS:PUBLIC
DTSTART;TZID=Asia/Shanghai:20101110T090000
DTEND;TZID=Asia/Shanghai:20101110T113000
DTSTAMP:20161222T095708Z
URL:https://datatracker.ietf.org/meeting/79/materials/agenda-79-core
DESCRIPTION:Morning Session I\n
 \n
 Agenda https://datatracker.ietf.org/meeting/79/materials/agenda-79-core\n
 \n
 Session materials: https://datatracker.ietf.org/meeting/79/session/core\n
 \n
 See in schedule: https://datatracker.ietf.org/meeting/79/agenda#row-79-2010-11-10-wed-0900-app-core\n
END:VEVENT
BEGIN:VEVENT
UID:ietf-79-1934-isms
SUMMARY:isms - Integrated Security Model for SNMP
LOCATION:Pearl
STATUS:CONFIRMED
CLASS:PUBLIC
DTSTART;TZID=Asia/Shanghai:20101110T151000
DTEND;TZID=Asia/Shanghai:20101110T161000
DTSTAMP:20161222T095708Z
URL:https://datatracker.ietf.org/meeting/79/materials/agenda-79-isms
DESCRIPTION:Afternoon Session II\n
 \n
 Agenda https://datatracker.ietf.org/meeting/79/materials/agenda-79-isms\n
 \n
 Session materials: https://datatracker.ietf.org/meeting/79/session/isms\n
 \n
 See in schedule: https://datatracker.ietf.org/meeting/79/agenda#row-79-2010-11-10-wed-1510-app-isms\n
END:VEVENT
BEGIN:VEVENT
UID:ietf-79-1896-vcarddav
SUMMARY:vcarddav - vCard and CardDAV
LOCATION:Jade 1
STATUS:CONFIRMED
CLASS:PUBLIC
DTSTART;TZID=Asia/Shanghai:20101110T151000
DTEND;TZID=Asia/Shanghai:20101110T161000
DTSTAMP:20161222T095708Z
URL:https://datatracker.ietf.org/meeting/79/materials/agenda-79-vcarddav
DESCRIPTION:Afternoon Session II\n
 \n
 Agenda https://datatracker.ietf.org/meeting/79/materials/agenda-79-vcarddav\n
 \n
 Session materials: https://datatracker.ietf.org/meeting/79/session/vcarddav\n
 \n
 See in schedule: https://datatracker.ietf.org/meeting/79/agenda#row-79-2010-11-10-wed-1510-app-vcarddav\n
END:VEVENT
END:VCALENDAR
