BEGIN:VCALENDAR
VERSION:2.0
METHOD:PUBLISH
PRODID:-//IETF//datatracker.ietf.org ical agenda//EN
BEGIN:VTIMEZONE
TZID:Asia/Shanghai
X-LIC-LOCATION:Asia/Shanghai
BEGIN:STANDARD
TZOFFSETFROM:+080543
TZOFFSETTO:+0800
TZNAME:CST
DTSTART:19010101T000000
RDATE:19010101T000000
END:STANDARD
BEGIN:DAYLIGHT
TZOFFSETFROM:+0800
TZOFFSETTO:+0900
TZNAME:CDT
DTSTART:19400603T000000
RDATE:19400603T000000
RDATE:19410316T000000
RDATE:19860504T000000
RDATE:19870412T000000
RDATE:19880410T000000
RDATE:19890416T000000
RDATE:19900415T000000
RDATE:19910414T000000
END:DAYLIGHT
BEGIN:STANDARD
TZOFFSETFROM:+0900
TZOFFSETTO:+0800
TZNAME:CST
DTSTART:19401001T000000
RDATE:19401001T000000
RDATE:19411001T000000
RDATE:19860914T000000
RDATE:19870913T000000
RDATE:19880911T000000
RDATE:19890917T000000
RDATE:19900916T000000
RDATE:19910915T000000
END:STANDARD
BEGIN:STANDARD
TZOFFSETFROM:+0800
TZOFFSETTO:+0800
TZNAME:CST
DTSTART:19490101T000000
RDATE:19490101T000000
END:STANDARD
END:VTIMEZONE
BEGIN:VEVENT
UID:ietf-79-1959-tools
SUMMARY:Code Sprint
LOCATION:Lotus I & II
STATUS:CONFIRMED
CLASS:PUBLIC
DTSTART;TZID=Asia/Shanghai:20101106T093000
DTEND;TZID=Asia/Shanghai:20101106T170000
DTSTAMP:20161222T095708Z
DESCRIPTION:Code Sprint\n
 \n
 Session materials: https://datatracker.ietf.org/meeting/79/session/tools\n
 \n
 See in schedule: https://datatracker.ietf.org/meeting/79/agenda#row-79-2010-11-06-sat-0930-tools-code-sprint\n
END:VEVENT
BEGIN:VEVENT
UID:ietf-79-1965-iepg
SUMMARY:IEPG Meeting
LOCATION:Garden Ballroom 1
STATUS:CONFIRMED
CLASS:PUBLIC
DTSTART;TZID=Asia/Shanghai:20101107T100000
DTEND;TZID=Asia/Shanghai:20101107T120000
DTSTAMP:20161222T095708Z
DESCRIPTION:IEPG Meeting\n
 \n
 Session materials: https://datatracker.ietf.org/meeting/79/session/iepg\n
 \n
 See in schedule: https://datatracker.ietf.org/meeting/79/agenda#row-79-2010-11-07-sun-1000-iepg-iepg-meeting\n
END:VEVENT
BEGIN:VEVENT
UID:ietf-79-1958-edu
SUMMARY:Newcomer's Training
LOCATION:Garden Ballroom 1
STATUS:CONFIRMED
CLASS:PUBLIC
DTSTART;TZID=Asia/Shanghai:20101107T130000
DTEND;TZID=Asia/Shanghai:20101107T145000
DTSTAMP:20161222T095708Z
DESCRIPTION:Newcomer's Training\n
 \n
 Session materials: https://datatracker.ietf.org/meeting/79/session/edu\n
 \n
 See in schedule: https://datatracker.ietf.org/meeting/79/agenda#row-79-2010-11-07-sun-1300-edu-newcomers-training\n
END:VEVENT
BEGIN:VEVENT
UID:ietf-79-1960-edu
SUMMARY:Security Tutorial
LOCATION:Garden Ballroom 3
STATUS:CONFIRMED
CLASS:PUBLIC
DTSTART;TZID=Asia/Shanghai:20101107T130000
DTEND;TZID=Asia/Shanghai:20101107T145000
DTSTAMP:20161222T095708Z
DESCRIPTION:Security Tutorial\n
 \n
 Session materials: https://datatracker.ietf.org/meeting/79/session/edu\n
 \n
 See in schedule: https://datatracker.ietf.org/meeting/79/agenda#row-79-2010-11-07-sun-1300-edu-security-tutorial\n
END:VEVENT
BEGIN:VEVENT
UID:ietf-79-1962-edu
SUMMARY:Document Lifecycle
LOCATION:Garden Ballroom 3
STATUS:CONFIRMED
CLASS:PUBLIC
DTSTART;TZID=Asia/Shanghai:20101107T150000
DTEND;TZID=Asia/Shanghai:20101107T165000
DTSTAMP:20161222T095708Z
DESCRIPTION:Document Lifecycle\n
 \n
 Session materials: https://datatracker.ietf.org/meeting/79/session/edu\n
 \n
 See in schedule: https://datatracker.ietf.org/meeting/79/agenda#row-79-2010-11-07-sun-1500-edu-document-lifecycle\n
END:VEVENT
BEGIN:VEVENT
UID:ietf-79-1961-edu
SUMMARY:Newcomer's Training (Mandarin)
LOCATION:Garden Ballroom 1
STATUS:CONFIRMED
CLASS:PUBLIC
DTSTART;TZID=Asia/Shanghai:20101107T150000
DTEND;TZID=Asia/Shanghai:20101107T165000
DTSTAMP:20161222T095708Z
DESCRIPTION:Newcomer's Training (Mandarin)\n
 \n
 Session materials: https://datatracker.ietf.org/meeting/79/session/edu\n
 \n
 See in schedule: https://datatracker.ietf.org/meeting/79/agenda#row-79-2010-11-07-sun-1500-edu-newcomers-training-mandarin\n
END:VEVENT
BEGIN:VEVENT
UID:ietf-79-1963-edu
SUMMARY:Routing\, Bridging and Switching Tutorial
LOCATION:Valley Ballroom C
STATUS:CONFIRMED
CLASS:PUBLIC
DTSTART;TZID=Asia/Shanghai:20101107T150000
DTEND;TZID=Asia/Shanghai:20101107T165000
DTSTAMP:20161222T095708Z
DESCRIPTION:Routing\, Bridging and Switching Tutorial\n
 \n
 Session materials: https://datatracker.ietf.org/meeting/79/session/edu\n
 \n
 See in schedule: https://datatracker.ietf.org/meeting/79/agenda#row-79-2010-11-07-sun-1500-edu-routing-bridging-and-switching-tutorial\n
END:VEVENT
BEGIN:VEVENT
UID:ietf-79-1956-ietf
SUMMARY:Technical Plenary
LOCATION:Valley Ballroom ABC
STATUS:CONFIRMED
CLASS:PUBLIC
DTSTART;TZID=Asia/Shanghai:20101108T163000
DTEND;TZID=Asia/Shanghai:20101108T193000
DTSTAMP:20161222T095708Z
URL:https://datatracker.ietf.org/meeting/79/materials/agenda-79-ietf-technical-plenary
DESCRIPTION:Technical Plenary\n
 \n
 Agenda https://datatracker.ietf.org/meeting/79/materials/agenda-79-ietf-technical-plenary\n
 \n
 Session materials: https://datatracker.ietf.org/meeting/79/session/ietf\n
 \n
 See in schedule: https://datatracker.ietf.org/meeting/79/agenda#row-79-2010-11-08-mon-1630-1plenary-ietf\n
END:VEVENT
BEGIN:VEVENT
UID:ietf-79-1955-ietf
SUMMARY:IETF Operations and Administration Plenary
LOCATION:Valley Ballroom ABC
STATUS:CONFIRMED
CLASS:PUBLIC
DTSTART;TZID=Asia/Shanghai:20101110T163000
DTEND;TZID=Asia/Shanghai:20101110T193000
DTSTAMP:20161222T095708Z
URL:https://datatracker.ietf.org/meeting/79/materials/agenda-79-ietf-ietf-operations-and-administration-plenary
DESCRIPTION:IETF Operations and Administration Plenary\n
 \n
 Agenda https://datatracker.ietf.org/meeting/79/materials/agenda-79-ietf-ietf-operations-and-administration-plenary\n
 \n
 Session materials: https://datatracker.ietf.org/meeting/79/session/ietf\n
 \n
 See in schedule: https://datatracker.ietf.org/meeting/79/agenda#row-79-2010-11-10-wed-1630-1plenary-ietf\n
END:VEVENT
END:VCALENDAR
