BEGIN:VCALENDAR
VERSION:2.0
METHOD:PUBLISH
PRODID:-//IETF//datatracker.ietf.org ical agenda//EN
BEGIN:VTIMEZONE
TZID:Asia/Shanghai
X-LIC-LOCATION:Asia/Shanghai
BEGIN:STANDARD
TZOFFSETFROM:+080543
TZOFFSETTO:+0800
TZNAME:CST
DTSTART:19010101T000000
RDATE:19010101T000000
END:STANDARD
BEGIN:DAYLIGHT
TZOFFSETFROM:+0800
TZOFFSETTO:+0900
TZNAME:CDT
DTSTART:19400603T000000
RDATE:19400603T000000
RDATE:19410316T000000
RDATE:19860504T000000
RDATE:19870412T000000
RDATE:19880410T000000
RDATE:19890416T000000
RDATE:19900415T000000
RDATE:19910414T000000
END:DAYLIGHT
BEGIN:STANDARD
TZOFFSETFROM:+0900
TZOFFSETTO:+0800
TZNAME:CST
DTSTART:19401001T000000
RDATE:19401001T000000
RDATE:19411001T000000
RDATE:19860914T000000
RDATE:19870913T000000
RDATE:19880911T000000
RDATE:19890917T000000
RDATE:19900916T000000
RDATE:19910915T000000
END:STANDARD
BEGIN:STANDARD
TZOFFSETFROM:+0800
TZOFFSETTO:+0800
TZNAME:CST
DTSTART:19490101T000000
RDATE:19490101T000000
END:STANDARD
END:VTIMEZONE
BEGIN:VEVENT
UID:ietf-79-1948-iddtspec
SUMMARY:iddtspec - Review of Datatracker Specifications to Follow Internet-Draft Activities
LOCATION:Garden Ballroom 3
STATUS:CONFIRMED
CLASS:PUBLIC
DTSTART;TZID=Asia/Shanghai:20101108T130000
DTEND;TZID=Asia/Shanghai:20101108T150000
DTSTAMP:20161222T095708Z
URL:https://datatracker.ietf.org/meeting/79/materials/agenda-79-iddtspec
DESCRIPTION:Afternoon Session I\n
 \n
 Agenda https://datatracker.ietf.org/meeting/79/materials/agenda-79-iddtspec\n
 \n
 Session materials: https://datatracker.ietf.org/meeting/79/session/iddtspec\n
 \n
 See in schedule: https://datatracker.ietf.org/meeting/79/agenda#row-79-2010-11-08-mon-1300-gen-iddtspec\n
END:VEVENT
END:VCALENDAR
