BEGIN:VCALENDAR
VERSION:2.0
METHOD:PUBLISH
PRODID:-//IETF//datatracker.ietf.org ical agenda//EN
BEGIN:VTIMEZONE
TZID:Asia/Shanghai
X-LIC-LOCATION:Asia/Shanghai
BEGIN:STANDARD
TZOFFSETFROM:+080543
TZOFFSETTO:+0800
TZNAME:CST
DTSTART:19010101T000000
RDATE:19010101T000000
END:STANDARD
BEGIN:DAYLIGHT
TZOFFSETFROM:+0800
TZOFFSETTO:+0900
TZNAME:CDT
DTSTART:19400603T000000
RDATE:19400603T000000
RDATE:19410316T000000
RDATE:19860504T000000
RDATE:19870412T000000
RDATE:19880410T000000
RDATE:19890416T000000
RDATE:19900415T000000
RDATE:19910414T000000
END:DAYLIGHT
BEGIN:STANDARD
TZOFFSETFROM:+0900
TZOFFSETTO:+0800
TZNAME:CST
DTSTART:19401001T000000
RDATE:19401001T000000
RDATE:19411001T000000
RDATE:19860914T000000
RDATE:19870913T000000
RDATE:19880911T000000
RDATE:19890917T000000
RDATE:19900916T000000
RDATE:19910915T000000
END:STANDARD
BEGIN:STANDARD
TZOFFSETFROM:+0800
TZOFFSETTO:+0800
TZNAME:CST
DTSTART:19490101T000000
RDATE:19490101T000000
END:STANDARD
END:VTIMEZONE
BEGIN:VEVENT
UID:ietf-79-1886-mext
SUMMARY:mext - Mobility EXTensions for IPv6
LOCATION:Valley Ballroom C
STATUS:CONFIRMED
CLASS:PUBLIC
DTSTART;TZID=Asia/Shanghai:20101108T090000
DTEND;TZID=Asia/Shanghai:20101108T113000
DTSTAMP:20161222T095708Z
URL:https://datatracker.ietf.org/meeting/79/materials/agenda-79-mext
DESCRIPTION:Morning Session I\n
 \n
 Agenda https://datatracker.ietf.org/meeting/79/materials/agenda-79-mext\n
 \n
 Session materials: https://datatracker.ietf.org/meeting/79/session/mext\n
 \n
 See in schedule: https://datatracker.ietf.org/meeting/79/agenda#row-79-2010-11-08-mon-0900-int-mext\n
END:VEVENT
BEGIN:VEVENT
UID:ietf-79-1866-softwire
SUMMARY:softwire - Softwires
LOCATION:Valley Ballroom B
STATUS:CONFIRMED
CLASS:PUBLIC
DTSTART;TZID=Asia/Shanghai:20101108T090000
DTEND;TZID=Asia/Shanghai:20101108T113000
DTSTAMP:20161222T095708Z
URL:https://datatracker.ietf.org/meeting/79/materials/agenda-79-softwire
DESCRIPTION:Morning Session I\n
 \n
 Agenda https://datatracker.ietf.org/meeting/79/materials/agenda-79-softwire\n
 \n
 Session materials: https://datatracker.ietf.org/meeting/79/session/softwire\n
 \n
 See in schedule: https://datatracker.ietf.org/meeting/79/agenda#row-79-2010-11-08-mon-0900-int-softwire\n
END:VEVENT
BEGIN:VEVENT
UID:ietf-79-1926-lisp
SUMMARY:lisp - Locator/ID Separation Protocol (Moved from Friday Afternoon Session I and II 1300-1400, 1415-1515)
LOCATION:Emerald
STATUS:CONFIRMED
CLASS:PUBLIC
DTSTART;TZID=Asia/Shanghai:20101108T090000
DTEND;TZID=Asia/Shanghai:20101108T113000
DTSTAMP:20161222T095708Z
URL:https://datatracker.ietf.org/meeting/79/materials/agenda-79-lisp
DESCRIPTION:Morning Session I\n
 Note: Moved from Friday Afternoon Session I and II 1300-1400\, 1415-1515\n
 \n
 Agenda https://datatracker.ietf.org/meeting/79/materials/agenda-79-lisp\n
 \n
 Session materials: https://datatracker.ietf.org/meeting/79/session/lisp\n
 \n
 See in schedule: https://datatracker.ietf.org/meeting/79/agenda#row-79-2010-11-08-mon-0900-int-lisp\n
END:VEVENT
BEGIN:VEVENT
UID:ietf-79-1874-ancp
SUMMARY:ancp - Access Node Control Protocol (Moved from Thursday morning session I 0900-1130)
LOCATION:Valley Ballroom C
STATUS:CONFIRMED
CLASS:PUBLIC
DTSTART;TZID=Asia/Shanghai:20101108T130000
DTEND;TZID=Asia/Shanghai:20101108T150000
DTSTAMP:20161222T095708Z
URL:https://datatracker.ietf.org/meeting/79/materials/agenda-79-ancp
DESCRIPTION:Afternoon Session I\n
 Note: Moved from Thursday morning session I 0900-1130\n
 \n
 Agenda https://datatracker.ietf.org/meeting/79/materials/agenda-79-ancp\n
 \n
 Session materials: https://datatracker.ietf.org/meeting/79/session/ancp\n
 \n
 See in schedule: https://datatracker.ietf.org/meeting/79/agenda#row-79-2010-11-08-mon-1300-int-ancp\n
END:VEVENT
BEGIN:VEVENT
UID:ietf-79-1830-trill
SUMMARY:trill - Transparent Interconnection of Lots of Links
LOCATION:Valley Ballroom A
STATUS:CONFIRMED
CLASS:PUBLIC
DTSTART;TZID=Asia/Shanghai:20101108T130000
DTEND;TZID=Asia/Shanghai:20101108T150000
DTSTAMP:20161222T095708Z
URL:https://datatracker.ietf.org/meeting/79/materials/agenda-79-trill
DESCRIPTION:Afternoon Session I\n
 \n
 Agenda https://datatracker.ietf.org/meeting/79/materials/agenda-79-trill\n
 \n
 Session materials: https://datatracker.ietf.org/meeting/79/session/trill\n
 \n
 See in schedule: https://datatracker.ietf.org/meeting/79/agenda#row-79-2010-11-08-mon-1300-int-trill\n
END:VEVENT
BEGIN:VEVENT
UID:ietf-79-1839-6man
SUMMARY:6man - IPv6 Maintenance
LOCATION:Valley Ballroom B
STATUS:CONFIRMED
CLASS:PUBLIC
DTSTART;TZID=Asia/Shanghai:20101109T090000
DTEND;TZID=Asia/Shanghai:20101109T113000
DTSTAMP:20161222T095708Z
URL:https://datatracker.ietf.org/meeting/79/materials/agenda-79-6man
DESCRIPTION:Morning Session I\n
 \n
 Agenda https://datatracker.ietf.org/meeting/79/materials/agenda-79-6man\n
 \n
 Session materials: https://datatracker.ietf.org/meeting/79/session/6man\n
 \n
 See in schedule: https://datatracker.ietf.org/meeting/79/agenda#row-79-2010-11-09-tue-0900-int-6man\n
END:VEVENT
BEGIN:VEVENT
UID:ietf-79-1831-multimob
SUMMARY:multimob - Multicast Mobility
LOCATION:Garden Ballroom 3
STATUS:CONFIRMED
CLASS:PUBLIC
DTSTART;TZID=Asia/Shanghai:20101109T130000
DTEND;TZID=Asia/Shanghai:20101109T150000
DTSTAMP:20161222T095708Z
URL:https://datatracker.ietf.org/meeting/79/materials/agenda-79-multimob
DESCRIPTION:Afternoon Session I\n
 \n
 Agenda https://datatracker.ietf.org/meeting/79/materials/agenda-79-multimob\n
 \n
 Session materials: https://datatracker.ietf.org/meeting/79/session/multimob\n
 \n
 See in schedule: https://datatracker.ietf.org/meeting/79/agenda#row-79-2010-11-09-tue-1300-int-multimob\n
END:VEVENT
BEGIN:VEVENT
UID:ietf-79-1916-6lowpan
SUMMARY:6lowpan - IPv6 over Low power WPAN
LOCATION:Valley Ballroom A
STATUS:CONFIRMED
CLASS:PUBLIC
DTSTART;TZID=Asia/Shanghai:20101109T152000
DTEND;TZID=Asia/Shanghai:20101109T170000
DTSTAMP:20161222T095708Z
URL:https://datatracker.ietf.org/meeting/79/materials/agenda-79-6lowpan
DESCRIPTION:Afternoon Session II\n
 \n
 Agenda https://datatracker.ietf.org/meeting/79/materials/agenda-79-6lowpan\n
 \n
 Session materials: https://datatracker.ietf.org/meeting/79/session/6lowpan\n
 \n
 See in schedule: https://datatracker.ietf.org/meeting/79/agenda#row-79-2010-11-09-tue-1520-int-6lowpan\n
END:VEVENT
BEGIN:VEVENT
UID:ietf-79-1890-netext
SUMMARY:netext - Network-Based Mobility Extensions
LOCATION:Emerald
STATUS:CONFIRMED
CLASS:PUBLIC
DTSTART;TZID=Asia/Shanghai:20101109T152000
DTEND;TZID=Asia/Shanghai:20101109T170000
DTSTAMP:20161222T095708Z
URL:https://datatracker.ietf.org/meeting/79/materials/agenda-79-netext
DESCRIPTION:Afternoon Session II\n
 \n
 Agenda https://datatracker.ietf.org/meeting/79/materials/agenda-79-netext\n
 \n
 Session materials: https://datatracker.ietf.org/meeting/79/session/netext\n
 \n
 See in schedule: https://datatracker.ietf.org/meeting/79/agenda#row-79-2010-11-09-tue-1520-int-netext\n
END:VEVENT
BEGIN:VEVENT
UID:ietf-79-1905-savi
SUMMARY:savi - Source Address Validation Improvements
LOCATION:Valley Ballroom B
STATUS:CONFIRMED
CLASS:PUBLIC
DTSTART;TZID=Asia/Shanghai:20101109T152000
DTEND;TZID=Asia/Shanghai:20101109T170000
DTSTAMP:20161222T095708Z
URL:https://datatracker.ietf.org/meeting/79/materials/agenda-79-savi
DESCRIPTION:Afternoon Session II\n
 \n
 Agenda https://datatracker.ietf.org/meeting/79/materials/agenda-79-savi\n
 \n
 Session materials: https://datatracker.ietf.org/meeting/79/session/savi\n
 \n
 See in schedule: https://datatracker.ietf.org/meeting/79/agenda#row-79-2010-11-09-tue-1520-int-savi\n
END:VEVENT
BEGIN:VEVENT
UID:ietf-79-1917-6lowpan
SUMMARY:6lowpan - IPv6 over Low power WPAN
LOCATION:Valley Ballroom A
STATUS:CONFIRMED
CLASS:PUBLIC
DTSTART;TZID=Asia/Shanghai:20101109T171000
DTEND;TZID=Asia/Shanghai:20101109T181000
DTSTAMP:20161222T095708Z
URL:https://datatracker.ietf.org/meeting/79/materials/agenda-79-6lowpan
DESCRIPTION:Afternoon Session III\n
 \n
 Agenda https://datatracker.ietf.org/meeting/79/materials/agenda-79-6lowpan\n
 \n
 Session materials: https://datatracker.ietf.org/meeting/79/session/6lowpan\n
 \n
 See in schedule: https://datatracker.ietf.org/meeting/79/agenda#row-79-2010-11-09-tue-1710-int-6lowpan\n
END:VEVENT
BEGIN:VEVENT
UID:ietf-79-1891-netext
SUMMARY:netext - Network-Based Mobility Extensions
LOCATION:Emerald
STATUS:CONFIRMED
CLASS:PUBLIC
DTSTART;TZID=Asia/Shanghai:20101109T171000
DTEND;TZID=Asia/Shanghai:20101109T181000
DTSTAMP:20161222T095708Z
URL:https://datatracker.ietf.org/meeting/79/materials/agenda-79-netext
DESCRIPTION:Afternoon Session III\n
 \n
 Agenda https://datatracker.ietf.org/meeting/79/materials/agenda-79-netext\n
 \n
 Session materials: https://datatracker.ietf.org/meeting/79/session/netext\n
 \n
 See in schedule: https://datatracker.ietf.org/meeting/79/agenda#row-79-2010-11-09-tue-1710-int-netext\n
END:VEVENT
BEGIN:VEVENT
UID:ietf-79-1906-savi
SUMMARY:savi - Source Address Validation Improvements
LOCATION:Valley Ballroom B
STATUS:CONFIRMED
CLASS:PUBLIC
DTSTART;TZID=Asia/Shanghai:20101109T171000
DTEND;TZID=Asia/Shanghai:20101109T181000
DTSTAMP:20161222T095708Z
URL:https://datatracker.ietf.org/meeting/79/materials/agenda-79-savi
DESCRIPTION:Afternoon Session III\n
 \n
 Agenda https://datatracker.ietf.org/meeting/79/materials/agenda-79-savi\n
 \n
 Session materials: https://datatracker.ietf.org/meeting/79/session/savi\n
 \n
 See in schedule: https://datatracker.ietf.org/meeting/79/agenda#row-79-2010-11-09-tue-1710-int-savi\n
END:VEVENT
BEGIN:VEVENT
UID:ietf-79-1919-tictoc
SUMMARY:tictoc - Timing over IP Connection and Transfer of Clock
LOCATION:Garden Ballroom 1
STATUS:CONFIRMED
CLASS:PUBLIC
DTSTART;TZID=Asia/Shanghai:20101110T090000
DTEND;TZID=Asia/Shanghai:20101110T113000
DTSTAMP:20161222T095708Z
URL:https://datatracker.ietf.org/meeting/79/materials/agenda-79-tictoc
DESCRIPTION:Morning Session I\n
 \n
 Agenda https://datatracker.ietf.org/meeting/79/materials/agenda-79-tictoc\n
 \n
 Session materials: https://datatracker.ietf.org/meeting/79/session/tictoc\n
 \n
 See in schedule: https://datatracker.ietf.org/meeting/79/agenda#row-79-2010-11-10-wed-0900-int-tictoc\n
END:VEVENT
BEGIN:VEVENT
UID:ietf-79-1942-autoconf
SUMMARY:autoconf - Ad-Hoc Network Autoconfiguration
LOCATION:Jade 1
STATUS:CONFIRMED
CLASS:PUBLIC
DTSTART;TZID=Asia/Shanghai:20101110T130000
DTEND;TZID=Asia/Shanghai:20101110T150000
DTSTAMP:20161222T095708Z
URL:https://datatracker.ietf.org/meeting/79/materials/agenda-79-autoconf
DESCRIPTION:Afternoon Session I\n
 \n
 Agenda https://datatracker.ietf.org/meeting/79/materials/agenda-79-autoconf\n
 \n
 Session materials: https://datatracker.ietf.org/meeting/79/session/autoconf\n
 \n
 See in schedule: https://datatracker.ietf.org/meeting/79/agenda#row-79-2010-11-10-wed-1300-int-autoconf\n
END:VEVENT
BEGIN:VEVENT
UID:ietf-79-1888-dnsext
SUMMARY:dnsext - DNS Extensions
LOCATION:Valley Ballroom A
STATUS:CONFIRMED
CLASS:PUBLIC
DTSTART;TZID=Asia/Shanghai:20101110T130000
DTEND;TZID=Asia/Shanghai:20101110T150000
DTSTAMP:20161222T095708Z
URL:https://datatracker.ietf.org/meeting/79/materials/agenda-79-dnsext
DESCRIPTION:Afternoon Session I\n
 \n
 Agenda https://datatracker.ietf.org/meeting/79/materials/agenda-79-dnsext\n
 \n
 Session materials: https://datatracker.ietf.org/meeting/79/session/dnsext\n
 \n
 See in schedule: https://datatracker.ietf.org/meeting/79/agenda#row-79-2010-11-10-wed-1300-int-dnsext\n
END:VEVENT
BEGIN:VEVENT
UID:ietf-79-1952-lwip
SUMMARY:lwip - Light-Weight IP Protocol Design
LOCATION:Valley Ballroom A
STATUS:CONFIRMED
CLASS:PUBLIC
DTSTART;TZID=Asia/Shanghai:20101110T151000
DTEND;TZID=Asia/Shanghai:20101110T161000
DTSTAMP:20161222T095708Z
URL:https://datatracker.ietf.org/meeting/79/materials/agenda-79-lwip
DESCRIPTION:Afternoon Session II\n
 \n
 Agenda https://datatracker.ietf.org/meeting/79/materials/agenda-79-lwip\n
 \n
 Session materials: https://datatracker.ietf.org/meeting/79/session/lwip\n
 \n
 See in schedule: https://datatracker.ietf.org/meeting/79/agenda#row-79-2010-11-10-wed-1510-int-lwip\n
END:VEVENT
BEGIN:VEVENT
UID:ietf-79-1912-mif
SUMMARY:mif - Multiple Interfaces
LOCATION:Valley Ballroom A
STATUS:CONFIRMED
CLASS:PUBLIC
DTSTART;TZID=Asia/Shanghai:20101111T090000
DTEND;TZID=Asia/Shanghai:20101111T113000
DTSTAMP:20161222T095708Z
URL:https://datatracker.ietf.org/meeting/79/materials/agenda-79-mif
DESCRIPTION:Morning Session I\n
 \n
 Agenda https://datatracker.ietf.org/meeting/79/materials/agenda-79-mif\n
 \n
 Session materials: https://datatracker.ietf.org/meeting/79/session/mif\n
 \n
 See in schedule: https://datatracker.ietf.org/meeting/79/agenda#row-79-2010-11-11-thu-0900-int-mif\n
END:VEVENT
BEGIN:VEVENT
UID:ietf-79-1885-intarea
SUMMARY:intarea - Internet Area Working Group
LOCATION:Valley Ballroom C
STATUS:CONFIRMED
CLASS:PUBLIC
DTSTART;TZID=Asia/Shanghai:20101111T130000
DTEND;TZID=Asia/Shanghai:20101111T150000
DTSTAMP:20161222T095708Z
URL:https://datatracker.ietf.org/meeting/79/materials/agenda-79-intarea
DESCRIPTION:Afternoon Session I\n
 \n
 Agenda https://datatracker.ietf.org/meeting/79/materials/agenda-79-intarea\n
 \n
 Session materials: https://datatracker.ietf.org/meeting/79/session/intarea\n
 \n
 See in schedule: https://datatracker.ietf.org/meeting/79/agenda#row-79-2010-11-11-thu-1300-int-intarea\n
END:VEVENT
BEGIN:VEVENT
UID:ietf-79-1832-dhc
SUMMARY:dhc - Dynamic Host Configuration
LOCATION:Pearl
STATUS:CONFIRMED
CLASS:PUBLIC
DTSTART;TZID=Asia/Shanghai:20101111T152000
DTEND;TZID=Asia/Shanghai:20101111T172000
DTSTAMP:20161222T095708Z
URL:https://datatracker.ietf.org/meeting/79/materials/agenda-79-dhc
DESCRIPTION:Afternoon Session II\n
 \n
 Agenda https://datatracker.ietf.org/meeting/79/materials/agenda-79-dhc\n
 \n
 Session materials: https://datatracker.ietf.org/meeting/79/session/dhc\n
 \n
 See in schedule: https://datatracker.ietf.org/meeting/79/agenda#row-79-2010-11-11-thu-1520-int-dhc\n
END:VEVENT
BEGIN:VEVENT
UID:ietf-79-1833-dhc
SUMMARY:dhc - Dynamic Host Configuration
LOCATION:Pearl
STATUS:CONFIRMED
CLASS:PUBLIC
DTSTART;TZID=Asia/Shanghai:20101111T174000
DTEND;TZID=Asia/Shanghai:20101111T194000
DTSTAMP:20161222T095708Z
URL:https://datatracker.ietf.org/meeting/79/materials/agenda-79-dhc
DESCRIPTION:Afternoon Session III\n
 \n
 Agenda https://datatracker.ietf.org/meeting/79/materials/agenda-79-dhc\n
 \n
 Session materials: https://datatracker.ietf.org/meeting/79/session/dhc\n
 \n
 See in schedule: https://datatracker.ietf.org/meeting/79/agenda#row-79-2010-11-11-thu-1740-int-dhc\n
END:VEVENT
BEGIN:VEVENT
UID:ietf-79-1887-mext
SUMMARY:mext - Mobility EXTensions for IPv6
LOCATION:Valley Ballroom C
STATUS:CONFIRMED
CLASS:PUBLIC
DTSTART;TZID=Asia/Shanghai:20101111T174000
DTEND;TZID=Asia/Shanghai:20101111T194000
DTSTAMP:20161222T095708Z
DESCRIPTION:Afternoon Session III\n
 \n
 Session materials: https://datatracker.ietf.org/meeting/79/session/mext\n
 \n
 See in schedule: https://datatracker.ietf.org/meeting/79/agenda#row-79-2010-11-11-thu-1740-int-mext\n
END:VEVENT
BEGIN:VEVENT
UID:ietf-79-1867-pcp
SUMMARY:pcp - Port Control Protocol
LOCATION:Garden Ballroom 1
STATUS:CONFIRMED
CLASS:PUBLIC
DTSTART;TZID=Asia/Shanghai:20101111T174000
DTEND;TZID=Asia/Shanghai:20101111T194000
DTSTAMP:20161222T095708Z
URL:https://datatracker.ietf.org/meeting/79/materials/agenda-79-pcp
DESCRIPTION:Afternoon Session III\n
 \n
 Agenda https://datatracker.ietf.org/meeting/79/materials/agenda-79-pcp\n
 \n
 Session materials: https://datatracker.ietf.org/meeting/79/session/pcp\n
 \n
 See in schedule: https://datatracker.ietf.org/meeting/79/agenda#row-79-2010-11-11-thu-1740-int-pcp\n
END:VEVENT
BEGIN:VEVENT
UID:ietf-79-1936-mip4
SUMMARY:mip4 - Mobility for IPv4
LOCATION:Emerald
STATUS:CONFIRMED
CLASS:PUBLIC
DTSTART;TZID=Asia/Shanghai:20101112T130000
DTEND;TZID=Asia/Shanghai:20101112T140000
DTSTAMP:20161222T095708Z
URL:https://datatracker.ietf.org/meeting/79/materials/agenda-79-mip4
DESCRIPTION:Afternoon Session I\n
 \n
 Agenda https://datatracker.ietf.org/meeting/79/materials/agenda-79-mip4\n
 \n
 Session materials: https://datatracker.ietf.org/meeting/79/session/mip4\n
 \n
 See in schedule: https://datatracker.ietf.org/meeting/79/agenda#row-79-2010-11-12-fri-1300-int-mip4\n
END:VEVENT
BEGIN:VEVENT
UID:ietf-79-1937-mip4
SUMMARY:mip4 - Mobility for IPv4
LOCATION:Emerald
STATUS:CONFIRMED
CLASS:PUBLIC
DTSTART;TZID=Asia/Shanghai:20101112T141500
DTEND;TZID=Asia/Shanghai:20101112T151500
DTSTAMP:20161222T095708Z
URL:https://datatracker.ietf.org/meeting/79/materials/agenda-79-mip4
DESCRIPTION:Afternoon Session II\n
 \n
 Agenda https://datatracker.ietf.org/meeting/79/materials/agenda-79-mip4\n
 \n
 Session materials: https://datatracker.ietf.org/meeting/79/session/mip4\n
 \n
 See in schedule: https://datatracker.ietf.org/meeting/79/agenda#row-79-2010-11-12-fri-1415-int-mip4\n
END:VEVENT
END:VCALENDAR
