BEGIN:VCALENDAR
VERSION:2.0
METHOD:PUBLISH
PRODID:-//IETF//datatracker.ietf.org ical agenda//EN
BEGIN:VTIMEZONE
TZID:Asia/Shanghai
X-LIC-LOCATION:Asia/Shanghai
BEGIN:STANDARD
TZOFFSETFROM:+080543
TZOFFSETTO:+0800
TZNAME:CST
DTSTART:19010101T000000
RDATE:19010101T000000
END:STANDARD
BEGIN:DAYLIGHT
TZOFFSETFROM:+0800
TZOFFSETTO:+0900
TZNAME:CDT
DTSTART:19400603T000000
RDATE:19400603T000000
RDATE:19410316T000000
RDATE:19860504T000000
RDATE:19870412T000000
RDATE:19880410T000000
RDATE:19890416T000000
RDATE:19900415T000000
RDATE:19910414T000000
END:DAYLIGHT
BEGIN:STANDARD
TZOFFSETFROM:+0900
TZOFFSETTO:+0800
TZNAME:CST
DTSTART:19401001T000000
RDATE:19401001T000000
RDATE:19411001T000000
RDATE:19860914T000000
RDATE:19870913T000000
RDATE:19880911T000000
RDATE:19890917T000000
RDATE:19900916T000000
RDATE:19910915T000000
END:STANDARD
BEGIN:STANDARD
TZOFFSETFROM:+0800
TZOFFSETTO:+0800
TZNAME:CST
DTSTART:19490101T000000
RDATE:19490101T000000
END:STANDARD
END:VTIMEZONE
BEGIN:VEVENT
UID:ietf-79-1869-netconf
SUMMARY:netconf - Network Configuration
LOCATION:Garden Ballroom 1
STATUS:CONFIRMED
CLASS:PUBLIC
DTSTART;TZID=Asia/Shanghai:20101108T130000
DTEND;TZID=Asia/Shanghai:20101108T150000
DTSTAMP:20161222T095708Z
URL:https://datatracker.ietf.org/meeting/79/materials/agenda-79-netconf
DESCRIPTION:Afternoon Session I\n
 \n
 Agenda https://datatracker.ietf.org/meeting/79/materials/agenda-79-netconf\n
 \n
 Session materials: https://datatracker.ietf.org/meeting/79/session/netconf\n
 \n
 See in schedule: https://datatracker.ietf.org/meeting/79/agenda#row-79-2010-11-08-mon-1300-ops-netconf\n
END:VEVENT
BEGIN:VEVENT
UID:ietf-79-1901-opsarea
SUMMARY:opsarea - Operations & Management Area Open Meeting
LOCATION:Valley Ballroom A
STATUS:CONFIRMED
CLASS:PUBLIC
DTSTART;TZID=Asia/Shanghai:20101109T090000
DTEND;TZID=Asia/Shanghai:20101109T113000
DTSTAMP:20161222T095708Z
URL:https://datatracker.ietf.org/meeting/79/materials/agenda-79-opsarea
DESCRIPTION:Morning Session I\n
 \n
 Agenda https://datatracker.ietf.org/meeting/79/materials/agenda-79-opsarea\n
 \n
 Session materials: https://datatracker.ietf.org/meeting/79/session/opsarea\n
 \n
 See in schedule: https://datatracker.ietf.org/meeting/79/agenda#row-79-2010-11-09-tue-0900-ops-opsarea\n
END:VEVENT
BEGIN:VEVENT
UID:ietf-79-1918-netmod
SUMMARY:netmod - NETCONF Data Modeling Language
LOCATION:Valley Ballroom A
STATUS:CONFIRMED
CLASS:PUBLIC
DTSTART;TZID=Asia/Shanghai:20101109T130000
DTEND;TZID=Asia/Shanghai:20101109T150000
DTSTAMP:20161222T095708Z
URL:https://datatracker.ietf.org/meeting/79/materials/agenda-79-netmod
DESCRIPTION:Afternoon Session I\n
 \n
 Agenda https://datatracker.ietf.org/meeting/79/materials/agenda-79-netmod\n
 \n
 Session materials: https://datatracker.ietf.org/meeting/79/session/netmod\n
 \n
 See in schedule: https://datatracker.ietf.org/meeting/79/agenda#row-79-2010-11-09-tue-1300-ops-netmod\n
END:VEVENT
BEGIN:VEVENT
UID:ietf-79-1841-ipfix
SUMMARY:ipfix - IP Flow Information Export
LOCATION:Jade 1
STATUS:CONFIRMED
CLASS:PUBLIC
DTSTART;TZID=Asia/Shanghai:20101110T090000
DTEND;TZID=Asia/Shanghai:20101110T113000
DTSTAMP:20161222T095708Z
URL:https://datatracker.ietf.org/meeting/79/materials/agenda-79-ipfix
DESCRIPTION:Morning Session I\n
 \n
 Agenda https://datatracker.ietf.org/meeting/79/materials/agenda-79-ipfix\n
 \n
 Session materials: https://datatracker.ietf.org/meeting/79/session/ipfix\n
 \n
 See in schedule: https://datatracker.ietf.org/meeting/79/agenda#row-79-2010-11-10-wed-0900-ops-ipfix\n
END:VEVENT
BEGIN:VEVENT
UID:ietf-79-1844-v6ops
SUMMARY:v6ops - IPv6 Operations
LOCATION:Valley Ballroom C
STATUS:CONFIRMED
CLASS:PUBLIC
DTSTART;TZID=Asia/Shanghai:20101110T090000
DTEND;TZID=Asia/Shanghai:20101110T113000
DTSTAMP:20161222T095708Z
URL:https://datatracker.ietf.org/meeting/79/materials/agenda-79-v6ops
DESCRIPTION:Morning Session I\n
 \n
 Agenda https://datatracker.ietf.org/meeting/79/materials/agenda-79-v6ops\n
 \n
 Session materials: https://datatracker.ietf.org/meeting/79/session/v6ops\n
 \n
 See in schedule: https://datatracker.ietf.org/meeting/79/agenda#row-79-2010-11-10-wed-0900-ops-v6ops\n
END:VEVENT
BEGIN:VEVENT
UID:ietf-79-1939-eman
SUMMARY:eman - Energy Management
LOCATION:Garden Ballroom 3
STATUS:CONFIRMED
CLASS:PUBLIC
DTSTART;TZID=Asia/Shanghai:20101110T130000
DTEND;TZID=Asia/Shanghai:20101110T150000
DTSTAMP:20161222T095708Z
URL:https://datatracker.ietf.org/meeting/79/materials/agenda-79-eman
DESCRIPTION:Afternoon Session I\n
 \n
 Agenda https://datatracker.ietf.org/meeting/79/materials/agenda-79-eman\n
 \n
 Session materials: https://datatracker.ietf.org/meeting/79/session/eman\n
 \n
 See in schedule: https://datatracker.ietf.org/meeting/79/agenda#row-79-2010-11-10-wed-1300-ops-eman\n
END:VEVENT
BEGIN:VEVENT
UID:ietf-79-1931-mboned
SUMMARY:mboned - MBONE Deployment
LOCATION:Emerald
STATUS:CONFIRMED
CLASS:PUBLIC
DTSTART;TZID=Asia/Shanghai:20101110T130000
DTEND;TZID=Asia/Shanghai:20101110T150000
DTSTAMP:20161222T095708Z
URL:https://datatracker.ietf.org/meeting/79/materials/agenda-79-mboned
DESCRIPTION:Afternoon Session I\n
 \n
 Agenda https://datatracker.ietf.org/meeting/79/materials/agenda-79-mboned\n
 \n
 Session materials: https://datatracker.ietf.org/meeting/79/session/mboned\n
 \n
 See in schedule: https://datatracker.ietf.org/meeting/79/agenda#row-79-2010-11-10-wed-1300-ops-mboned\n
END:VEVENT
BEGIN:VEVENT
UID:ietf-79-1878-opsawg
SUMMARY:opsawg - Operations and Management Area Working Group
LOCATION:Emerald
STATUS:CONFIRMED
CLASS:PUBLIC
DTSTART;TZID=Asia/Shanghai:20101111T090000
DTEND;TZID=Asia/Shanghai:20101111T113000
DTSTAMP:20161222T095708Z
URL:https://datatracker.ietf.org/meeting/79/materials/agenda-79-opsawg
DESCRIPTION:Morning Session I\n
 \n
 Agenda https://datatracker.ietf.org/meeting/79/materials/agenda-79-opsawg\n
 \n
 Session materials: https://datatracker.ietf.org/meeting/79/session/opsawg\n
 \n
 See in schedule: https://datatracker.ietf.org/meeting/79/agenda#row-79-2010-11-11-thu-0900-ops-opsawg\n
END:VEVENT
BEGIN:VEVENT
UID:ietf-79-1840-bmwg
SUMMARY:bmwg - Benchmarking Methodology
LOCATION:Jade 1
STATUS:CONFIRMED
CLASS:PUBLIC
DTSTART;TZID=Asia/Shanghai:20101111T130000
DTEND;TZID=Asia/Shanghai:20101111T150000
DTSTAMP:20161222T095708Z
URL:https://datatracker.ietf.org/meeting/79/materials/agenda-79-bmwg
DESCRIPTION:Afternoon Session I\n
 \n
 Agenda https://datatracker.ietf.org/meeting/79/materials/agenda-79-bmwg\n
 \n
 Session materials: https://datatracker.ietf.org/meeting/79/session/bmwg\n
 \n
 See in schedule: https://datatracker.ietf.org/meeting/79/agenda#row-79-2010-11-11-thu-1300-ops-bmwg\n
END:VEVENT
BEGIN:VEVENT
UID:ietf-79-1902-dime
SUMMARY:dime - Diameter Maintenance and Extensions
LOCATION:Jade 1
STATUS:CONFIRMED
CLASS:PUBLIC
DTSTART;TZID=Asia/Shanghai:20101111T152000
DTEND;TZID=Asia/Shanghai:20101111T172000
DTSTAMP:20161222T095708Z
URL:https://datatracker.ietf.org/meeting/79/materials/agenda-79-dime
DESCRIPTION:Afternoon Session II\n
 \n
 Agenda https://datatracker.ietf.org/meeting/79/materials/agenda-79-dime\n
 \n
 Session materials: https://datatracker.ietf.org/meeting/79/session/dime\n
 \n
 See in schedule: https://datatracker.ietf.org/meeting/79/agenda#row-79-2010-11-11-thu-1520-ops-dime\n
END:VEVENT
BEGIN:VEVENT
UID:ietf-79-1868-dnsop
SUMMARY:dnsop - Domain Name System Operations
LOCATION:Valley Ballroom A
STATUS:CONFIRMED
CLASS:PUBLIC
DTSTART;TZID=Asia/Shanghai:20101111T174000
DTEND;TZID=Asia/Shanghai:20101111T194000
DTSTAMP:20161222T095708Z
URL:https://datatracker.ietf.org/meeting/79/materials/agenda-79-dnsop
DESCRIPTION:Afternoon Session III\n
 \n
 Agenda https://datatracker.ietf.org/meeting/79/materials/agenda-79-dnsop\n
 \n
 Session materials: https://datatracker.ietf.org/meeting/79/session/dnsop\n
 \n
 See in schedule: https://datatracker.ietf.org/meeting/79/agenda#row-79-2010-11-11-thu-1740-ops-dnsop\n
END:VEVENT
BEGIN:VEVENT
UID:ietf-79-1954-armd
SUMMARY:armd - Address Resolution for Massive numbers of hosts in the Data center
LOCATION:Garden Ballroom 1
STATUS:CONFIRMED
CLASS:PUBLIC
DTSTART;TZID=Asia/Shanghai:20101112T090000
DTEND;TZID=Asia/Shanghai:20101112T113000
DTSTAMP:20161222T095708Z
URL:https://datatracker.ietf.org/meeting/79/materials/agenda-79-armd
DESCRIPTION:Morning Session I\n
 \n
 Agenda https://datatracker.ietf.org/meeting/79/materials/agenda-79-armd\n
 \n
 Session materials: https://datatracker.ietf.org/meeting/79/session/armd\n
 \n
 See in schedule: https://datatracker.ietf.org/meeting/79/agenda#row-79-2010-11-12-fri-0900-ops-armd\n
END:VEVENT
BEGIN:VEVENT
UID:ietf-79-1938-grow
SUMMARY:grow - Global Routing Operations
LOCATION:Valley Ballroom B
STATUS:CONFIRMED
CLASS:PUBLIC
DTSTART;TZID=Asia/Shanghai:20101112T090000
DTEND;TZID=Asia/Shanghai:20101112T113000
DTSTAMP:20161222T095708Z
URL:https://datatracker.ietf.org/meeting/79/materials/agenda-79-grow
DESCRIPTION:Morning Session I\n
 \n
 Agenda https://datatracker.ietf.org/meeting/79/materials/agenda-79-grow\n
 \n
 Session materials: https://datatracker.ietf.org/meeting/79/session/grow\n
 \n
 See in schedule: https://datatracker.ietf.org/meeting/79/agenda#row-79-2010-11-12-fri-0900-ops-grow\n
END:VEVENT
BEGIN:VEVENT
UID:ietf-79-1941-radext
SUMMARY:radext - RADIUS EXTensions
LOCATION:Emerald
STATUS:CONFIRMED
CLASS:PUBLIC
DTSTART;TZID=Asia/Shanghai:20101112T090000
DTEND;TZID=Asia/Shanghai:20101112T113000
DTSTAMP:20161222T095708Z
URL:https://datatracker.ietf.org/meeting/79/materials/agenda-79-radext
DESCRIPTION:Morning Session I\n
 \n
 Agenda https://datatracker.ietf.org/meeting/79/materials/agenda-79-radext\n
 \n
 Session materials: https://datatracker.ietf.org/meeting/79/session/radext\n
 \n
 See in schedule: https://datatracker.ietf.org/meeting/79/agenda#row-79-2010-11-12-fri-0900-ops-radext\n
END:VEVENT
BEGIN:VEVENT
UID:ietf-79-1845-v6ops
SUMMARY:v6ops - IPv6 Operations
LOCATION:Valley Ballroom A
STATUS:CONFIRMED
CLASS:PUBLIC
DTSTART;TZID=Asia/Shanghai:20101112T130000
DTEND;TZID=Asia/Shanghai:20101112T140000
DTSTAMP:20161222T095708Z
URL:https://datatracker.ietf.org/meeting/79/materials/agenda-79-v6ops
DESCRIPTION:Afternoon Session I\n
 \n
 Agenda https://datatracker.ietf.org/meeting/79/materials/agenda-79-v6ops\n
 \n
 Session materials: https://datatracker.ietf.org/meeting/79/session/v6ops\n
 \n
 See in schedule: https://datatracker.ietf.org/meeting/79/agenda#row-79-2010-11-12-fri-1300-ops-v6ops\n
END:VEVENT
BEGIN:VEVENT
UID:ietf-79-1846-v6ops
SUMMARY:v6ops - IPv6 Operations
LOCATION:Valley Ballroom A
STATUS:CONFIRMED
CLASS:PUBLIC
DTSTART;TZID=Asia/Shanghai:20101112T141500
DTEND;TZID=Asia/Shanghai:20101112T151500
DTSTAMP:20161222T095708Z
URL:https://datatracker.ietf.org/meeting/79/materials/agenda-79-v6ops
DESCRIPTION:Afternoon Session II\n
 \n
 Agenda https://datatracker.ietf.org/meeting/79/materials/agenda-79-v6ops\n
 \n
 Session materials: https://datatracker.ietf.org/meeting/79/session/v6ops\n
 \n
 See in schedule: https://datatracker.ietf.org/meeting/79/agenda#row-79-2010-11-12-fri-1415-ops-v6ops\n
END:VEVENT
END:VCALENDAR
