BEGIN:VCALENDAR
VERSION:2.0
METHOD:PUBLISH
PRODID:-//IETF//datatracker.ietf.org ical agenda//EN
BEGIN:VTIMEZONE
TZID:Asia/Shanghai
X-LIC-LOCATION:Asia/Shanghai
BEGIN:STANDARD
TZOFFSETFROM:+080543
TZOFFSETTO:+0800
TZNAME:CST
DTSTART:19010101T000000
RDATE:19010101T000000
END:STANDARD
BEGIN:DAYLIGHT
TZOFFSETFROM:+0800
TZOFFSETTO:+0900
TZNAME:CDT
DTSTART:19400603T000000
RDATE:19400603T000000
RDATE:19410316T000000
RDATE:19860504T000000
RDATE:19870412T000000
RDATE:19880410T000000
RDATE:19890416T000000
RDATE:19900415T000000
RDATE:19910414T000000
END:DAYLIGHT
BEGIN:STANDARD
TZOFFSETFROM:+0900
TZOFFSETTO:+0800
TZNAME:CST
DTSTART:19401001T000000
RDATE:19401001T000000
RDATE:19411001T000000
RDATE:19860914T000000
RDATE:19870913T000000
RDATE:19880911T000000
RDATE:19890917T000000
RDATE:19900916T000000
RDATE:19910915T000000
END:STANDARD
BEGIN:STANDARD
TZOFFSETFROM:+0800
TZOFFSETTO:+0800
TZNAME:CST
DTSTART:19490101T000000
RDATE:19490101T000000
END:STANDARD
END:VTIMEZONE
BEGIN:VEVENT
UID:ietf-79-1854-p2psip
SUMMARY:p2psip - Peer-to-Peer Session Initiation Protocol
LOCATION:Pearl
STATUS:CONFIRMED
CLASS:PUBLIC
DTSTART;TZID=Asia/Shanghai:20101108T090000
DTEND;TZID=Asia/Shanghai:20101108T113000
DTSTAMP:20161222T095708Z
URL:https://datatracker.ietf.org/meeting/79/materials/agenda-79-p2psip
DESCRIPTION:Morning Session I\n
 \n
 Agenda https://datatracker.ietf.org/meeting/79/materials/agenda-79-p2psip\n
 \n
 Session materials: https://datatracker.ietf.org/meeting/79/session/p2psip\n
 \n
 See in schedule: https://datatracker.ietf.org/meeting/79/agenda#row-79-2010-11-08-mon-0900-rai-p2psip\n
END:VEVENT
BEGIN:VEVENT
UID:ietf-79-1842-avt
SUMMARY:avt - Audio/Video Transport
LOCATION:Valley Ballroom B
STATUS:CONFIRMED
CLASS:PUBLIC
DTSTART;TZID=Asia/Shanghai:20101108T130000
DTEND;TZID=Asia/Shanghai:20101108T150000
DTSTAMP:20161222T095708Z
URL:https://datatracker.ietf.org/meeting/79/materials/agenda-79-avt
DESCRIPTION:Afternoon Session I\n
 \n
 Agenda https://datatracker.ietf.org/meeting/79/materials/agenda-79-avt\n
 \n
 Session materials: https://datatracker.ietf.org/meeting/79/session/avt\n
 \n
 See in schedule: https://datatracker.ietf.org/meeting/79/agenda#row-79-2010-11-08-mon-1300-rai-avt\n
END:VEVENT
BEGIN:VEVENT
UID:ietf-79-1903-martini
SUMMARY:martini - Multiple AoR reachabiliTy InformatioN Indication (Monday 1510-1610 CANCELED ONLY)
LOCATION:Pearl
STATUS:CONFIRMED
CLASS:PUBLIC
DTSTART;TZID=Asia/Shanghai:20101108T151000
DTEND;TZID=Asia/Shanghai:20101108T161000
DTSTAMP:20161222T095708Z
URL:https://datatracker.ietf.org/meeting/79/materials/agenda-79-martini
DESCRIPTION:Afternoon Session II\n
 Note: Monday 1510-1610 CANCELED ONLY\n
 \n
 Agenda https://datatracker.ietf.org/meeting/79/materials/agenda-79-martini\n
 \n
 Session materials: https://datatracker.ietf.org/meeting/79/session/martini\n
 \n
 See in schedule: https://datatracker.ietf.org/meeting/79/agenda#row-79-2010-11-08-mon-1510-rai-martini\n
END:VEVENT
BEGIN:VEVENT
UID:ietf-79-1853-sipclf
SUMMARY:sipclf - SIP Common Log Format (Moved from Friday morning session I 0900-1130)
LOCATION:Pearl
STATUS:CONFIRMED
CLASS:PUBLIC
DTSTART;TZID=Asia/Shanghai:20101109T090000
DTEND;TZID=Asia/Shanghai:20101109T113000
DTSTAMP:20161222T095708Z
URL:https://datatracker.ietf.org/meeting/79/materials/agenda-79-sipclf
DESCRIPTION:Morning Session I\n
 Note: Moved from Friday morning session I 0900-1130\n
 \n
 Agenda https://datatracker.ietf.org/meeting/79/materials/agenda-79-sipclf\n
 \n
 Session materials: https://datatracker.ietf.org/meeting/79/session/sipclf\n
 \n
 See in schedule: https://datatracker.ietf.org/meeting/79/agenda#row-79-2010-11-09-tue-0900-rai-sipclf\n
END:VEVENT
BEGIN:VEVENT
UID:ietf-79-1922-codec
SUMMARY:codec - Internet Wideband Audio Codec
LOCATION:Valley Ballroom C
STATUS:CONFIRMED
CLASS:PUBLIC
DTSTART;TZID=Asia/Shanghai:20101109T130000
DTEND;TZID=Asia/Shanghai:20101109T150000
DTSTAMP:20161222T095708Z
URL:https://datatracker.ietf.org/meeting/79/materials/agenda-79-codec
DESCRIPTION:Afternoon Session I\n
 \n
 Agenda https://datatracker.ietf.org/meeting/79/materials/agenda-79-codec\n
 \n
 Session materials: https://datatracker.ietf.org/meeting/79/session/codec\n
 \n
 See in schedule: https://datatracker.ietf.org/meeting/79/agenda#row-79-2010-11-09-tue-1300-rai-codec\n
END:VEVENT
BEGIN:VEVENT
UID:ietf-79-1880-ecrit
SUMMARY:ecrit - Emergency Context Resolution with Internet Technologies
LOCATION:Garden Ballroom 3
STATUS:CONFIRMED
CLASS:PUBLIC
DTSTART;TZID=Asia/Shanghai:20101109T152000
DTEND;TZID=Asia/Shanghai:20101109T170000
DTSTAMP:20161222T095708Z
URL:https://datatracker.ietf.org/meeting/79/materials/agenda-79-ecrit
DESCRIPTION:Afternoon Session II\n
 \n
 Agenda https://datatracker.ietf.org/meeting/79/materials/agenda-79-ecrit\n
 \n
 Session materials: https://datatracker.ietf.org/meeting/79/session/ecrit\n
 \n
 See in schedule: https://datatracker.ietf.org/meeting/79/agenda#row-79-2010-11-09-tue-1520-rai-ecrit\n
END:VEVENT
BEGIN:VEVENT
UID:ietf-79-1881-ecrit
SUMMARY:ecrit - Emergency Context Resolution with Internet Technologies
LOCATION:Garden Ballroom 3
STATUS:CONFIRMED
CLASS:PUBLIC
DTSTART;TZID=Asia/Shanghai:20101109T171000
DTEND;TZID=Asia/Shanghai:20101109T181000
DTSTAMP:20161222T095708Z
URL:https://datatracker.ietf.org/meeting/79/materials/agenda-79-ecrit
DESCRIPTION:Afternoon Session III\n
 \n
 Agenda https://datatracker.ietf.org/meeting/79/materials/agenda-79-ecrit\n
 \n
 Session materials: https://datatracker.ietf.org/meeting/79/session/ecrit\n
 \n
 See in schedule: https://datatracker.ietf.org/meeting/79/agenda#row-79-2010-11-09-tue-1710-rai-ecrit\n
END:VEVENT
BEGIN:VEVENT
UID:ietf-79-1933-drinks
SUMMARY:drinks - Data for Reachability of Inter/tra-NetworK SIP (Moved from Friday morning session I 0900-1130)
LOCATION:Valley Ballroom B
STATUS:CONFIRMED
CLASS:PUBLIC
DTSTART;TZID=Asia/Shanghai:20101110T090000
DTEND;TZID=Asia/Shanghai:20101110T113000
DTSTAMP:20161222T095708Z
URL:https://datatracker.ietf.org/meeting/79/materials/agenda-79-drinks
DESCRIPTION:Morning Session I\n
 Note: Moved from Friday morning session I 0900-1130\n
 \n
 Agenda https://datatracker.ietf.org/meeting/79/materials/agenda-79-drinks\n
 \n
 Session materials: https://datatracker.ietf.org/meeting/79/session/drinks\n
 \n
 See in schedule: https://datatracker.ietf.org/meeting/79/agenda#row-79-2010-11-10-wed-0900-rai-drinks\n
END:VEVENT
BEGIN:VEVENT
UID:ietf-79-1911-siprec
SUMMARY:siprec - SIP Recording
LOCATION:Pearl
STATUS:CONFIRMED
CLASS:PUBLIC
DTSTART;TZID=Asia/Shanghai:20101110T130000
DTEND;TZID=Asia/Shanghai:20101110T150000
DTSTAMP:20161222T095708Z
URL:https://datatracker.ietf.org/meeting/79/materials/agenda-79-siprec
DESCRIPTION:Afternoon Session I\n
 \n
 Agenda https://datatracker.ietf.org/meeting/79/materials/agenda-79-siprec\n
 \n
 Session materials: https://datatracker.ietf.org/meeting/79/session/siprec\n
 \n
 See in schedule: https://datatracker.ietf.org/meeting/79/agenda#row-79-2010-11-10-wed-1300-rai-siprec\n
END:VEVENT
BEGIN:VEVENT
UID:ietf-79-1929-mmusic
SUMMARY:mmusic - Multiparty Multimedia Session Control
LOCATION:Emerald
STATUS:CONFIRMED
CLASS:PUBLIC
DTSTART;TZID=Asia/Shanghai:20101110T151000
DTEND;TZID=Asia/Shanghai:20101110T161000
DTSTAMP:20161222T095708Z
URL:https://datatracker.ietf.org/meeting/79/materials/agenda-79-mmusic
DESCRIPTION:Afternoon Session II\n
 \n
 Agenda https://datatracker.ietf.org/meeting/79/materials/agenda-79-mmusic\n
 \n
 Session materials: https://datatracker.ietf.org/meeting/79/session/mmusic\n
 \n
 See in schedule: https://datatracker.ietf.org/meeting/79/agenda#row-79-2010-11-10-wed-1510-rai-mmusic\n
END:VEVENT
BEGIN:VEVENT
UID:ietf-79-1904-martini
SUMMARY:martini - Multiple AoR reachabiliTy InformatioN Indication (Monday 1510-1610 CANCELED ONLY)
LOCATION:Pearl
STATUS:CONFIRMED
CLASS:PUBLIC
DTSTART;TZID=Asia/Shanghai:20101111T090000
DTEND;TZID=Asia/Shanghai:20101111T113000
DTSTAMP:20161222T095708Z
URL:https://datatracker.ietf.org/meeting/79/materials/agenda-79-martini
DESCRIPTION:Morning Session I\n
 Note: Monday 1510-1610 CANCELED ONLY\n
 \n
 Agenda https://datatracker.ietf.org/meeting/79/materials/agenda-79-martini\n
 \n
 Session materials: https://datatracker.ietf.org/meeting/79/session/martini\n
 \n
 See in schedule: https://datatracker.ietf.org/meeting/79/agenda#row-79-2010-11-11-thu-0900-rai-martini\n
END:VEVENT
BEGIN:VEVENT
UID:ietf-79-1843-avt
SUMMARY:avt - Audio/Video Transport
LOCATION:Garden Ballroom 3
STATUS:CONFIRMED
CLASS:PUBLIC
DTSTART;TZID=Asia/Shanghai:20101111T130000
DTEND;TZID=Asia/Shanghai:20101111T150000
DTSTAMP:20161222T095708Z
URL:https://datatracker.ietf.org/meeting/79/materials/agenda-79-avt
DESCRIPTION:Afternoon Session I\n
 \n
 Agenda https://datatracker.ietf.org/meeting/79/materials/agenda-79-avt\n
 \n
 Session materials: https://datatracker.ietf.org/meeting/79/session/avt\n
 \n
 See in schedule: https://datatracker.ietf.org/meeting/79/agenda#row-79-2010-11-11-thu-1300-rai-avt\n
END:VEVENT
BEGIN:VEVENT
UID:ietf-79-1895-dispatch
SUMMARY:dispatch - Dispatch
LOCATION:Valley Ballroom C
STATUS:CONFIRMED
CLASS:PUBLIC
DTSTART;TZID=Asia/Shanghai:20101111T152000
DTEND;TZID=Asia/Shanghai:20101111T172000
DTSTAMP:20161222T095708Z
URL:https://datatracker.ietf.org/meeting/79/materials/agenda-79-dispatch
DESCRIPTION:Afternoon Session II\n
 \n
 Agenda https://datatracker.ietf.org/meeting/79/materials/agenda-79-dispatch\n
 \n
 Session materials: https://datatracker.ietf.org/meeting/79/session/dispatch\n
 \n
 See in schedule: https://datatracker.ietf.org/meeting/79/agenda#row-79-2010-11-11-thu-1520-rai-dispatch\n
END:VEVENT
BEGIN:VEVENT
UID:ietf-79-1838-sipcore
SUMMARY:sipcore - Session Initiation Protocol Core
LOCATION:Valley Ballroom B
STATUS:CONFIRMED
CLASS:PUBLIC
DTSTART;TZID=Asia/Shanghai:20101111T174000
DTEND;TZID=Asia/Shanghai:20101111T194000
DTSTAMP:20161222T095708Z
URL:https://datatracker.ietf.org/meeting/79/materials/agenda-79-sipcore
DESCRIPTION:Afternoon Session III\n
 \n
 Agenda https://datatracker.ietf.org/meeting/79/materials/agenda-79-sipcore\n
 \n
 Session materials: https://datatracker.ietf.org/meeting/79/session/sipcore\n
 \n
 See in schedule: https://datatracker.ietf.org/meeting/79/agenda#row-79-2010-11-11-thu-1740-rai-sipcore\n
END:VEVENT
BEGIN:VEVENT
UID:ietf-79-1920-cuss
SUMMARY:cuss - Call Control UUI Service for SIP (Moved from Tuesday morning sesson I 0900-1130)
LOCATION:Jade 1
STATUS:CONFIRMED
CLASS:PUBLIC
DTSTART;TZID=Asia/Shanghai:20101112T090000
DTEND;TZID=Asia/Shanghai:20101112T113000
DTSTAMP:20161222T095708Z
URL:https://datatracker.ietf.org/meeting/79/materials/agenda-79-cuss
DESCRIPTION:Morning Session I\n
 Note: Moved from Tuesday morning sesson I 0900-1130\n
 \n
 Agenda https://datatracker.ietf.org/meeting/79/materials/agenda-79-cuss\n
 \n
 Session materials: https://datatracker.ietf.org/meeting/79/session/cuss\n
 \n
 See in schedule: https://datatracker.ietf.org/meeting/79/agenda#row-79-2010-11-12-fri-0900-rai-cuss\n
END:VEVENT
BEGIN:VEVENT
UID:ietf-79-1893-geopriv
SUMMARY:geopriv - Geographic Location/Privacy (Moved from Wednesday morning session I 0900-1130)
LOCATION:Valley Ballroom C
STATUS:CONFIRMED
CLASS:PUBLIC
DTSTART;TZID=Asia/Shanghai:20101112T090000
DTEND;TZID=Asia/Shanghai:20101112T113000
DTSTAMP:20161222T095708Z
URL:https://datatracker.ietf.org/meeting/79/materials/agenda-79-geopriv
DESCRIPTION:Morning Session I\n
 Note: Moved from Wednesday morning session I 0900-1130\n
 \n
 Agenda https://datatracker.ietf.org/meeting/79/materials/agenda-79-geopriv\n
 \n
 Session materials: https://datatracker.ietf.org/meeting/79/session/geopriv\n
 \n
 See in schedule: https://datatracker.ietf.org/meeting/79/agenda#row-79-2010-11-12-fri-0900-rai-geopriv\n
END:VEVENT
BEGIN:VEVENT
UID:ietf-79-1876-atoca
SUMMARY:atoca - Authority-to-Citizen Alert
LOCATION:Pearl
STATUS:CONFIRMED
CLASS:PUBLIC
DTSTART;TZID=Asia/Shanghai:20101112T130000
DTEND;TZID=Asia/Shanghai:20101112T140000
DTSTAMP:20161222T095708Z
URL:https://datatracker.ietf.org/meeting/79/materials/agenda-79-atoca
DESCRIPTION:Afternoon Session I\n
 \n
 Agenda https://datatracker.ietf.org/meeting/79/materials/agenda-79-atoca\n
 \n
 Session materials: https://datatracker.ietf.org/meeting/79/session/atoca\n
 \n
 See in schedule: https://datatracker.ietf.org/meeting/79/agenda#row-79-2010-11-12-fri-1300-rai-atoca\n
END:VEVENT
BEGIN:VEVENT
UID:ietf-79-1877-atoca
SUMMARY:atoca - Authority-to-Citizen Alert
LOCATION:Pearl
STATUS:CONFIRMED
CLASS:PUBLIC
DTSTART;TZID=Asia/Shanghai:20101112T141500
DTEND;TZID=Asia/Shanghai:20101112T151500
DTSTAMP:20161222T095708Z
URL:https://datatracker.ietf.org/meeting/79/materials/agenda-79-atoca
DESCRIPTION:Afternoon Session II\n
 \n
 Agenda https://datatracker.ietf.org/meeting/79/materials/agenda-79-atoca\n
 \n
 Session materials: https://datatracker.ietf.org/meeting/79/session/atoca\n
 \n
 See in schedule: https://datatracker.ietf.org/meeting/79/agenda#row-79-2010-11-12-fri-1415-rai-atoca\n
END:VEVENT
END:VCALENDAR
