BEGIN:VCALENDAR
VERSION:2.0
METHOD:PUBLISH
PRODID:-//IETF//datatracker.ietf.org ical agenda//EN
BEGIN:VTIMEZONE
TZID:Asia/Shanghai
X-LIC-LOCATION:Asia/Shanghai
BEGIN:STANDARD
TZOFFSETFROM:+080543
TZOFFSETTO:+0800
TZNAME:CST
DTSTART:19010101T000000
RDATE:19010101T000000
END:STANDARD
BEGIN:DAYLIGHT
TZOFFSETFROM:+0800
TZOFFSETTO:+0900
TZNAME:CDT
DTSTART:19400603T000000
RDATE:19400603T000000
RDATE:19410316T000000
RDATE:19860504T000000
RDATE:19870412T000000
RDATE:19880410T000000
RDATE:19890416T000000
RDATE:19900415T000000
RDATE:19910414T000000
END:DAYLIGHT
BEGIN:STANDARD
TZOFFSETFROM:+0900
TZOFFSETTO:+0800
TZNAME:CST
DTSTART:19401001T000000
RDATE:19401001T000000
RDATE:19411001T000000
RDATE:19860914T000000
RDATE:19870913T000000
RDATE:19880911T000000
RDATE:19890917T000000
RDATE:19900916T000000
RDATE:19910915T000000
END:STANDARD
BEGIN:STANDARD
TZOFFSETFROM:+0800
TZOFFSETTO:+0800
TZNAME:CST
DTSTART:19490101T000000
RDATE:19490101T000000
END:STANDARD
END:VTIMEZONE
BEGIN:VEVENT
UID:ietf-79-1875-pwe3
SUMMARY:pwe3 - Pseudowire Emulation Edge to Edge (Moved from Monday afternoon session II 1510-1610)
LOCATION:Valley Ballroom A
STATUS:CONFIRMED
CLASS:PUBLIC
DTSTART;TZID=Asia/Shanghai:20101108T090000
DTEND;TZID=Asia/Shanghai:20101108T113000
DTSTAMP:20161222T095708Z
URL:https://datatracker.ietf.org/meeting/79/materials/agenda-79-pwe3
DESCRIPTION:Morning Session I\n
 Note: Moved from Monday afternoon session II 1510-1610\n
 \n
 Agenda https://datatracker.ietf.org/meeting/79/materials/agenda-79-pwe3\n
 \n
 Session materials: https://datatracker.ietf.org/meeting/79/session/pwe3\n
 \n
 See in schedule: https://datatracker.ietf.org/meeting/79/agenda#row-79-2010-11-08-mon-0900-rtg-pwe3\n
END:VEVENT
BEGIN:VEVENT
UID:ietf-79-1865-pim
SUMMARY:pim - Protocol Independent Multicast
LOCATION:Pearl
STATUS:CONFIRMED
CLASS:PUBLIC
DTSTART;TZID=Asia/Shanghai:20101108T130000
DTEND;TZID=Asia/Shanghai:20101108T150000
DTSTAMP:20161222T095708Z
URL:https://datatracker.ietf.org/meeting/79/materials/agenda-79-pim
DESCRIPTION:Afternoon Session I\n
 \n
 Agenda https://datatracker.ietf.org/meeting/79/materials/agenda-79-pim\n
 \n
 Session materials: https://datatracker.ietf.org/meeting/79/session/pim\n
 \n
 See in schedule: https://datatracker.ietf.org/meeting/79/agenda#row-79-2010-11-08-mon-1300-rtg-pim\n
END:VEVENT
BEGIN:VEVENT
UID:ietf-79-1848-mpls
SUMMARY:mpls - Multiprotocol Label Switching (Moved from Monday morning session I 0900-1130)
LOCATION:Valley Ballroom C
STATUS:CONFIRMED
CLASS:PUBLIC
DTSTART;TZID=Asia/Shanghai:20101108T151000
DTEND;TZID=Asia/Shanghai:20101108T161000
DTSTAMP:20161222T095708Z
URL:https://datatracker.ietf.org/meeting/79/materials/agenda-79-mpls
DESCRIPTION:Afternoon Session II\n
 Note: Moved from Monday morning session I 0900-1130\n
 \n
 Agenda https://datatracker.ietf.org/meeting/79/materials/agenda-79-mpls\n
 \n
 Session materials: https://datatracker.ietf.org/meeting/79/session/mpls\n
 \n
 See in schedule: https://datatracker.ietf.org/meeting/79/agenda#row-79-2010-11-08-mon-1510-rtg-mpls\n
END:VEVENT
BEGIN:VEVENT
UID:ietf-79-1855-ccamp
SUMMARY:ccamp - Common Control and Measurement Plane
LOCATION:Valley Ballroom C
STATUS:CONFIRMED
CLASS:PUBLIC
DTSTART;TZID=Asia/Shanghai:20101109T090000
DTEND;TZID=Asia/Shanghai:20101109T113000
DTSTAMP:20161222T095708Z
URL:https://datatracker.ietf.org/meeting/79/materials/agenda-79-ccamp
DESCRIPTION:Morning Session I\n
 \n
 Agenda https://datatracker.ietf.org/meeting/79/materials/agenda-79-ccamp\n
 \n
 Session materials: https://datatracker.ietf.org/meeting/79/session/ccamp\n
 \n
 See in schedule: https://datatracker.ietf.org/meeting/79/agenda#row-79-2010-11-09-tue-0900-rtg-ccamp\n
END:VEVENT
BEGIN:VEVENT
UID:ietf-79-1834-forces
SUMMARY:forces - Forwarding and Control Element Separation
LOCATION:Emerald
STATUS:CONFIRMED
CLASS:PUBLIC
DTSTART;TZID=Asia/Shanghai:20101109T130000
DTEND;TZID=Asia/Shanghai:20101109T150000
DTSTAMP:20161222T095708Z
URL:https://datatracker.ietf.org/meeting/79/materials/agenda-79-forces
DESCRIPTION:Afternoon Session I\n
 \n
 Agenda https://datatracker.ietf.org/meeting/79/materials/agenda-79-forces\n
 \n
 Session materials: https://datatracker.ietf.org/meeting/79/session/forces\n
 \n
 See in schedule: https://datatracker.ietf.org/meeting/79/agenda#row-79-2010-11-09-tue-1300-rtg-forces\n
END:VEVENT
BEGIN:VEVENT
UID:ietf-79-1861-l3vpn
SUMMARY:l3vpn - Layer 3 Virtual Private Networks
LOCATION:Garden Ballroom 1
STATUS:CONFIRMED
CLASS:PUBLIC
DTSTART;TZID=Asia/Shanghai:20101109T130000
DTEND;TZID=Asia/Shanghai:20101109T150000
DTSTAMP:20161222T095708Z
URL:https://datatracker.ietf.org/meeting/79/materials/agenda-79-l3vpn
DESCRIPTION:Afternoon Session I\n
 \n
 Agenda https://datatracker.ietf.org/meeting/79/materials/agenda-79-l3vpn\n
 \n
 Session materials: https://datatracker.ietf.org/meeting/79/session/l3vpn\n
 \n
 See in schedule: https://datatracker.ietf.org/meeting/79/agenda#row-79-2010-11-09-tue-1300-rtg-l3vpn\n
END:VEVENT
BEGIN:VEVENT
UID:ietf-79-1857-rtgarea
SUMMARY:rtgarea - Routing Area Open Meeting
LOCATION:Valley Ballroom C
STATUS:CONFIRMED
CLASS:PUBLIC
DTSTART;TZID=Asia/Shanghai:20101109T152000
DTEND;TZID=Asia/Shanghai:20101109T170000
DTSTAMP:20161222T095708Z
URL:https://datatracker.ietf.org/meeting/79/materials/agenda-79-rtgarea
DESCRIPTION:Afternoon Session II\n
 \n
 Agenda https://datatracker.ietf.org/meeting/79/materials/agenda-79-rtgarea\n
 \n
 Session materials: https://datatracker.ietf.org/meeting/79/session/rtgarea\n
 \n
 See in schedule: https://datatracker.ietf.org/meeting/79/agenda#row-79-2010-11-09-tue-1520-rtg-rtgarea\n
END:VEVENT
BEGIN:VEVENT
UID:ietf-79-1858-rtgarea
SUMMARY:rtgarea - Routing Area Open Meeting
LOCATION:Valley Ballroom C
STATUS:CONFIRMED
CLASS:PUBLIC
DTSTART;TZID=Asia/Shanghai:20101109T171000
DTEND;TZID=Asia/Shanghai:20101109T181000
DTSTAMP:20161222T095708Z
URL:https://datatracker.ietf.org/meeting/79/materials/agenda-79-rtgarea
DESCRIPTION:Afternoon Session III\n
 \n
 Agenda https://datatracker.ietf.org/meeting/79/materials/agenda-79-rtgarea\n
 \n
 Session materials: https://datatracker.ietf.org/meeting/79/session/rtgarea\n
 \n
 See in schedule: https://datatracker.ietf.org/meeting/79/agenda#row-79-2010-11-09-tue-1710-rtg-rtgarea\n
END:VEVENT
BEGIN:VEVENT
UID:ietf-79-1835-ospf
SUMMARY:ospf - Open Shortest Path First IGP
LOCATION:Garden Ballroom 3
STATUS:CONFIRMED
CLASS:PUBLIC
DTSTART;TZID=Asia/Shanghai:20101110T090000
DTEND;TZID=Asia/Shanghai:20101110T113000
DTSTAMP:20161222T095708Z
URL:https://datatracker.ietf.org/meeting/79/materials/agenda-79-ospf
DESCRIPTION:Morning Session I\n
 \n
 Agenda https://datatracker.ietf.org/meeting/79/materials/agenda-79-ospf\n
 \n
 Session materials: https://datatracker.ietf.org/meeting/79/session/ospf\n
 \n
 See in schedule: https://datatracker.ietf.org/meeting/79/agenda#row-79-2010-11-10-wed-0900-rtg-ospf\n
END:VEVENT
BEGIN:VEVENT
UID:ietf-79-1856-ccamp
SUMMARY:ccamp - Common Control and Measurement Plane
LOCATION:Valley Ballroom C
STATUS:CONFIRMED
CLASS:PUBLIC
DTSTART;TZID=Asia/Shanghai:20101110T130000
DTEND;TZID=Asia/Shanghai:20101110T150000
DTSTAMP:20161222T095708Z
URL:https://datatracker.ietf.org/meeting/79/materials/agenda-79-ccamp
DESCRIPTION:Afternoon Session I\n
 \n
 Agenda https://datatracker.ietf.org/meeting/79/materials/agenda-79-ccamp\n
 \n
 Session materials: https://datatracker.ietf.org/meeting/79/session/ccamp\n
 \n
 See in schedule: https://datatracker.ietf.org/meeting/79/agenda#row-79-2010-11-10-wed-1300-rtg-ccamp\n
END:VEVENT
BEGIN:VEVENT
UID:ietf-79-1847-isis
SUMMARY:isis - IS-IS for IP Internets
LOCATION:Garden Ballroom 3
STATUS:CONFIRMED
CLASS:PUBLIC
DTSTART;TZID=Asia/Shanghai:20101110T151000
DTEND;TZID=Asia/Shanghai:20101110T161000
DTSTAMP:20161222T095708Z
URL:https://datatracker.ietf.org/meeting/79/materials/agenda-79-isis
DESCRIPTION:Afternoon Session II\n
 \n
 Agenda https://datatracker.ietf.org/meeting/79/materials/agenda-79-isis\n
 \n
 Session materials: https://datatracker.ietf.org/meeting/79/session/isis\n
 \n
 See in schedule: https://datatracker.ietf.org/meeting/79/agenda#row-79-2010-11-10-wed-1510-rtg-isis\n
END:VEVENT
BEGIN:VEVENT
UID:ietf-79-1849-mpls
SUMMARY:mpls - Multiprotocol Label Switching (Moved from Monday morning session I 0900-1130)
LOCATION:Valley Ballroom C
STATUS:CONFIRMED
CLASS:PUBLIC
DTSTART;TZID=Asia/Shanghai:20101111T090000
DTEND;TZID=Asia/Shanghai:20101111T113000
DTSTAMP:20161222T095708Z
URL:https://datatracker.ietf.org/meeting/79/materials/agenda-79-mpls
DESCRIPTION:Morning Session I\n
 Note: Moved from Monday morning session I 0900-1130\n
 \n
 Agenda https://datatracker.ietf.org/meeting/79/materials/agenda-79-mpls\n
 \n
 Session materials: https://datatracker.ietf.org/meeting/79/session/mpls\n
 \n
 See in schedule: https://datatracker.ietf.org/meeting/79/agenda#row-79-2010-11-11-thu-0900-rtg-mpls\n
END:VEVENT
BEGIN:VEVENT
UID:ietf-79-1850-sidr
SUMMARY:sidr - Secure Inter-Domain Routing
LOCATION:Garden Ballroom 3
STATUS:CONFIRMED
CLASS:PUBLIC
DTSTART;TZID=Asia/Shanghai:20101111T090000
DTEND;TZID=Asia/Shanghai:20101111T113000
DTSTAMP:20161222T095708Z
URL:https://datatracker.ietf.org/meeting/79/materials/agenda-79-sidr
DESCRIPTION:Morning Session I\n
 \n
 Agenda https://datatracker.ietf.org/meeting/79/materials/agenda-79-sidr\n
 \n
 Session materials: https://datatracker.ietf.org/meeting/79/session/sidr\n
 \n
 See in schedule: https://datatracker.ietf.org/meeting/79/agenda#row-79-2010-11-11-thu-0900-rtg-sidr\n
END:VEVENT
BEGIN:VEVENT
UID:ietf-79-1882-idr
SUMMARY:idr - Inter-Domain Routing
LOCATION:Garden Ballroom 1
STATUS:CONFIRMED
CLASS:PUBLIC
DTSTART;TZID=Asia/Shanghai:20101111T130000
DTEND;TZID=Asia/Shanghai:20101111T150000
DTSTAMP:20161222T095708Z
URL:https://datatracker.ietf.org/meeting/79/materials/agenda-79-idr
DESCRIPTION:Afternoon Session I\n
 \n
 Agenda https://datatracker.ietf.org/meeting/79/materials/agenda-79-idr\n
 \n
 Session materials: https://datatracker.ietf.org/meeting/79/session/idr\n
 \n
 See in schedule: https://datatracker.ietf.org/meeting/79/agenda#row-79-2010-11-11-thu-1300-rtg-idr\n
END:VEVENT
BEGIN:VEVENT
UID:ietf-79-1851-roll
SUMMARY:roll - Routing Over Low power and Lossy networks
LOCATION:Valley Ballroom A
STATUS:CONFIRMED
CLASS:PUBLIC
DTSTART;TZID=Asia/Shanghai:20101111T130000
DTEND;TZID=Asia/Shanghai:20101111T150000
DTSTAMP:20161222T095708Z
URL:https://datatracker.ietf.org/meeting/79/materials/agenda-79-roll
DESCRIPTION:Afternoon Session I\n
 \n
 Agenda https://datatracker.ietf.org/meeting/79/materials/agenda-79-roll\n
 \n
 Session materials: https://datatracker.ietf.org/meeting/79/session/roll\n
 \n
 See in schedule: https://datatracker.ietf.org/meeting/79/agenda#row-79-2010-11-11-thu-1300-rtg-roll\n
END:VEVENT
BEGIN:VEVENT
UID:ietf-79-1872-l2vpn
SUMMARY:l2vpn - Layer 2 Virtual Private Networks
LOCATION:Valley Ballroom A
STATUS:CONFIRMED
CLASS:PUBLIC
DTSTART;TZID=Asia/Shanghai:20101111T152000
DTEND;TZID=Asia/Shanghai:20101111T172000
DTSTAMP:20161222T095708Z
URL:https://datatracker.ietf.org/meeting/79/materials/agenda-79-l2vpn
DESCRIPTION:Afternoon Session II\n
 \n
 Agenda https://datatracker.ietf.org/meeting/79/materials/agenda-79-l2vpn\n
 \n
 Session materials: https://datatracker.ietf.org/meeting/79/session/l2vpn\n
 \n
 See in schedule: https://datatracker.ietf.org/meeting/79/agenda#row-79-2010-11-11-thu-1520-rtg-l2vpn\n
END:VEVENT
BEGIN:VEVENT
UID:ietf-79-1957-manet
SUMMARY:manet - Mobile Ad-hoc Networks
LOCATION:Garden Ballroom 3
STATUS:CONFIRMED
CLASS:PUBLIC
DTSTART;TZID=Asia/Shanghai:20101111T152000
DTEND;TZID=Asia/Shanghai:20101111T172000
DTSTAMP:20161222T095708Z
URL:https://datatracker.ietf.org/meeting/79/materials/agenda-79-manet
DESCRIPTION:Afternoon Session II\n
 \n
 Agenda https://datatracker.ietf.org/meeting/79/materials/agenda-79-manet\n
 \n
 Session materials: https://datatracker.ietf.org/meeting/79/session/manet\n
 \n
 See in schedule: https://datatracker.ietf.org/meeting/79/agenda#row-79-2010-11-11-thu-1520-rtg-manet\n
END:VEVENT
BEGIN:VEVENT
UID:ietf-79-1925-karp
SUMMARY:karp - Keying and Authentication for Routing Protocols
LOCATION:Garden Ballroom 3
STATUS:CONFIRMED
CLASS:PUBLIC
DTSTART;TZID=Asia/Shanghai:20101111T174000
DTEND;TZID=Asia/Shanghai:20101111T194000
DTSTAMP:20161222T095708Z
URL:https://datatracker.ietf.org/meeting/79/materials/agenda-79-karp
DESCRIPTION:Afternoon Session III\n
 \n
 Agenda https://datatracker.ietf.org/meeting/79/materials/agenda-79-karp\n
 \n
 Session materials: https://datatracker.ietf.org/meeting/79/session/karp\n
 \n
 See in schedule: https://datatracker.ietf.org/meeting/79/agenda#row-79-2010-11-11-thu-1740-rtg-karp\n
END:VEVENT
BEGIN:VEVENT
UID:ietf-79-1852-pce
SUMMARY:pce - Path Computation Element
LOCATION:Emerald
STATUS:CONFIRMED
CLASS:PUBLIC
DTSTART;TZID=Asia/Shanghai:20101111T174000
DTEND;TZID=Asia/Shanghai:20101111T194000
DTSTAMP:20161222T095708Z
URL:https://datatracker.ietf.org/meeting/79/materials/agenda-79-pce
DESCRIPTION:Afternoon Session III\n
 \n
 Agenda https://datatracker.ietf.org/meeting/79/materials/agenda-79-pce\n
 \n
 Session materials: https://datatracker.ietf.org/meeting/79/session/pce\n
 \n
 See in schedule: https://datatracker.ietf.org/meeting/79/agenda#row-79-2010-11-11-thu-1740-rtg-pce\n
END:VEVENT
BEGIN:VEVENT
UID:ietf-79-1883-rtgwg
SUMMARY:rtgwg - Routing Area Working Group
LOCATION:Garden Ballroom 1
STATUS:CONFIRMED
CLASS:PUBLIC
DTSTART;TZID=Asia/Shanghai:20101112T130000
DTEND;TZID=Asia/Shanghai:20101112T140000
DTSTAMP:20161222T095708Z
URL:https://datatracker.ietf.org/meeting/79/materials/agenda-79-rtgwg
DESCRIPTION:Afternoon Session I\n
 \n
 Agenda https://datatracker.ietf.org/meeting/79/materials/agenda-79-rtgwg\n
 \n
 Session materials: https://datatracker.ietf.org/meeting/79/session/rtgwg\n
 \n
 See in schedule: https://datatracker.ietf.org/meeting/79/agenda#row-79-2010-11-12-fri-1300-rtg-rtgwg\n
END:VEVENT
BEGIN:VEVENT
UID:ietf-79-1884-rtgwg
SUMMARY:rtgwg - Routing Area Working Group
LOCATION:Garden Ballroom 1
STATUS:CONFIRMED
CLASS:PUBLIC
DTSTART;TZID=Asia/Shanghai:20101112T141500
DTEND;TZID=Asia/Shanghai:20101112T151500
DTSTAMP:20161222T095708Z
URL:https://datatracker.ietf.org/meeting/79/materials/agenda-79-rtgwg
DESCRIPTION:Afternoon Session II\n
 \n
 Agenda https://datatracker.ietf.org/meeting/79/materials/agenda-79-rtgwg\n
 \n
 Session materials: https://datatracker.ietf.org/meeting/79/session/rtgwg\n
 \n
 See in schedule: https://datatracker.ietf.org/meeting/79/agenda#row-79-2010-11-12-fri-1415-rtg-rtgwg\n
END:VEVENT
END:VCALENDAR
