BEGIN:VCALENDAR
VERSION:2.0
METHOD:PUBLISH
PRODID:-//IETF//datatracker.ietf.org ical agenda//EN
BEGIN:VTIMEZONE
TZID:Asia/Shanghai
X-LIC-LOCATION:Asia/Shanghai
BEGIN:STANDARD
TZOFFSETFROM:+080543
TZOFFSETTO:+0800
TZNAME:CST
DTSTART:19010101T000000
RDATE:19010101T000000
END:STANDARD
BEGIN:DAYLIGHT
TZOFFSETFROM:+0800
TZOFFSETTO:+0900
TZNAME:CDT
DTSTART:19400603T000000
RDATE:19400603T000000
RDATE:19410316T000000
RDATE:19860504T000000
RDATE:19870412T000000
RDATE:19880410T000000
RDATE:19890416T000000
RDATE:19900415T000000
RDATE:19910414T000000
END:DAYLIGHT
BEGIN:STANDARD
TZOFFSETFROM:+0900
TZOFFSETTO:+0800
TZNAME:CST
DTSTART:19401001T000000
RDATE:19401001T000000
RDATE:19411001T000000
RDATE:19860914T000000
RDATE:19870913T000000
RDATE:19880911T000000
RDATE:19890917T000000
RDATE:19900916T000000
RDATE:19910915T000000
END:STANDARD
BEGIN:STANDARD
TZOFFSETFROM:+0800
TZOFFSETTO:+0800
TZNAME:CST
DTSTART:19490101T000000
RDATE:19490101T000000
END:STANDARD
END:VTIMEZONE
BEGIN:VEVENT
UID:ietf-79-1860-nea
SUMMARY:nea - Network Endpoint Assessment
LOCATION:Emerald
STATUS:CONFIRMED
CLASS:PUBLIC
DTSTART;TZID=Asia/Shanghai:20101108T130000
DTEND;TZID=Asia/Shanghai:20101108T150000
DTSTAMP:20161222T095708Z
URL:https://datatracker.ietf.org/meeting/79/materials/agenda-79-nea
DESCRIPTION:Afternoon Session I\n
 \n
 Agenda https://datatracker.ietf.org/meeting/79/materials/agenda-79-nea\n
 \n
 Session materials: https://datatracker.ietf.org/meeting/79/session/nea\n
 \n
 See in schedule: https://datatracker.ietf.org/meeting/79/agenda#row-79-2010-11-08-mon-1300-sec-nea\n
END:VEVENT
BEGIN:VEVENT
UID:ietf-79-1909-msec
SUMMARY:msec - Multicast Security
LOCATION:Jade 1
STATUS:CONFIRMED
CLASS:PUBLIC
DTSTART;TZID=Asia/Shanghai:20101108T151000
DTEND;TZID=Asia/Shanghai:20101108T161000
DTSTAMP:20161222T095708Z
URL:https://datatracker.ietf.org/meeting/79/materials/agenda-79-msec
DESCRIPTION:Afternoon Session II\n
 \n
 Agenda https://datatracker.ietf.org/meeting/79/materials/agenda-79-msec\n
 \n
 Session materials: https://datatracker.ietf.org/meeting/79/session/msec\n
 \n
 See in schedule: https://datatracker.ietf.org/meeting/79/agenda#row-79-2010-11-08-mon-1510-sec-msec\n
END:VEVENT
BEGIN:VEVENT
UID:ietf-79-1928-tls
SUMMARY:tls - Transport Layer Security (CANCELLED)
LOCATION:Garden Ballroom 1
STATUS:CONFIRMED
CLASS:PUBLIC
DTSTART;TZID=Asia/Shanghai:20101108T151000
DTEND;TZID=Asia/Shanghai:20101108T161000
DTSTAMP:20161222T095708Z
URL:https://datatracker.ietf.org/meeting/79/materials/agenda-79-tls
DESCRIPTION:Afternoon Session II\n
 Note: CANCELLED\n
 \n
 Agenda https://datatracker.ietf.org/meeting/79/materials/agenda-79-tls\n
 \n
 Session materials: https://datatracker.ietf.org/meeting/79/session/tls\n
 \n
 See in schedule: https://datatracker.ietf.org/meeting/79/agenda#row-79-2010-11-08-mon-1510-sec-tls\n
END:VEVENT
BEGIN:VEVENT
UID:ietf-79-1932-kitten
SUMMARY:kitten - Common Authentication Technology Next Generation
LOCATION:Jade 1
STATUS:CONFIRMED
CLASS:PUBLIC
DTSTART;TZID=Asia/Shanghai:20101109T090000
DTEND;TZID=Asia/Shanghai:20101109T113000
DTSTAMP:20161222T095708Z
URL:https://datatracker.ietf.org/meeting/79/materials/agenda-79-kitten
DESCRIPTION:Morning Session I\n
 \n
 Agenda https://datatracker.ietf.org/meeting/79/materials/agenda-79-kitten\n
 \n
 Session materials: https://datatracker.ietf.org/meeting/79/session/kitten\n
 \n
 See in schedule: https://datatracker.ietf.org/meeting/79/agenda#row-79-2010-11-09-tue-0900-sec-kitten\n
END:VEVENT
BEGIN:VEVENT
UID:ietf-79-1943-hokey
SUMMARY:hokey - Handover Keying
LOCATION:Jade 1
STATUS:CONFIRMED
CLASS:PUBLIC
DTSTART;TZID=Asia/Shanghai:20101109T130000
DTEND;TZID=Asia/Shanghai:20101109T150000
DTSTAMP:20161222T095708Z
URL:https://datatracker.ietf.org/meeting/79/materials/agenda-79-hokey
DESCRIPTION:Afternoon Session I\n
 \n
 Agenda https://datatracker.ietf.org/meeting/79/materials/agenda-79-hokey\n
 \n
 Session materials: https://datatracker.ietf.org/meeting/79/session/hokey\n
 \n
 See in schedule: https://datatracker.ietf.org/meeting/79/agenda#row-79-2010-11-09-tue-1300-sec-hokey\n
END:VEVENT
BEGIN:VEVENT
UID:ietf-79-1950-scap
SUMMARY:scap - Synergy of SCAP Program and IETF Activities
LOCATION:Pearl
STATUS:CONFIRMED
CLASS:PUBLIC
DTSTART;TZID=Asia/Shanghai:20101109T152000
DTEND;TZID=Asia/Shanghai:20101109T170000
DTSTAMP:20161222T095708Z
URL:https://datatracker.ietf.org/meeting/79/materials/agenda-79-scap
DESCRIPTION:Afternoon Session II\n
 \n
 Agenda https://datatracker.ietf.org/meeting/79/materials/agenda-79-scap\n
 \n
 Session materials: https://datatracker.ietf.org/meeting/79/session/scap\n
 \n
 See in schedule: https://datatracker.ietf.org/meeting/79/agenda#row-79-2010-11-09-tue-1520-sec-scap\n
END:VEVENT
BEGIN:VEVENT
UID:ietf-79-1951-scap
SUMMARY:scap - Synergy of SCAP Program and IETF Activities
LOCATION:Pearl
STATUS:CONFIRMED
CLASS:PUBLIC
DTSTART;TZID=Asia/Shanghai:20101109T171000
DTEND;TZID=Asia/Shanghai:20101109T181000
DTSTAMP:20161222T095708Z
URL:https://datatracker.ietf.org/meeting/79/materials/agenda-79-scap
DESCRIPTION:Afternoon Session III\n
 \n
 Agenda https://datatracker.ietf.org/meeting/79/materials/agenda-79-scap\n
 \n
 Session materials: https://datatracker.ietf.org/meeting/79/session/scap\n
 \n
 See in schedule: https://datatracker.ietf.org/meeting/79/agenda#row-79-2010-11-09-tue-1710-sec-scap\n
END:VEVENT
BEGIN:VEVENT
UID:ietf-79-1836-pkix
SUMMARY:pkix - Public-Key Infrastructure (X.509)
LOCATION:Pearl
STATUS:CONFIRMED
CLASS:PUBLIC
DTSTART;TZID=Asia/Shanghai:20101110T090000
DTEND;TZID=Asia/Shanghai:20101110T113000
DTSTAMP:20161222T095708Z
URL:https://datatracker.ietf.org/meeting/79/materials/agenda-79-pkix
DESCRIPTION:Morning Session I\n
 \n
 Agenda https://datatracker.ietf.org/meeting/79/materials/agenda-79-pkix\n
 \n
 Session materials: https://datatracker.ietf.org/meeting/79/session/pkix\n
 \n
 See in schedule: https://datatracker.ietf.org/meeting/79/agenda#row-79-2010-11-10-wed-0900-sec-pkix\n
END:VEVENT
BEGIN:VEVENT
UID:ietf-79-1913-ipsecme
SUMMARY:ipsecme - IP Security Maintenance and Extensions
LOCATION:Garden Ballroom 1
STATUS:CONFIRMED
CLASS:PUBLIC
DTSTART;TZID=Asia/Shanghai:20101110T130000
DTEND;TZID=Asia/Shanghai:20101110T150000
DTSTAMP:20161222T095708Z
URL:https://datatracker.ietf.org/meeting/79/materials/agenda-79-ipsecme
DESCRIPTION:Afternoon Session I\n
 \n
 Agenda https://datatracker.ietf.org/meeting/79/materials/agenda-79-ipsecme\n
 \n
 Session materials: https://datatracker.ietf.org/meeting/79/session/ipsecme\n
 \n
 See in schedule: https://datatracker.ietf.org/meeting/79/agenda#row-79-2010-11-10-wed-1300-sec-ipsecme\n
END:VEVENT
BEGIN:VEVENT
UID:ietf-79-1927-emu
SUMMARY:emu - EAP Method Update
LOCATION:Garden Ballroom 1
STATUS:CONFIRMED
CLASS:PUBLIC
DTSTART;TZID=Asia/Shanghai:20101110T151000
DTEND;TZID=Asia/Shanghai:20101110T161000
DTSTAMP:20161222T095708Z
URL:https://datatracker.ietf.org/meeting/79/materials/agenda-79-emu
DESCRIPTION:Afternoon Session II\n
 \n
 Agenda https://datatracker.ietf.org/meeting/79/materials/agenda-79-emu\n
 \n
 Session materials: https://datatracker.ietf.org/meeting/79/session/emu\n
 \n
 See in schedule: https://datatracker.ietf.org/meeting/79/agenda#row-79-2010-11-10-wed-1510-sec-emu\n
END:VEVENT
BEGIN:VEVENT
UID:ietf-79-1944-abfab
SUMMARY:abfab - Application Bridging for Federated Access Beyond web
LOCATION:Garden Ballroom 1
STATUS:CONFIRMED
CLASS:PUBLIC
DTSTART;TZID=Asia/Shanghai:20101111T090000
DTEND;TZID=Asia/Shanghai:20101111T113000
DTSTAMP:20161222T095708Z
URL:https://datatracker.ietf.org/meeting/79/materials/agenda-79-abfab
DESCRIPTION:Morning Session I\n
 \n
 Agenda https://datatracker.ietf.org/meeting/79/materials/agenda-79-abfab\n
 \n
 Session materials: https://datatracker.ietf.org/meeting/79/session/abfab\n
 \n
 See in schedule: https://datatracker.ietf.org/meeting/79/agenda#row-79-2010-11-11-thu-0900-sec-abfab\n
END:VEVENT
BEGIN:VEVENT
UID:ietf-79-1837-saag
SUMMARY:saag - Security Area Open Meeting
LOCATION:Valley Ballroom B
STATUS:CONFIRMED
CLASS:PUBLIC
DTSTART;TZID=Asia/Shanghai:20101111T130000
DTEND;TZID=Asia/Shanghai:20101111T150000
DTSTAMP:20161222T095708Z
URL:https://datatracker.ietf.org/meeting/79/materials/agenda-79-saag
DESCRIPTION:Afternoon Session I\n
 \n
 Agenda https://datatracker.ietf.org/meeting/79/materials/agenda-79-saag\n
 \n
 Session materials: https://datatracker.ietf.org/meeting/79/session/saag\n
 \n
 See in schedule: https://datatracker.ietf.org/meeting/79/agenda#row-79-2010-11-11-thu-1300-sec-saag\n
END:VEVENT
BEGIN:VEVENT
UID:ietf-79-1953-dane
SUMMARY:dane - DNS-based Authentication of Named Entities
LOCATION:Garden Ballroom 1
STATUS:CONFIRMED
CLASS:PUBLIC
DTSTART;TZID=Asia/Shanghai:20101111T152000
DTEND;TZID=Asia/Shanghai:20101111T172000
DTSTAMP:20161222T095708Z
URL:https://datatracker.ietf.org/meeting/79/materials/agenda-79-dane
DESCRIPTION:Afternoon Session II\n
 \n
 Agenda https://datatracker.ietf.org/meeting/79/materials/agenda-79-dane\n
 \n
 Session materials: https://datatracker.ietf.org/meeting/79/session/dane\n
 \n
 See in schedule: https://datatracker.ietf.org/meeting/79/agenda#row-79-2010-11-11-thu-1520-sec-dane\n
END:VEVENT
BEGIN:VEVENT
UID:ietf-79-1907-krb-wg
SUMMARY:krb-wg - Kerberos
LOCATION:Jade 1
STATUS:CONFIRMED
CLASS:PUBLIC
DTSTART;TZID=Asia/Shanghai:20101112T130000
DTEND;TZID=Asia/Shanghai:20101112T140000
DTSTAMP:20161222T095708Z
URL:https://datatracker.ietf.org/meeting/79/materials/agenda-79-krb-wg
DESCRIPTION:Afternoon Session I\n
 \n
 Agenda https://datatracker.ietf.org/meeting/79/materials/agenda-79-krb-wg\n
 \n
 Session materials: https://datatracker.ietf.org/meeting/79/session/krb-wg\n
 \n
 See in schedule: https://datatracker.ietf.org/meeting/79/agenda#row-79-2010-11-12-fri-1300-sec-krb-wg\n
END:VEVENT
BEGIN:VEVENT
UID:ietf-79-1908-krb-wg
SUMMARY:krb-wg - Kerberos
LOCATION:Jade 1
STATUS:CONFIRMED
CLASS:PUBLIC
DTSTART;TZID=Asia/Shanghai:20101112T141500
DTEND;TZID=Asia/Shanghai:20101112T151500
DTSTAMP:20161222T095708Z
URL:https://datatracker.ietf.org/meeting/79/materials/agenda-79-krb-wg
DESCRIPTION:Afternoon Session II\n
 \n
 Agenda https://datatracker.ietf.org/meeting/79/materials/agenda-79-krb-wg\n
 \n
 Session materials: https://datatracker.ietf.org/meeting/79/session/krb-wg\n
 \n
 See in schedule: https://datatracker.ietf.org/meeting/79/agenda#row-79-2010-11-12-fri-1415-sec-krb-wg\n
END:VEVENT
END:VCALENDAR
