BEGIN:VCALENDAR
VERSION:2.0
METHOD:PUBLISH
PRODID:-//IETF//datatracker.ietf.org ical agenda//EN
BEGIN:VTIMEZONE
TZID:Asia/Shanghai
X-LIC-LOCATION:Asia/Shanghai
BEGIN:STANDARD
TZOFFSETFROM:+080543
TZOFFSETTO:+0800
TZNAME:CST
DTSTART:19010101T000000
RDATE:19010101T000000
END:STANDARD
BEGIN:DAYLIGHT
TZOFFSETFROM:+0800
TZOFFSETTO:+0900
TZNAME:CDT
DTSTART:19400603T000000
RDATE:19400603T000000
RDATE:19410316T000000
RDATE:19860504T000000
RDATE:19870412T000000
RDATE:19880410T000000
RDATE:19890416T000000
RDATE:19900415T000000
RDATE:19910414T000000
END:DAYLIGHT
BEGIN:STANDARD
TZOFFSETFROM:+0900
TZOFFSETTO:+0800
TZNAME:CST
DTSTART:19401001T000000
RDATE:19401001T000000
RDATE:19411001T000000
RDATE:19860914T000000
RDATE:19870913T000000
RDATE:19880911T000000
RDATE:19890917T000000
RDATE:19900916T000000
RDATE:19910915T000000
END:STANDARD
BEGIN:STANDARD
TZOFFSETFROM:+0800
TZOFFSETTO:+0800
TZNAME:CST
DTSTART:19490101T000000
RDATE:19490101T000000
END:STANDARD
END:VTIMEZONE
BEGIN:VEVENT
UID:ietf-79-1859-ippm
SUMMARY:ippm - IP Performance Metrics (Room change from Emerald)
LOCATION:Jade 1
STATUS:CONFIRMED
CLASS:PUBLIC
DTSTART;TZID=Asia/Shanghai:20101108T090000
DTEND;TZID=Asia/Shanghai:20101108T113000
DTSTAMP:20161222T095708Z
URL:https://datatracker.ietf.org/meeting/79/materials/agenda-79-ippm
DESCRIPTION:Morning Session I\n
 Note: Room change from Emerald\n
 \n
 Agenda https://datatracker.ietf.org/meeting/79/materials/agenda-79-ippm\n
 \n
 Session materials: https://datatracker.ietf.org/meeting/79/session/ippm\n
 \n
 See in schedule: https://datatracker.ietf.org/meeting/79/agenda#row-79-2010-11-08-mon-0900-tsv-ippm\n
END:VEVENT
BEGIN:VEVENT
UID:ietf-79-1947-nbs
SUMMARY:nbs - Name-Based Sockets
LOCATION:Garden Ballroom 3
STATUS:CONFIRMED
CLASS:PUBLIC
DTSTART;TZID=Asia/Shanghai:20101108T090000
DTEND;TZID=Asia/Shanghai:20101108T113000
DTSTAMP:20161222T095708Z
URL:https://datatracker.ietf.org/meeting/79/materials/agenda-79-nbs
DESCRIPTION:Morning Session I\n
 \n
 Agenda https://datatracker.ietf.org/meeting/79/materials/agenda-79-nbs\n
 \n
 Session materials: https://datatracker.ietf.org/meeting/79/session/nbs\n
 \n
 See in schedule: https://datatracker.ietf.org/meeting/79/agenda#row-79-2010-11-08-mon-0900-tsv-nbs\n
END:VEVENT
BEGIN:VEVENT
UID:ietf-79-1870-mptcp
SUMMARY:mptcp - Multipath TCP
LOCATION:Valley Ballroom A
STATUS:CONFIRMED
CLASS:PUBLIC
DTSTART;TZID=Asia/Shanghai:20101108T151000
DTEND;TZID=Asia/Shanghai:20101108T161000
DTSTAMP:20161222T095708Z
URL:https://datatracker.ietf.org/meeting/79/materials/agenda-79-mptcp
DESCRIPTION:Afternoon Session II\n
 \n
 Agenda https://datatracker.ietf.org/meeting/79/materials/agenda-79-mptcp\n
 \n
 Session materials: https://datatracker.ietf.org/meeting/79/session/mptcp\n
 \n
 See in schedule: https://datatracker.ietf.org/meeting/79/agenda#row-79-2010-11-08-mon-1510-tsv-mptcp\n
END:VEVENT
BEGIN:VEVENT
UID:ietf-79-1862-nfsv4
SUMMARY:nfsv4 - Network File System Version 4
LOCATION:Emerald
STATUS:CONFIRMED
CLASS:PUBLIC
DTSTART;TZID=Asia/Shanghai:20101109T090000
DTEND;TZID=Asia/Shanghai:20101109T113000
DTSTAMP:20161222T095708Z
URL:https://datatracker.ietf.org/meeting/79/materials/agenda-79-nfsv4
DESCRIPTION:Morning Session I\n
 \n
 Agenda https://datatracker.ietf.org/meeting/79/materials/agenda-79-nfsv4\n
 \n
 Session materials: https://datatracker.ietf.org/meeting/79/session/nfsv4\n
 \n
 See in schedule: https://datatracker.ietf.org/meeting/79/agenda#row-79-2010-11-09-tue-0900-tsv-nfsv4\n
END:VEVENT
BEGIN:VEVENT
UID:ietf-79-1914-ledbat
SUMMARY:ledbat - Low Extra Delay Background Transport
LOCATION:Pearl
STATUS:CONFIRMED
CLASS:PUBLIC
DTSTART;TZID=Asia/Shanghai:20101109T130000
DTEND;TZID=Asia/Shanghai:20101109T150000
DTSTAMP:20161222T095708Z
URL:https://datatracker.ietf.org/meeting/79/materials/agenda-79-ledbat
DESCRIPTION:Afternoon Session I\n
 \n
 Agenda https://datatracker.ietf.org/meeting/79/materials/agenda-79-ledbat\n
 \n
 Session materials: https://datatracker.ietf.org/meeting/79/session/ledbat\n
 \n
 See in schedule: https://datatracker.ietf.org/meeting/79/agenda#row-79-2010-11-09-tue-1300-tsv-ledbat\n
END:VEVENT
BEGIN:VEVENT
UID:ietf-79-1863-nfsv4
SUMMARY:nfsv4 - Network File System Version 4
LOCATION:Garden Ballroom 1
STATUS:CONFIRMED
CLASS:PUBLIC
DTSTART;TZID=Asia/Shanghai:20101109T152000
DTEND;TZID=Asia/Shanghai:20101109T170000
DTSTAMP:20161222T095708Z
URL:https://datatracker.ietf.org/meeting/79/materials/agenda-79-nfsv4
DESCRIPTION:Afternoon Session II\n
 \n
 Agenda https://datatracker.ietf.org/meeting/79/materials/agenda-79-nfsv4\n
 \n
 Session materials: https://datatracker.ietf.org/meeting/79/session/nfsv4\n
 \n
 See in schedule: https://datatracker.ietf.org/meeting/79/agenda#row-79-2010-11-09-tue-1520-tsv-nfsv4\n
END:VEVENT
BEGIN:VEVENT
UID:ietf-79-1935-tsvarea
SUMMARY:tsvarea - Transport Area Open Meeting
LOCATION:Garden Ballroom 1
STATUS:CONFIRMED
CLASS:PUBLIC
DTSTART;TZID=Asia/Shanghai:20101109T171000
DTEND;TZID=Asia/Shanghai:20101109T181000
DTSTAMP:20161222T095708Z
URL:https://datatracker.ietf.org/meeting/79/materials/agenda-79-tsvarea
DESCRIPTION:Afternoon Session III\n
 \n
 Agenda https://datatracker.ietf.org/meeting/79/materials/agenda-79-tsvarea\n
 \n
 Session materials: https://datatracker.ietf.org/meeting/79/session/tsvarea\n
 \n
 See in schedule: https://datatracker.ietf.org/meeting/79/agenda#row-79-2010-11-09-tue-1710-tsv-tsvarea\n
END:VEVENT
BEGIN:VEVENT
UID:ietf-79-1879-tsvwg
SUMMARY:tsvwg - Transport Area Working Group
LOCATION:Valley Ballroom A
STATUS:CONFIRMED
CLASS:PUBLIC
DTSTART;TZID=Asia/Shanghai:20101110T090000
DTEND;TZID=Asia/Shanghai:20101110T113000
DTSTAMP:20161222T095708Z
URL:https://datatracker.ietf.org/meeting/79/materials/agenda-79-tsvwg
DESCRIPTION:Morning Session I\n
 \n
 Agenda https://datatracker.ietf.org/meeting/79/materials/agenda-79-tsvwg\n
 \n
 Session materials: https://datatracker.ietf.org/meeting/79/session/tsvwg\n
 \n
 See in schedule: https://datatracker.ietf.org/meeting/79/agenda#row-79-2010-11-10-wed-0900-tsv-tsvwg\n
END:VEVENT
BEGIN:VEVENT
UID:ietf-79-1873-alto
SUMMARY:alto - Application-Layer Traffic Optimization
LOCATION:Valley Ballroom B
STATUS:CONFIRMED
CLASS:PUBLIC
DTSTART;TZID=Asia/Shanghai:20101110T130000
DTEND;TZID=Asia/Shanghai:20101110T150000
DTSTAMP:20161222T095708Z
URL:https://datatracker.ietf.org/meeting/79/materials/agenda-79-alto
DESCRIPTION:Afternoon Session I\n
 \n
 Agenda https://datatracker.ietf.org/meeting/79/materials/agenda-79-alto\n
 \n
 Session materials: https://datatracker.ietf.org/meeting/79/session/alto\n
 \n
 See in schedule: https://datatracker.ietf.org/meeting/79/agenda#row-79-2010-11-10-wed-1300-tsv-alto\n
END:VEVENT
BEGIN:VEVENT
UID:ietf-79-1871-mptcp
SUMMARY:mptcp - Multipath TCP
LOCATION:Valley Ballroom C
STATUS:CONFIRMED
CLASS:PUBLIC
DTSTART;TZID=Asia/Shanghai:20101110T151000
DTEND;TZID=Asia/Shanghai:20101110T161000
DTSTAMP:20161222T095708Z
URL:https://datatracker.ietf.org/meeting/79/materials/agenda-79-mptcp
DESCRIPTION:Afternoon Session II\n
 \n
 Agenda https://datatracker.ietf.org/meeting/79/materials/agenda-79-mptcp\n
 \n
 Session materials: https://datatracker.ietf.org/meeting/79/session/mptcp\n
 \n
 See in schedule: https://datatracker.ietf.org/meeting/79/agenda#row-79-2010-11-10-wed-1510-tsv-mptcp\n
END:VEVENT
BEGIN:VEVENT
UID:ietf-79-1889-conex
SUMMARY:conex - Congestion Exposure
LOCATION:Valley Ballroom B
STATUS:CONFIRMED
CLASS:PUBLIC
DTSTART;TZID=Asia/Shanghai:20101111T090000
DTEND;TZID=Asia/Shanghai:20101111T113000
DTSTAMP:20161222T095708Z
URL:https://datatracker.ietf.org/meeting/79/materials/agenda-79-conex
DESCRIPTION:Morning Session I\n
 \n
 Agenda https://datatracker.ietf.org/meeting/79/materials/agenda-79-conex\n
 \n
 Session materials: https://datatracker.ietf.org/meeting/79/session/conex\n
 \n
 See in schedule: https://datatracker.ietf.org/meeting/79/agenda#row-79-2010-11-11-thu-0900-tsv-conex\n
END:VEVENT
BEGIN:VEVENT
UID:ietf-79-1946-tcpm
SUMMARY:tcpm - TCP Maintenance and Minor Extensions
LOCATION:Pearl
STATUS:CONFIRMED
CLASS:PUBLIC
DTSTART;TZID=Asia/Shanghai:20101111T130000
DTEND;TZID=Asia/Shanghai:20101111T150000
DTSTAMP:20161222T095708Z
URL:https://datatracker.ietf.org/meeting/79/materials/agenda-79-tcpm
DESCRIPTION:Afternoon Session I\n
 \n
 Agenda https://datatracker.ietf.org/meeting/79/materials/agenda-79-tcpm\n
 \n
 Session materials: https://datatracker.ietf.org/meeting/79/session/tcpm\n
 \n
 See in schedule: https://datatracker.ietf.org/meeting/79/agenda#row-79-2010-11-11-thu-1300-tsv-tcpm\n
END:VEVENT
BEGIN:VEVENT
UID:ietf-79-1892-behave
SUMMARY:behave - Behavior Engineering for Hindrance Avoidance
LOCATION:Valley Ballroom B
STATUS:CONFIRMED
CLASS:PUBLIC
DTSTART;TZID=Asia/Shanghai:20101111T152000
DTEND;TZID=Asia/Shanghai:20101111T172000
DTSTAMP:20161222T095708Z
URL:https://datatracker.ietf.org/meeting/79/materials/agenda-79-behave
DESCRIPTION:Afternoon Session II\n
 \n
 Agenda https://datatracker.ietf.org/meeting/79/materials/agenda-79-behave\n
 \n
 Session materials: https://datatracker.ietf.org/meeting/79/session/behave\n
 \n
 See in schedule: https://datatracker.ietf.org/meeting/79/agenda#row-79-2010-11-11-thu-1520-tsv-behave\n
END:VEVENT
BEGIN:VEVENT
UID:ietf-79-1864-decade
SUMMARY:decade - Decoupled Application Data Enroute (Room changed from Garden Ballroom 3)
LOCATION:Emerald
STATUS:CONFIRMED
CLASS:PUBLIC
DTSTART;TZID=Asia/Shanghai:20101111T152000
DTEND;TZID=Asia/Shanghai:20101111T172000
DTSTAMP:20161222T095708Z
URL:https://datatracker.ietf.org/meeting/79/materials/agenda-79-decade
DESCRIPTION:Afternoon Session II\n
 Note: Room changed from Garden Ballroom 3\n
 \n
 Agenda https://datatracker.ietf.org/meeting/79/materials/agenda-79-decade\n
 \n
 Session materials: https://datatracker.ietf.org/meeting/79/session/decade\n
 \n
 See in schedule: https://datatracker.ietf.org/meeting/79/agenda#row-79-2010-11-11-thu-1520-tsv-decade\n
END:VEVENT
BEGIN:VEVENT
UID:ietf-79-1930-fecframe
SUMMARY:fecframe - FEC Framework
LOCATION:Jade 1
STATUS:CONFIRMED
CLASS:PUBLIC
DTSTART;TZID=Asia/Shanghai:20101111T174000
DTEND;TZID=Asia/Shanghai:20101111T194000
DTSTAMP:20161222T095708Z
URL:https://datatracker.ietf.org/meeting/79/materials/agenda-79-fecframe
DESCRIPTION:Afternoon Session III\n
 \n
 Agenda https://datatracker.ietf.org/meeting/79/materials/agenda-79-fecframe\n
 \n
 Session materials: https://datatracker.ietf.org/meeting/79/session/fecframe\n
 \n
 See in schedule: https://datatracker.ietf.org/meeting/79/agenda#row-79-2010-11-11-thu-1740-tsv-fecframe\n
END:VEVENT
BEGIN:VEVENT
UID:ietf-79-1900-ppsp
SUMMARY:ppsp - Peer to Peer Streaming Protocol
LOCATION:Garden Ballroom 3
STATUS:CONFIRMED
CLASS:PUBLIC
DTSTART;TZID=Asia/Shanghai:20101112T090000
DTEND;TZID=Asia/Shanghai:20101112T113000
DTSTAMP:20161222T095708Z
URL:https://datatracker.ietf.org/meeting/79/materials/agenda-79-ppsp
DESCRIPTION:Morning Session I\n
 \n
 Agenda https://datatracker.ietf.org/meeting/79/materials/agenda-79-ppsp\n
 \n
 Session materials: https://datatracker.ietf.org/meeting/79/session/ppsp\n
 \n
 See in schedule: https://datatracker.ietf.org/meeting/79/agenda#row-79-2010-11-12-fri-0900-tsv-ppsp\n
END:VEVENT
END:VCALENDAR
