BEGIN:VCALENDAR
VERSION:2.0
METHOD:PUBLISH
PRODID:-//IETF//datatracker.ietf.org ical agenda//EN
BEGIN:VTIMEZONE
TZID:America/Toronto
X-LIC-LOCATION:America/Toronto
BEGIN:DAYLIGHT
TZOFFSETFROM:-0500
TZOFFSETTO:-0400
TZNAME:EDT
DTSTART:20070311T020000
RRULE:FREQ=YEARLY;BYMONTH=3;BYDAY=2SU
END:DAYLIGHT
BEGIN:STANDARD
TZOFFSETFROM:-0400
TZOFFSETTO:-0500
TZNAME:EST
DTSTART:20071104T020000
RRULE:FREQ=YEARLY;BYMONTH=11;BYDAY=1SU
END:STANDARD
BEGIN:STANDARD
TZOFFSETFROM:-051732
TZOFFSETTO:-0500
TZNAME:EST
DTSTART:18950101T000000
RDATE:18950101T000000
END:STANDARD
BEGIN:DAYLIGHT
TZOFFSETFROM:-0500
TZOFFSETTO:-0400
TZNAME:EDT
DTSTART:19180414T020000
RDATE:19180414T020000
RDATE:19190330T233000
RDATE:19200502T020000
RDATE:19210515T020000
RDATE:19220514T020000
RDATE:19230513T020000
RDATE:19240504T020000
RDATE:19250503T020000
RDATE:19260502T020000
RDATE:19270501T020000
RDATE:19280429T020000
RDATE:19290428T020000
RDATE:19300427T020000
RDATE:19310426T020000
RDATE:19320501T020000
RDATE:19330430T020000
RDATE:19340429T020000
RDATE:19350428T020000
RDATE:19360426T020000
RDATE:19370425T020000
RDATE:19380424T020000
RDATE:19390430T020000
RDATE:19400428T020000
RDATE:19460428T020000
RDATE:19470427T000000
RDATE:19480425T000000
RDATE:19490424T000000
RDATE:19500430T020000
RDATE:19510429T020000
RDATE:19520427T020000
RDATE:19530426T020000
RDATE:19540425T020000
RDATE:19550424T020000
RDATE:19560429T020000
RDATE:19570428T020000
RDATE:19580427T020000
RDATE:19590426T020000
RDATE:19600424T020000
RDATE:19610430T020000
RDATE:19620429T020000
RDATE:19630428T020000
RDATE:19640426T020000
RDATE:19650425T020000
RDATE:19660424T020000
RDATE:19670430T020000
RDATE:19680428T020000
RDATE:19690427T020000
RDATE:19700426T020000
RDATE:19710425T020000
RDATE:19720430T020000
RDATE:19730429T020000
RDATE:19740428T020000
RDATE:19750427T020000
RDATE:19760425T020000
RDATE:19770424T020000
RDATE:19780430T020000
RDATE:19790429T020000
RDATE:19800427T020000
RDATE:19810426T020000
RDATE:19820425T020000
RDATE:19830424T020000
RDATE:19840429T020000
RDATE:19850428T020000
RDATE:19860427T020000
RDATE:19870405T020000
RDATE:19880403T020000
RDATE:19890402T020000
RDATE:19900401T020000
RDATE:19910407T020000
RDATE:19920405T020000
RDATE:19930404T020000
RDATE:19940403T020000
RDATE:19950402T020000
RDATE:19960407T020000
RDATE:19970406T020000
RDATE:19980405T020000
RDATE:19990404T020000
RDATE:20000402T020000
RDATE:20010401T020000
RDATE:20020407T020000
RDATE:20030406T020000
RDATE:20040404T020000
RDATE:20050403T020000
RDATE:20060402T020000
END:DAYLIGHT
BEGIN:STANDARD
TZOFFSETFROM:-0400
TZOFFSETTO:-0500
TZNAME:EST
DTSTART:19181027T020000
RDATE:19181027T020000
RDATE:19191026T000000
RDATE:19200926T000000
RDATE:19210915T020000
RDATE:19220917T020000
RDATE:19230916T020000
RDATE:19240921T020000
RDATE:19250920T020000
RDATE:19260919T020000
RDATE:19270925T020000
RDATE:19280930T020000
RDATE:19290929T020000
RDATE:19300928T020000
RDATE:19310927T020000
RDATE:19320925T020000
RDATE:19331001T020000
RDATE:19340930T020000
RDATE:19350929T020000
RDATE:19360927T020000
RDATE:19370926T020000
RDATE:19380925T020000
RDATE:19390924T020000
RDATE:19450930T020000
RDATE:19460929T020000
RDATE:19470928T000000
RDATE:19480926T000000
RDATE:19491127T000000
RDATE:19501126T020000
RDATE:19510930T020000
RDATE:19520928T020000
RDATE:19530927T020000
RDATE:19540926T020000
RDATE:19550925T020000
RDATE:19560930T020000
RDATE:19571027T020000
RDATE:19581026T020000
RDATE:19591025T020000
RDATE:19601030T020000
RDATE:19611029T020000
RDATE:19621028T020000
RDATE:19631027T020000
RDATE:19641025T020000
RDATE:19651031T020000
RDATE:19661030T020000
RDATE:19671029T020000
RDATE:19681027T020000
RDATE:19691026T020000
RDATE:19701025T020000
RDATE:19711031T020000
RDATE:19721029T020000
RDATE:19731028T020000
RDATE:19741027T020000
RDATE:19751026T020000
RDATE:19761031T020000
RDATE:19771030T020000
RDATE:19781029T020000
RDATE:19791028T020000
RDATE:19801026T020000
RDATE:19811025T020000
RDATE:19821031T020000
RDATE:19831030T020000
RDATE:19841028T020000
RDATE:19851027T020000
RDATE:19861026T020000
RDATE:19871025T020000
RDATE:19881030T020000
RDATE:19891029T020000
RDATE:19901028T020000
RDATE:19911027T020000
RDATE:19921025T020000
RDATE:19931031T020000
RDATE:19941030T020000
RDATE:19951029T020000
RDATE:19961027T020000
RDATE:19971026T020000
RDATE:19981025T020000
RDATE:19991031T020000
RDATE:20001029T020000
RDATE:20011028T020000
RDATE:20021027T020000
RDATE:20031026T020000
RDATE:20041031T020000
RDATE:20051030T020000
RDATE:20061029T020000
END:STANDARD
BEGIN:STANDARD
TZOFFSETFROM:-0500
TZOFFSETTO:-0500
TZNAME:EST
DTSTART:19190101T000000
RDATE:19190101T000000
RDATE:19460101T000000
RDATE:19740101T000000
END:STANDARD
BEGIN:DAYLIGHT
TZOFFSETFROM:-0400
TZOFFSETTO:-0400
TZNAME:EWT
DTSTART:19420209T020000
RDATE:19420209T020000
END:DAYLIGHT
BEGIN:DAYLIGHT
TZOFFSETFROM:-0400
TZOFFSETTO:-0400
TZNAME:EPT
DTSTART:19450814T190000
RDATE:19450814T190000
END:DAYLIGHT
END:VTIMEZONE
BEGIN:VEVENT
UID:ietf-81-2245-tools
SUMMARY:Code Sprint
LOCATION:2000 D
STATUS:CONFIRMED
CLASS:PUBLIC
DTSTART;TZID=America/Toronto:20110723T093000
DTEND;TZID=America/Toronto:20110723T170000
DTSTAMP:20161222T095707Z
DESCRIPTION:Code Sprint\n
 \n
 Session materials: https://datatracker.ietf.org/meeting/81/session/tools\n
 \n
 See in schedule: https://datatracker.ietf.org/meeting/81/agenda#row-81-2011-07-23-sat-0930-tools-code-sprint\n
END:VEVENT
BEGIN:VEVENT
UID:ietf-81-2238-iepg
SUMMARY:IEPG Meeting
LOCATION:206 B
STATUS:CONFIRMED
CLASS:PUBLIC
DTSTART;TZID=America/Toronto:20110724T100000
DTEND;TZID=America/Toronto:20110724T120000
DTSTAMP:20161222T095707Z
DESCRIPTION:IEPG Meeting\n
 \n
 Session materials: https://datatracker.ietf.org/meeting/81/session/iepg\n
 \n
 See in schedule: https://datatracker.ietf.org/meeting/81/agenda#row-81-2011-07-24-sun-1000-iepg-iepg-meeting\n
END:VEVENT
BEGIN:VEVENT
UID:ietf-81-2237-edu
SUMMARY:Newcomer's Training
LOCATION:206 B
STATUS:CONFIRMED
CLASS:PUBLIC
DTSTART;TZID=America/Toronto:20110724T130000
DTEND;TZID=America/Toronto:20110724T145000
DTSTAMP:20161222T095707Z
DESCRIPTION:Newcomer's Training\n
 \n
 Session materials: https://datatracker.ietf.org/meeting/81/session/edu\n
 \n
 See in schedule: https://datatracker.ietf.org/meeting/81/agenda#row-81-2011-07-24-sun-1300-edu-newcomers-training\n
END:VEVENT
BEGIN:VEVENT
UID:ietf-81-2247-edu
SUMMARY:Newcomer's Training (French)
LOCATION:205 ABC
STATUS:CONFIRMED
CLASS:PUBLIC
DTSTART;TZID=America/Toronto:20110724T130000
DTEND;TZID=America/Toronto:20110724T145000
DTSTAMP:20161222T095707Z
DESCRIPTION:Newcomer's Training (French)\n
 \n
 Session materials: https://datatracker.ietf.org/meeting/81/session/edu\n
 \n
 See in schedule: https://datatracker.ietf.org/meeting/81/agenda#row-81-2011-07-24-sun-1300-edu-newcomers-training-french\n
END:VEVENT
BEGIN:VEVENT
UID:ietf-81-2240-edu
SUMMARY:Working Group Leadership Tutorial
LOCATION:206 A
STATUS:CONFIRMED
CLASS:PUBLIC
DTSTART;TZID=America/Toronto:20110724T130000
DTEND;TZID=America/Toronto:20110724T145000
DTSTAMP:20161222T095707Z
DESCRIPTION:Working Group Leadership Tutorial\n
 \n
 Session materials: https://datatracker.ietf.org/meeting/81/session/edu\n
 \n
 See in schedule: https://datatracker.ietf.org/meeting/81/agenda#row-81-2011-07-24-sun-1300-edu-working-group-leadership-tutorial\n
END:VEVENT
BEGIN:VEVENT
UID:ietf-81-2242-edu
SUMMARY:Apps Area Prepatory Meeting for Internationalization Working Groups
LOCATION:2103
STATUS:CONFIRMED
CLASS:PUBLIC
DTSTART;TZID=America/Toronto:20110724T140000
DTEND;TZID=America/Toronto:20110724T160000
DTSTAMP:20161222T095707Z
DESCRIPTION:Apps Area Prepatory Meeting for Internationalization Working Groups\n
 \n
 Session materials: https://datatracker.ietf.org/meeting/81/session/edu\n
 \n
 See in schedule: https://datatracker.ietf.org/meeting/81/agenda#row-81-2011-07-24-sun-1400-edu-apps-area-prepatory-meeting-for-internationalization-working-groups\n
END:VEVENT
BEGIN:VEVENT
UID:ietf-81-2241-edu
SUMMARY:Bringing New Work to the IETF
LOCATION:206 A
STATUS:CONFIRMED
CLASS:PUBLIC
DTSTART;TZID=America/Toronto:20110724T150000
DTEND;TZID=America/Toronto:20110724T165000
DTSTAMP:20161222T095707Z
DESCRIPTION:Bringing New Work to the IETF\n
 \n
 Session materials: https://datatracker.ietf.org/meeting/81/session/edu\n
 \n
 See in schedule: https://datatracker.ietf.org/meeting/81/agenda#row-81-2011-07-24-sun-1500-edu-bringing-new-work-to-the-ietf\n
END:VEVENT
BEGIN:VEVENT
UID:ietf-81-2239-edu
SUMMARY:Tools for Creating Internet-Drafts Tutorial
LOCATION:206 B
STATUS:CONFIRMED
CLASS:PUBLIC
DTSTART;TZID=America/Toronto:20110724T150000
DTEND;TZID=America/Toronto:20110724T165000
DTSTAMP:20161222T095707Z
DESCRIPTION:Tools for Creating Internet-Drafts Tutorial\n
 \n
 Session materials: https://datatracker.ietf.org/meeting/81/session/edu\n
 \n
 See in schedule: https://datatracker.ietf.org/meeting/81/agenda#row-81-2011-07-24-sun-1500-edu-tools-for-creating-internet-drafts-tutorial\n
END:VEVENT
BEGIN:VEVENT
UID:ietf-81-2230-httpauth
SUMMARY:httpauth - HTTP Authentication Mechanisms (CANCELED)
LOCATION:208 AB
STATUS:CONFIRMED
CLASS:PUBLIC
DTSTART;TZID=America/Toronto:20110725T090000
DTEND;TZID=America/Toronto:20110725T113000
DTSTAMP:20161222T095707Z
DESCRIPTION:Morning Session I\n
 Note: CANCELED\n
 \n
 Session materials: https://datatracker.ietf.org/meeting/81/session/httpauth\n
 \n
 See in schedule: https://datatracker.ietf.org/meeting/81/agenda#row-81-2011-07-25-mon-0900-sec-httpauth\n
END:VEVENT
BEGIN:VEVENT
UID:ietf-81-2226-ietf
SUMMARY:Technical Plenary
LOCATION:200 AB
STATUS:CONFIRMED
CLASS:PUBLIC
DTSTART;TZID=America/Toronto:20110725T163000
DTEND;TZID=America/Toronto:20110725T193000
DTSTAMP:20161222T095707Z
URL:https://datatracker.ietf.org/meeting/81/materials/agenda-81-ietf-technical-plenary
DESCRIPTION:Technical Plenary\n
 \n
 Agenda https://datatracker.ietf.org/meeting/81/materials/agenda-81-ietf-technical-plenary\n
 \n
 Session materials: https://datatracker.ietf.org/meeting/81/session/ietf\n
 \n
 See in schedule: https://datatracker.ietf.org/meeting/81/agenda#row-81-2011-07-25-mon-1630-1plenary-ietf\n
END:VEVENT
BEGIN:VEVENT
UID:ietf-81-2225-ietf
SUMMARY:IETF Operations and Administration Plenary
LOCATION:200 AB
STATUS:CONFIRMED
CLASS:PUBLIC
DTSTART;TZID=America/Toronto:20110727T163000
DTEND;TZID=America/Toronto:20110727T193000
DTSTAMP:20161222T095707Z
URL:https://datatracker.ietf.org/meeting/81/materials/agenda-81-ietf-ietf-operations-and-administration-plenary
DESCRIPTION:IETF Operations and Administration Plenary\n
 \n
 Agenda https://datatracker.ietf.org/meeting/81/materials/agenda-81-ietf-ietf-operations-and-administration-plenary\n
 \n
 Session materials: https://datatracker.ietf.org/meeting/81/session/ietf\n
 \n
 See in schedule: https://datatracker.ietf.org/meeting/81/agenda#row-81-2011-07-27-wed-1630-1plenary-ietf\n
END:VEVENT
END:VCALENDAR
