BEGIN:VCALENDAR
VERSION:2.0
METHOD:PUBLISH
PRODID:-//IETF//datatracker.ietf.org ical agenda//EN
BEGIN:VTIMEZONE
TZID:America/Toronto
X-LIC-LOCATION:America/Toronto
BEGIN:DAYLIGHT
TZOFFSETFROM:-0500
TZOFFSETTO:-0400
TZNAME:EDT
DTSTART:20070311T020000
RRULE:FREQ=YEARLY;BYMONTH=3;BYDAY=2SU
END:DAYLIGHT
BEGIN:STANDARD
TZOFFSETFROM:-0400
TZOFFSETTO:-0500
TZNAME:EST
DTSTART:20071104T020000
RRULE:FREQ=YEARLY;BYMONTH=11;BYDAY=1SU
END:STANDARD
BEGIN:STANDARD
TZOFFSETFROM:-051732
TZOFFSETTO:-0500
TZNAME:EST
DTSTART:18950101T000000
RDATE:18950101T000000
END:STANDARD
BEGIN:DAYLIGHT
TZOFFSETFROM:-0500
TZOFFSETTO:-0400
TZNAME:EDT
DTSTART:19180414T020000
RDATE:19180414T020000
RDATE:19190330T233000
RDATE:19200502T020000
RDATE:19210515T020000
RDATE:19220514T020000
RDATE:19230513T020000
RDATE:19240504T020000
RDATE:19250503T020000
RDATE:19260502T020000
RDATE:19270501T020000
RDATE:19280429T020000
RDATE:19290428T020000
RDATE:19300427T020000
RDATE:19310426T020000
RDATE:19320501T020000
RDATE:19330430T020000
RDATE:19340429T020000
RDATE:19350428T020000
RDATE:19360426T020000
RDATE:19370425T020000
RDATE:19380424T020000
RDATE:19390430T020000
RDATE:19400428T020000
RDATE:19460428T020000
RDATE:19470427T000000
RDATE:19480425T000000
RDATE:19490424T000000
RDATE:19500430T020000
RDATE:19510429T020000
RDATE:19520427T020000
RDATE:19530426T020000
RDATE:19540425T020000
RDATE:19550424T020000
RDATE:19560429T020000
RDATE:19570428T020000
RDATE:19580427T020000
RDATE:19590426T020000
RDATE:19600424T020000
RDATE:19610430T020000
RDATE:19620429T020000
RDATE:19630428T020000
RDATE:19640426T020000
RDATE:19650425T020000
RDATE:19660424T020000
RDATE:19670430T020000
RDATE:19680428T020000
RDATE:19690427T020000
RDATE:19700426T020000
RDATE:19710425T020000
RDATE:19720430T020000
RDATE:19730429T020000
RDATE:19740428T020000
RDATE:19750427T020000
RDATE:19760425T020000
RDATE:19770424T020000
RDATE:19780430T020000
RDATE:19790429T020000
RDATE:19800427T020000
RDATE:19810426T020000
RDATE:19820425T020000
RDATE:19830424T020000
RDATE:19840429T020000
RDATE:19850428T020000
RDATE:19860427T020000
RDATE:19870405T020000
RDATE:19880403T020000
RDATE:19890402T020000
RDATE:19900401T020000
RDATE:19910407T020000
RDATE:19920405T020000
RDATE:19930404T020000
RDATE:19940403T020000
RDATE:19950402T020000
RDATE:19960407T020000
RDATE:19970406T020000
RDATE:19980405T020000
RDATE:19990404T020000
RDATE:20000402T020000
RDATE:20010401T020000
RDATE:20020407T020000
RDATE:20030406T020000
RDATE:20040404T020000
RDATE:20050403T020000
RDATE:20060402T020000
END:DAYLIGHT
BEGIN:STANDARD
TZOFFSETFROM:-0400
TZOFFSETTO:-0500
TZNAME:EST
DTSTART:19181027T020000
RDATE:19181027T020000
RDATE:19191026T000000
RDATE:19200926T000000
RDATE:19210915T020000
RDATE:19220917T020000
RDATE:19230916T020000
RDATE:19240921T020000
RDATE:19250920T020000
RDATE:19260919T020000
RDATE:19270925T020000
RDATE:19280930T020000
RDATE:19290929T020000
RDATE:19300928T020000
RDATE:19310927T020000
RDATE:19320925T020000
RDATE:19331001T020000
RDATE:19340930T020000
RDATE:19350929T020000
RDATE:19360927T020000
RDATE:19370926T020000
RDATE:19380925T020000
RDATE:19390924T020000
RDATE:19450930T020000
RDATE:19460929T020000
RDATE:19470928T000000
RDATE:19480926T000000
RDATE:19491127T000000
RDATE:19501126T020000
RDATE:19510930T020000
RDATE:19520928T020000
RDATE:19530927T020000
RDATE:19540926T020000
RDATE:19550925T020000
RDATE:19560930T020000
RDATE:19571027T020000
RDATE:19581026T020000
RDATE:19591025T020000
RDATE:19601030T020000
RDATE:19611029T020000
RDATE:19621028T020000
RDATE:19631027T020000
RDATE:19641025T020000
RDATE:19651031T020000
RDATE:19661030T020000
RDATE:19671029T020000
RDATE:19681027T020000
RDATE:19691026T020000
RDATE:19701025T020000
RDATE:19711031T020000
RDATE:19721029T020000
RDATE:19731028T020000
RDATE:19741027T020000
RDATE:19751026T020000
RDATE:19761031T020000
RDATE:19771030T020000
RDATE:19781029T020000
RDATE:19791028T020000
RDATE:19801026T020000
RDATE:19811025T020000
RDATE:19821031T020000
RDATE:19831030T020000
RDATE:19841028T020000
RDATE:19851027T020000
RDATE:19861026T020000
RDATE:19871025T020000
RDATE:19881030T020000
RDATE:19891029T020000
RDATE:19901028T020000
RDATE:19911027T020000
RDATE:19921025T020000
RDATE:19931031T020000
RDATE:19941030T020000
RDATE:19951029T020000
RDATE:19961027T020000
RDATE:19971026T020000
RDATE:19981025T020000
RDATE:19991031T020000
RDATE:20001029T020000
RDATE:20011028T020000
RDATE:20021027T020000
RDATE:20031026T020000
RDATE:20041031T020000
RDATE:20051030T020000
RDATE:20061029T020000
END:STANDARD
BEGIN:STANDARD
TZOFFSETFROM:-0500
TZOFFSETTO:-0500
TZNAME:EST
DTSTART:19190101T000000
RDATE:19190101T000000
RDATE:19460101T000000
RDATE:19740101T000000
END:STANDARD
BEGIN:DAYLIGHT
TZOFFSETFROM:-0400
TZOFFSETTO:-0400
TZNAME:EWT
DTSTART:19420209T020000
RDATE:19420209T020000
END:DAYLIGHT
BEGIN:DAYLIGHT
TZOFFSETFROM:-0400
TZOFFSETTO:-0400
TZNAME:EPT
DTSTART:19450814T190000
RDATE:19450814T190000
END:DAYLIGHT
END:VTIMEZONE
BEGIN:VEVENT
UID:ietf-81-2134-radext
SUMMARY:radext - RADIUS EXTensions
LOCATION:2101
STATUS:CONFIRMED
CLASS:PUBLIC
DTSTART;TZID=America/Toronto:20110725T090000
DTEND;TZID=America/Toronto:20110725T113000
DTSTAMP:20161222T095707Z
URL:https://datatracker.ietf.org/meeting/81/materials/agenda-81-radext
DESCRIPTION:Morning Session I\n
 \n
 Agenda https://datatracker.ietf.org/meeting/81/materials/agenda-81-radext\n
 \n
 Session materials: https://datatracker.ietf.org/meeting/81/session/radext\n
 \n
 See in schedule: https://datatracker.ietf.org/meeting/81/agenda#row-81-2011-07-25-mon-0900-ops-radext\n
END:VEVENT
BEGIN:VEVENT
UID:ietf-81-2231-multrans
SUMMARY:multrans - Multicast Transition 
LOCATION:205 ABC
STATUS:CONFIRMED
CLASS:PUBLIC
DTSTART;TZID=America/Toronto:20110725T130000
DTEND;TZID=America/Toronto:20110725T150000
DTSTAMP:20161222T095707Z
URL:https://datatracker.ietf.org/meeting/81/materials/agenda-81-multrans
DESCRIPTION:Afternoon Session I\n
 \n
 Agenda https://datatracker.ietf.org/meeting/81/materials/agenda-81-multrans\n
 \n
 Session materials: https://datatracker.ietf.org/meeting/81/session/multrans\n
 \n
 See in schedule: https://datatracker.ietf.org/meeting/81/agenda#row-81-2011-07-25-mon-1300-ops-multrans\n
END:VEVENT
BEGIN:VEVENT
UID:ietf-81-2211-netconf
SUMMARY:netconf - Network Configuration
LOCATION:2103
STATUS:CONFIRMED
CLASS:PUBLIC
DTSTART;TZID=America/Toronto:20110725T130000
DTEND;TZID=America/Toronto:20110725T150000
DTSTAMP:20161222T095707Z
URL:https://datatracker.ietf.org/meeting/81/materials/agenda-81-netconf
DESCRIPTION:Afternoon Session I\n
 \n
 Agenda https://datatracker.ietf.org/meeting/81/materials/agenda-81-netconf\n
 \n
 Session materials: https://datatracker.ietf.org/meeting/81/session/netconf\n
 \n
 See in schedule: https://datatracker.ietf.org/meeting/81/agenda#row-81-2011-07-25-mon-1300-ops-netconf\n
END:VEVENT
BEGIN:VEVENT
UID:ietf-81-2156-v6ops
SUMMARY:v6ops - IPv6 Operations (Friday Afternoon Session runs until 1515)
LOCATION:205 ABC
STATUS:CONFIRMED
CLASS:PUBLIC
DTSTART;TZID=America/Toronto:20110726T090000
DTEND;TZID=America/Toronto:20110726T113000
DTSTAMP:20161222T095707Z
URL:https://datatracker.ietf.org/meeting/81/materials/agenda-81-v6ops
DESCRIPTION:Morning Session I\n
 Note: Friday Afternoon Session runs until 1515\n
 \n
 Agenda https://datatracker.ietf.org/meeting/81/materials/agenda-81-v6ops\n
 \n
 Session materials: https://datatracker.ietf.org/meeting/81/session/v6ops\n
 \n
 See in schedule: https://datatracker.ietf.org/meeting/81/agenda#row-81-2011-07-26-tue-0900-ops-v6ops\n
END:VEVENT
BEGIN:VEVENT
UID:ietf-81-2176-dnsop
SUMMARY:dnsop - Domain Name System Operations
LOCATION:206 A
STATUS:CONFIRMED
CLASS:PUBLIC
DTSTART;TZID=America/Toronto:20110726T130000
DTEND;TZID=America/Toronto:20110726T150000
DTSTAMP:20161222T095707Z
URL:https://datatracker.ietf.org/meeting/81/materials/agenda-81-dnsop
DESCRIPTION:Afternoon Session I\n
 \n
 Agenda https://datatracker.ietf.org/meeting/81/materials/agenda-81-dnsop\n
 \n
 Session materials: https://datatracker.ietf.org/meeting/81/session/dnsop\n
 \n
 See in schedule: https://datatracker.ietf.org/meeting/81/agenda#row-81-2011-07-26-tue-1300-ops-dnsop\n
END:VEVENT
BEGIN:VEVENT
UID:ietf-81-2213-netmod
SUMMARY:netmod - NETCONF Data Modeling Language
LOCATION:2101
STATUS:CONFIRMED
CLASS:PUBLIC
DTSTART;TZID=America/Toronto:20110726T130000
DTEND;TZID=America/Toronto:20110726T150000
DTSTAMP:20161222T095707Z
URL:https://datatracker.ietf.org/meeting/81/materials/agenda-81-netmod
DESCRIPTION:Afternoon Session I\n
 \n
 Agenda https://datatracker.ietf.org/meeting/81/materials/agenda-81-netmod\n
 \n
 Session materials: https://datatracker.ietf.org/meeting/81/session/netmod\n
 \n
 See in schedule: https://datatracker.ietf.org/meeting/81/agenda#row-81-2011-07-26-tue-1300-ops-netmod\n
END:VEVENT
BEGIN:VEVENT
UID:ietf-81-2155-opsarea
SUMMARY:opsarea - Operations & Management Area Open Meeting (Combined with OPSAWG)
LOCATION:2101
STATUS:CONFIRMED
CLASS:PUBLIC
DTSTART;TZID=America/Toronto:20110727T090000
DTEND;TZID=America/Toronto:20110727T113000
DTSTAMP:20161222T095707Z
URL:https://datatracker.ietf.org/meeting/81/materials/agenda-81-opsarea
DESCRIPTION:Morning Session I\n
 Note: Combined with OPSAWG\n
 \n
 Agenda https://datatracker.ietf.org/meeting/81/materials/agenda-81-opsarea\n
 \n
 Session materials: https://datatracker.ietf.org/meeting/81/session/opsarea\n
 \n
 See in schedule: https://datatracker.ietf.org/meeting/81/agenda#row-81-2011-07-27-wed-0900-ops-opsarea\n
END:VEVENT
BEGIN:VEVENT
UID:ietf-81-2178-opsawg
SUMMARY:opsawg - Operations and Management Area Working Group (Combined with OPSAREA)
LOCATION:2101
STATUS:CONFIRMED
CLASS:PUBLIC
DTSTART;TZID=America/Toronto:20110727T090000
DTEND;TZID=America/Toronto:20110727T113000
DTSTAMP:20161222T095707Z
URL:https://datatracker.ietf.org/meeting/81/materials/agenda-81-opsawg
DESCRIPTION:Morning Session I\n
 Note: Combined with OPSAREA\n
 \n
 Agenda https://datatracker.ietf.org/meeting/81/materials/agenda-81-opsawg\n
 \n
 Session materials: https://datatracker.ietf.org/meeting/81/session/opsawg\n
 \n
 See in schedule: https://datatracker.ietf.org/meeting/81/agenda#row-81-2011-07-27-wed-0900-ops-opsawg\n
END:VEVENT
BEGIN:VEVENT
UID:ietf-81-2118-ipfix
SUMMARY:ipfix - IP Flow Information Export
LOCATION:2101
STATUS:CONFIRMED
CLASS:PUBLIC
DTSTART;TZID=America/Toronto:20110727T130000
DTEND;TZID=America/Toronto:20110727T150000
DTSTAMP:20161222T095707Z
URL:https://datatracker.ietf.org/meeting/81/materials/agenda-81-ipfix
DESCRIPTION:Afternoon Session I\n
 \n
 Agenda https://datatracker.ietf.org/meeting/81/materials/agenda-81-ipfix\n
 \n
 Session materials: https://datatracker.ietf.org/meeting/81/session/ipfix\n
 \n
 See in schedule: https://datatracker.ietf.org/meeting/81/agenda#row-81-2011-07-27-wed-1300-ops-ipfix\n
END:VEVENT
BEGIN:VEVENT
UID:ietf-81-2236-6renum
SUMMARY:6renum - IPv6 Site Renumbering
LOCATION:206 A
STATUS:CONFIRMED
CLASS:PUBLIC
DTSTART;TZID=America/Toronto:20110727T151000
DTEND;TZID=America/Toronto:20110727T161000
DTSTAMP:20161222T095707Z
URL:https://datatracker.ietf.org/meeting/81/materials/agenda-81-6renum
DESCRIPTION:Afternoon Session II\n
 \n
 Agenda https://datatracker.ietf.org/meeting/81/materials/agenda-81-6renum\n
 \n
 Session materials: https://datatracker.ietf.org/meeting/81/session/6renum\n
 \n
 See in schedule: https://datatracker.ietf.org/meeting/81/agenda#row-81-2011-07-27-wed-1510-ops-6renum\n
END:VEVENT
BEGIN:VEVENT
UID:ietf-81-2208-mboned
SUMMARY:mboned - MBONE Deployment
LOCATION:208 AB
STATUS:CONFIRMED
CLASS:PUBLIC
DTSTART;TZID=America/Toronto:20110728T090000
DTEND;TZID=America/Toronto:20110728T113000
DTSTAMP:20161222T095707Z
URL:https://datatracker.ietf.org/meeting/81/materials/agenda-81-mboned
DESCRIPTION:Morning Session I\n
 \n
 Agenda https://datatracker.ietf.org/meeting/81/materials/agenda-81-mboned\n
 \n
 Session materials: https://datatracker.ietf.org/meeting/81/session/mboned\n
 \n
 See in schedule: https://datatracker.ietf.org/meeting/81/agenda#row-81-2011-07-28-thu-0900-ops-mboned\n
END:VEVENT
BEGIN:VEVENT
UID:ietf-81-2154-bmwg
SUMMARY:bmwg - Benchmarking Methodology
LOCATION:2101
STATUS:CONFIRMED
CLASS:PUBLIC
DTSTART;TZID=America/Toronto:20110728T130000
DTEND;TZID=America/Toronto:20110728T150000
DTSTAMP:20161222T095707Z
URL:https://datatracker.ietf.org/meeting/81/materials/agenda-81-bmwg
DESCRIPTION:Afternoon Session I\n
 \n
 Agenda https://datatracker.ietf.org/meeting/81/materials/agenda-81-bmwg\n
 \n
 Session materials: https://datatracker.ietf.org/meeting/81/session/bmwg\n
 \n
 See in schedule: https://datatracker.ietf.org/meeting/81/agenda#row-81-2011-07-28-thu-1300-ops-bmwg\n
END:VEVENT
BEGIN:VEVENT
UID:ietf-81-2219-dime
SUMMARY:dime - Diameter Maintenance and Extensions
LOCATION:2103
STATUS:CONFIRMED
CLASS:PUBLIC
DTSTART;TZID=America/Toronto:20110728T130000
DTEND;TZID=America/Toronto:20110728T150000
DTSTAMP:20161222T095707Z
URL:https://datatracker.ietf.org/meeting/81/materials/agenda-81-dime
DESCRIPTION:Afternoon Session I\n
 \n
 Agenda https://datatracker.ietf.org/meeting/81/materials/agenda-81-dime\n
 \n
 Session materials: https://datatracker.ietf.org/meeting/81/session/dime\n
 \n
 See in schedule: https://datatracker.ietf.org/meeting/81/agenda#row-81-2011-07-28-thu-1300-ops-dime\n
END:VEVENT
BEGIN:VEVENT
UID:ietf-81-2157-v6ops
SUMMARY:v6ops - IPv6 Operations (Friday Afternoon Session runs until 1515)
LOCATION:205 ABC
STATUS:CONFIRMED
CLASS:PUBLIC
DTSTART;TZID=America/Toronto:20110728T152000
DTEND;TZID=America/Toronto:20110728T172000
DTSTAMP:20161222T095707Z
URL:https://datatracker.ietf.org/meeting/81/materials/agenda-81-v6ops
DESCRIPTION:Afternoon Session II\n
 Note: Friday Afternoon Session runs until 1515\n
 \n
 Agenda https://datatracker.ietf.org/meeting/81/materials/agenda-81-v6ops\n
 \n
 Session materials: https://datatracker.ietf.org/meeting/81/session/v6ops\n
 \n
 See in schedule: https://datatracker.ietf.org/meeting/81/agenda#row-81-2011-07-28-thu-1520-ops-v6ops\n
END:VEVENT
BEGIN:VEVENT
UID:ietf-81-2215-eman
SUMMARY:eman - Energy Management
LOCATION:204 B
STATUS:CONFIRMED
CLASS:PUBLIC
DTSTART;TZID=America/Toronto:20110728T174000
DTEND;TZID=America/Toronto:20110728T194000
DTSTAMP:20161222T095707Z
URL:https://datatracker.ietf.org/meeting/81/materials/agenda-81-eman
DESCRIPTION:Afternoon Session III\n
 \n
 Agenda https://datatracker.ietf.org/meeting/81/materials/agenda-81-eman\n
 \n
 Session materials: https://datatracker.ietf.org/meeting/81/session/eman\n
 \n
 See in schedule: https://datatracker.ietf.org/meeting/81/agenda#row-81-2011-07-28-thu-1740-ops-eman\n
END:VEVENT
BEGIN:VEVENT
UID:ietf-81-2209-armd
SUMMARY:armd - Address Resolution for Massive numbers of hosts in the Data center
LOCATION:205 ABC
STATUS:CONFIRMED
CLASS:PUBLIC
DTSTART;TZID=America/Toronto:20110729T090000
DTEND;TZID=America/Toronto:20110729T113000
DTSTAMP:20161222T095707Z
URL:https://datatracker.ietf.org/meeting/81/materials/agenda-81-armd
DESCRIPTION:Morning Session I\n
 \n
 Agenda https://datatracker.ietf.org/meeting/81/materials/agenda-81-armd\n
 \n
 Session materials: https://datatracker.ietf.org/meeting/81/session/armd\n
 \n
 See in schedule: https://datatracker.ietf.org/meeting/81/agenda#row-81-2011-07-29-fri-0900-ops-armd\n
END:VEVENT
BEGIN:VEVENT
UID:ietf-81-2158-v6ops
SUMMARY:v6ops - IPv6 Operations (Friday Afternoon Session runs until 1515)
LOCATION:205 ABC
STATUS:CONFIRMED
CLASS:PUBLIC
DTSTART;TZID=America/Toronto:20110729T130000
DTEND;TZID=America/Toronto:20110729T140000
DTSTAMP:20161222T095707Z
URL:https://datatracker.ietf.org/meeting/81/materials/agenda-81-v6ops
DESCRIPTION:Afternoon Session I\n
 Note: Friday Afternoon Session runs until 1515\n
 \n
 Agenda https://datatracker.ietf.org/meeting/81/materials/agenda-81-v6ops\n
 \n
 Session materials: https://datatracker.ietf.org/meeting/81/session/v6ops\n
 \n
 See in schedule: https://datatracker.ietf.org/meeting/81/agenda#row-81-2011-07-29-fri-1300-ops-v6ops\n
END:VEVENT
END:VCALENDAR
