BEGIN:VCALENDAR
VERSION:2.0
METHOD:PUBLISH
PRODID:-//IETF//datatracker.ietf.org ical agenda//EN
BEGIN:VTIMEZONE
TZID:America/Toronto
X-LIC-LOCATION:America/Toronto
BEGIN:DAYLIGHT
TZOFFSETFROM:-0500
TZOFFSETTO:-0400
TZNAME:EDT
DTSTART:20070311T020000
RRULE:FREQ=YEARLY;BYMONTH=3;BYDAY=2SU
END:DAYLIGHT
BEGIN:STANDARD
TZOFFSETFROM:-0400
TZOFFSETTO:-0500
TZNAME:EST
DTSTART:20071104T020000
RRULE:FREQ=YEARLY;BYMONTH=11;BYDAY=1SU
END:STANDARD
BEGIN:STANDARD
TZOFFSETFROM:-051732
TZOFFSETTO:-0500
TZNAME:EST
DTSTART:18950101T000000
RDATE:18950101T000000
END:STANDARD
BEGIN:DAYLIGHT
TZOFFSETFROM:-0500
TZOFFSETTO:-0400
TZNAME:EDT
DTSTART:19180414T020000
RDATE:19180414T020000
RDATE:19190330T233000
RDATE:19200502T020000
RDATE:19210515T020000
RDATE:19220514T020000
RDATE:19230513T020000
RDATE:19240504T020000
RDATE:19250503T020000
RDATE:19260502T020000
RDATE:19270501T020000
RDATE:19280429T020000
RDATE:19290428T020000
RDATE:19300427T020000
RDATE:19310426T020000
RDATE:19320501T020000
RDATE:19330430T020000
RDATE:19340429T020000
RDATE:19350428T020000
RDATE:19360426T020000
RDATE:19370425T020000
RDATE:19380424T020000
RDATE:19390430T020000
RDATE:19400428T020000
RDATE:19460428T020000
RDATE:19470427T000000
RDATE:19480425T000000
RDATE:19490424T000000
RDATE:19500430T020000
RDATE:19510429T020000
RDATE:19520427T020000
RDATE:19530426T020000
RDATE:19540425T020000
RDATE:19550424T020000
RDATE:19560429T020000
RDATE:19570428T020000
RDATE:19580427T020000
RDATE:19590426T020000
RDATE:19600424T020000
RDATE:19610430T020000
RDATE:19620429T020000
RDATE:19630428T020000
RDATE:19640426T020000
RDATE:19650425T020000
RDATE:19660424T020000
RDATE:19670430T020000
RDATE:19680428T020000
RDATE:19690427T020000
RDATE:19700426T020000
RDATE:19710425T020000
RDATE:19720430T020000
RDATE:19730429T020000
RDATE:19740428T020000
RDATE:19750427T020000
RDATE:19760425T020000
RDATE:19770424T020000
RDATE:19780430T020000
RDATE:19790429T020000
RDATE:19800427T020000
RDATE:19810426T020000
RDATE:19820425T020000
RDATE:19830424T020000
RDATE:19840429T020000
RDATE:19850428T020000
RDATE:19860427T020000
RDATE:19870405T020000
RDATE:19880403T020000
RDATE:19890402T020000
RDATE:19900401T020000
RDATE:19910407T020000
RDATE:19920405T020000
RDATE:19930404T020000
RDATE:19940403T020000
RDATE:19950402T020000
RDATE:19960407T020000
RDATE:19970406T020000
RDATE:19980405T020000
RDATE:19990404T020000
RDATE:20000402T020000
RDATE:20010401T020000
RDATE:20020407T020000
RDATE:20030406T020000
RDATE:20040404T020000
RDATE:20050403T020000
RDATE:20060402T020000
END:DAYLIGHT
BEGIN:STANDARD
TZOFFSETFROM:-0400
TZOFFSETTO:-0500
TZNAME:EST
DTSTART:19181027T020000
RDATE:19181027T020000
RDATE:19191026T000000
RDATE:19200926T000000
RDATE:19210915T020000
RDATE:19220917T020000
RDATE:19230916T020000
RDATE:19240921T020000
RDATE:19250920T020000
RDATE:19260919T020000
RDATE:19270925T020000
RDATE:19280930T020000
RDATE:19290929T020000
RDATE:19300928T020000
RDATE:19310927T020000
RDATE:19320925T020000
RDATE:19331001T020000
RDATE:19340930T020000
RDATE:19350929T020000
RDATE:19360927T020000
RDATE:19370926T020000
RDATE:19380925T020000
RDATE:19390924T020000
RDATE:19450930T020000
RDATE:19460929T020000
RDATE:19470928T000000
RDATE:19480926T000000
RDATE:19491127T000000
RDATE:19501126T020000
RDATE:19510930T020000
RDATE:19520928T020000
RDATE:19530927T020000
RDATE:19540926T020000
RDATE:19550925T020000
RDATE:19560930T020000
RDATE:19571027T020000
RDATE:19581026T020000
RDATE:19591025T020000
RDATE:19601030T020000
RDATE:19611029T020000
RDATE:19621028T020000
RDATE:19631027T020000
RDATE:19641025T020000
RDATE:19651031T020000
RDATE:19661030T020000
RDATE:19671029T020000
RDATE:19681027T020000
RDATE:19691026T020000
RDATE:19701025T020000
RDATE:19711031T020000
RDATE:19721029T020000
RDATE:19731028T020000
RDATE:19741027T020000
RDATE:19751026T020000
RDATE:19761031T020000
RDATE:19771030T020000
RDATE:19781029T020000
RDATE:19791028T020000
RDATE:19801026T020000
RDATE:19811025T020000
RDATE:19821031T020000
RDATE:19831030T020000
RDATE:19841028T020000
RDATE:19851027T020000
RDATE:19861026T020000
RDATE:19871025T020000
RDATE:19881030T020000
RDATE:19891029T020000
RDATE:19901028T020000
RDATE:19911027T020000
RDATE:19921025T020000
RDATE:19931031T020000
RDATE:19941030T020000
RDATE:19951029T020000
RDATE:19961027T020000
RDATE:19971026T020000
RDATE:19981025T020000
RDATE:19991031T020000
RDATE:20001029T020000
RDATE:20011028T020000
RDATE:20021027T020000
RDATE:20031026T020000
RDATE:20041031T020000
RDATE:20051030T020000
RDATE:20061029T020000
END:STANDARD
BEGIN:STANDARD
TZOFFSETFROM:-0500
TZOFFSETTO:-0500
TZNAME:EST
DTSTART:19190101T000000
RDATE:19190101T000000
RDATE:19460101T000000
RDATE:19740101T000000
END:STANDARD
BEGIN:DAYLIGHT
TZOFFSETFROM:-0400
TZOFFSETTO:-0400
TZNAME:EWT
DTSTART:19420209T020000
RDATE:19420209T020000
END:DAYLIGHT
BEGIN:DAYLIGHT
TZOFFSETFROM:-0400
TZOFFSETTO:-0400
TZNAME:EPT
DTSTART:19450814T190000
RDATE:19450814T190000
END:DAYLIGHT
END:VTIMEZONE
BEGIN:VEVENT
UID:ietf-81-2175-dispatch
SUMMARY:dispatch - Dispatch
LOCATION:205 ABC
STATUS:CONFIRMED
CLASS:PUBLIC
DTSTART;TZID=America/Toronto:20110725T090000
DTEND;TZID=America/Toronto:20110725T113000
DTSTAMP:20161222T095707Z
URL:https://datatracker.ietf.org/meeting/81/materials/agenda-81-dispatch
DESCRIPTION:Morning Session I\n
 \n
 Agenda https://datatracker.ietf.org/meeting/81/materials/agenda-81-dispatch\n
 \n
 Session materials: https://datatracker.ietf.org/meeting/81/session/dispatch\n
 \n
 See in schedule: https://datatracker.ietf.org/meeting/81/agenda#row-81-2011-07-25-mon-0900-rai-dispatch\n
END:VEVENT
BEGIN:VEVENT
UID:ietf-81-2114-ecrit
SUMMARY:ecrit - Emergency Context Resolution with Internet Technologies
LOCATION:206 A
STATUS:CONFIRMED
CLASS:PUBLIC
DTSTART;TZID=America/Toronto:20110725T130000
DTEND;TZID=America/Toronto:20110725T150000
DTSTAMP:20161222T095707Z
URL:https://datatracker.ietf.org/meeting/81/materials/agenda-81-ecrit
DESCRIPTION:Afternoon Session I\n
 \n
 Agenda https://datatracker.ietf.org/meeting/81/materials/agenda-81-ecrit\n
 \n
 Session materials: https://datatracker.ietf.org/meeting/81/session/ecrit\n
 \n
 See in schedule: https://datatracker.ietf.org/meeting/81/agenda#row-81-2011-07-25-mon-1300-rai-ecrit\n
END:VEVENT
BEGIN:VEVENT
UID:ietf-81-2179-sipcore
SUMMARY:sipcore - Session Initiation Protocol Core
LOCATION:206 A
STATUS:CONFIRMED
CLASS:PUBLIC
DTSTART;TZID=America/Toronto:20110725T151000
DTEND;TZID=America/Toronto:20110725T161000
DTSTAMP:20161222T095707Z
URL:https://datatracker.ietf.org/meeting/81/materials/agenda-81-sipcore
DESCRIPTION:Afternoon Session II\n
 \n
 Agenda https://datatracker.ietf.org/meeting/81/materials/agenda-81-sipcore\n
 \n
 Session materials: https://datatracker.ietf.org/meeting/81/session/sipcore\n
 \n
 See in schedule: https://datatracker.ietf.org/meeting/81/agenda#row-81-2011-07-25-mon-1510-rai-sipcore\n
END:VEVENT
BEGIN:VEVENT
UID:ietf-81-2193-xmpp
SUMMARY:xmpp - Extensible Messaging and Presence Protocol (Combined with GEOPRIV)
LOCATION:206 A
STATUS:CONFIRMED
CLASS:PUBLIC
DTSTART;TZID=America/Toronto:20110726T090000
DTEND;TZID=America/Toronto:20110726T113000
DTSTAMP:20161222T095707Z
URL:https://datatracker.ietf.org/meeting/81/materials/agenda-81-xmpp
DESCRIPTION:Morning Session I\n
 Note: Combined with GEOPRIV\n
 \n
 Agenda https://datatracker.ietf.org/meeting/81/materials/agenda-81-xmpp\n
 \n
 Session materials: https://datatracker.ietf.org/meeting/81/session/xmpp\n
 \n
 See in schedule: https://datatracker.ietf.org/meeting/81/agenda#row-81-2011-07-26-tue-0900-rai-xmpp\n
END:VEVENT
BEGIN:VEVENT
UID:ietf-81-2113-geopriv
SUMMARY:geopriv - Geographic Location/Privacy (Combined with XMPP)
LOCATION:206 A
STATUS:CONFIRMED
CLASS:PUBLIC
DTSTART;TZID=America/Toronto:20110726T090000
DTEND;TZID=America/Toronto:20110726T113000
DTSTAMP:20161222T095707Z
URL:https://datatracker.ietf.org/meeting/81/materials/agenda-81-geopriv
DESCRIPTION:Morning Session I\n
 Note: Combined with XMPP\n
 \n
 Agenda https://datatracker.ietf.org/meeting/81/materials/agenda-81-geopriv\n
 \n
 Session materials: https://datatracker.ietf.org/meeting/81/session/geopriv\n
 \n
 See in schedule: https://datatracker.ietf.org/meeting/81/agenda#row-81-2011-07-26-tue-0900-rai-geopriv\n
END:VEVENT
BEGIN:VEVENT
UID:ietf-81-2198-rtcweb
SUMMARY:rtcweb - Real-Time Communication in WEB-browsers
LOCATION:205 ABC
STATUS:CONFIRMED
CLASS:PUBLIC
DTSTART;TZID=America/Toronto:20110726T130000
DTEND;TZID=America/Toronto:20110726T150000
DTSTAMP:20161222T095707Z
URL:https://datatracker.ietf.org/meeting/81/materials/agenda-81-rtcweb
DESCRIPTION:Afternoon Session I\n
 \n
 Agenda https://datatracker.ietf.org/meeting/81/materials/agenda-81-rtcweb\n
 \n
 Session materials: https://datatracker.ietf.org/meeting/81/session/rtcweb\n
 \n
 See in schedule: https://datatracker.ietf.org/meeting/81/agenda#row-81-2011-07-26-tue-1300-rai-rtcweb\n
END:VEVENT
BEGIN:VEVENT
UID:ietf-81-2188-drinks
SUMMARY:drinks - Data for Reachability of Inter/tra-NetworK SIP
LOCATION:2103
STATUS:CONFIRMED
CLASS:PUBLIC
DTSTART;TZID=America/Toronto:20110726T152000
DTEND;TZID=America/Toronto:20110726T170000
DTSTAMP:20161222T095707Z
URL:https://datatracker.ietf.org/meeting/81/materials/agenda-81-drinks
DESCRIPTION:Afternoon Session II\n
 \n
 Agenda https://datatracker.ietf.org/meeting/81/materials/agenda-81-drinks\n
 \n
 Session materials: https://datatracker.ietf.org/meeting/81/session/drinks\n
 \n
 See in schedule: https://datatracker.ietf.org/meeting/81/agenda#row-81-2011-07-26-tue-1520-rai-drinks\n
END:VEVENT
BEGIN:VEVENT
UID:ietf-81-2168-soc
SUMMARY:soc - SIP Overload Control
LOCATION:204 B
STATUS:CONFIRMED
CLASS:PUBLIC
DTSTART;TZID=America/Toronto:20110726T152000
DTEND;TZID=America/Toronto:20110726T170000
DTSTAMP:20161222T095707Z
URL:https://datatracker.ietf.org/meeting/81/materials/agenda-81-soc
DESCRIPTION:Afternoon Session II\n
 \n
 Agenda https://datatracker.ietf.org/meeting/81/materials/agenda-81-soc\n
 \n
 Session materials: https://datatracker.ietf.org/meeting/81/session/soc\n
 \n
 See in schedule: https://datatracker.ietf.org/meeting/81/agenda#row-81-2011-07-26-tue-1520-rai-soc\n
END:VEVENT
BEGIN:VEVENT
UID:ietf-81-2135-raiarea
SUMMARY:raiarea - Real-time Applications and Infrastructure Area Open Meeting
LOCATION:206 B
STATUS:CONFIRMED
CLASS:PUBLIC
DTSTART;TZID=America/Toronto:20110726T171000
DTEND;TZID=America/Toronto:20110726T181000
DTSTAMP:20161222T095707Z
URL:https://datatracker.ietf.org/meeting/81/materials/agenda-81-raiarea
DESCRIPTION:Afternoon Session III\n
 \n
 Agenda https://datatracker.ietf.org/meeting/81/materials/agenda-81-raiarea\n
 \n
 Session materials: https://datatracker.ietf.org/meeting/81/session/raiarea\n
 \n
 See in schedule: https://datatracker.ietf.org/meeting/81/agenda#row-81-2011-07-26-tue-1710-rai-raiarea\n
END:VEVENT
BEGIN:VEVENT
UID:ietf-81-2214-avtcore
SUMMARY:avtcore - Audio/Video Transport Core Maintenance
LOCATION:208 AB
STATUS:CONFIRMED
CLASS:PUBLIC
DTSTART;TZID=America/Toronto:20110727T090000
DTEND;TZID=America/Toronto:20110727T113000
DTSTAMP:20161222T095707Z
URL:https://datatracker.ietf.org/meeting/81/materials/agenda-81-avtcore
DESCRIPTION:Morning Session I\n
 \n
 Agenda https://datatracker.ietf.org/meeting/81/materials/agenda-81-avtcore\n
 \n
 Session materials: https://datatracker.ietf.org/meeting/81/session/avtcore\n
 \n
 See in schedule: https://datatracker.ietf.org/meeting/81/agenda#row-81-2011-07-27-wed-0900-rai-avtcore\n
END:VEVENT
BEGIN:VEVENT
UID:ietf-81-2159-cuss
SUMMARY:cuss - Call Control UUI Service for SIP
LOCATION:204 B
STATUS:CONFIRMED
CLASS:PUBLIC
DTSTART;TZID=America/Toronto:20110727T130000
DTEND;TZID=America/Toronto:20110727T150000
DTSTAMP:20161222T095707Z
URL:https://datatracker.ietf.org/meeting/81/materials/agenda-81-cuss
DESCRIPTION:Afternoon Session I\n
 \n
 Agenda https://datatracker.ietf.org/meeting/81/materials/agenda-81-cuss\n
 \n
 Session materials: https://datatracker.ietf.org/meeting/81/session/cuss\n
 \n
 See in schedule: https://datatracker.ietf.org/meeting/81/agenda#row-81-2011-07-27-wed-1300-rai-cuss\n
END:VEVENT
BEGIN:VEVENT
UID:ietf-81-2153-avtext
SUMMARY:avtext - Audio/Video Transport Extensions
LOCATION:205 ABC
STATUS:CONFIRMED
CLASS:PUBLIC
DTSTART;TZID=America/Toronto:20110727T151000
DTEND;TZID=America/Toronto:20110727T161000
DTSTAMP:20161222T095707Z
URL:https://datatracker.ietf.org/meeting/81/materials/agenda-81-avtext
DESCRIPTION:Afternoon Session II\n
 \n
 Agenda https://datatracker.ietf.org/meeting/81/materials/agenda-81-avtext\n
 \n
 Session materials: https://datatracker.ietf.org/meeting/81/session/avtext\n
 \n
 See in schedule: https://datatracker.ietf.org/meeting/81/agenda#row-81-2011-07-27-wed-1510-rai-avtext\n
END:VEVENT
BEGIN:VEVENT
UID:ietf-81-2174-clue
SUMMARY:clue - ControLling mUltiple streams for tElepresence
LOCATION:206 A
STATUS:CONFIRMED
CLASS:PUBLIC
DTSTART;TZID=America/Toronto:20110728T090000
DTEND;TZID=America/Toronto:20110728T113000
DTSTAMP:20161222T095707Z
URL:https://datatracker.ietf.org/meeting/81/materials/agenda-81-clue
DESCRIPTION:Morning Session I\n
 \n
 Agenda https://datatracker.ietf.org/meeting/81/materials/agenda-81-clue\n
 \n
 Session materials: https://datatracker.ietf.org/meeting/81/session/clue\n
 \n
 See in schedule: https://datatracker.ietf.org/meeting/81/agenda#row-81-2011-07-28-thu-0900-rai-clue\n
END:VEVENT
BEGIN:VEVENT
UID:ietf-81-2199-rtcweb
SUMMARY:rtcweb - Real-Time Communication in WEB-browsers
LOCATION:205 ABC
STATUS:CONFIRMED
CLASS:PUBLIC
DTSTART;TZID=America/Toronto:20110728T130000
DTEND;TZID=America/Toronto:20110728T150000
DTSTAMP:20161222T095707Z
URL:https://datatracker.ietf.org/meeting/81/materials/agenda-81-rtcweb
DESCRIPTION:Afternoon Session I\n
 \n
 Agenda https://datatracker.ietf.org/meeting/81/materials/agenda-81-rtcweb\n
 \n
 Session materials: https://datatracker.ietf.org/meeting/81/session/rtcweb\n
 \n
 See in schedule: https://datatracker.ietf.org/meeting/81/agenda#row-81-2011-07-28-thu-1300-rai-rtcweb\n
END:VEVENT
BEGIN:VEVENT
UID:ietf-81-2126-siprec
SUMMARY:siprec - SIP Recording
LOCATION:2101
STATUS:CONFIRMED
CLASS:PUBLIC
DTSTART;TZID=America/Toronto:20110728T152000
DTEND;TZID=America/Toronto:20110728T172000
DTSTAMP:20161222T095707Z
URL:https://datatracker.ietf.org/meeting/81/materials/agenda-81-siprec
DESCRIPTION:Afternoon Session II\n
 \n
 Agenda https://datatracker.ietf.org/meeting/81/materials/agenda-81-siprec\n
 \n
 Session materials: https://datatracker.ietf.org/meeting/81/session/siprec\n
 \n
 See in schedule: https://datatracker.ietf.org/meeting/81/agenda#row-81-2011-07-28-thu-1520-rai-siprec\n
END:VEVENT
BEGIN:VEVENT
UID:ietf-81-2197-codec
SUMMARY:codec - Internet Wideband Audio Codec
LOCATION:206 A
STATUS:CONFIRMED
CLASS:PUBLIC
DTSTART;TZID=America/Toronto:20110728T174000
DTEND;TZID=America/Toronto:20110728T194000
DTSTAMP:20161222T095707Z
URL:https://datatracker.ietf.org/meeting/81/materials/agenda-81-codec
DESCRIPTION:Afternoon Session III\n
 \n
 Agenda https://datatracker.ietf.org/meeting/81/materials/agenda-81-codec\n
 \n
 Session materials: https://datatracker.ietf.org/meeting/81/session/codec\n
 \n
 See in schedule: https://datatracker.ietf.org/meeting/81/agenda#row-81-2011-07-28-thu-1740-rai-codec\n
END:VEVENT
BEGIN:VEVENT
UID:ietf-81-2120-mmusic
SUMMARY:mmusic - Multiparty Multimedia Session Control
LOCATION:206 A
STATUS:CONFIRMED
CLASS:PUBLIC
DTSTART;TZID=America/Toronto:20110729T090000
DTEND;TZID=America/Toronto:20110729T113000
DTSTAMP:20161222T095707Z
URL:https://datatracker.ietf.org/meeting/81/materials/agenda-81-mmusic
DESCRIPTION:Morning Session I\n
 \n
 Agenda https://datatracker.ietf.org/meeting/81/materials/agenda-81-mmusic\n
 \n
 Session materials: https://datatracker.ietf.org/meeting/81/session/mmusic\n
 \n
 See in schedule: https://datatracker.ietf.org/meeting/81/agenda#row-81-2011-07-29-fri-0900-rai-mmusic\n
END:VEVENT
BEGIN:VEVENT
UID:ietf-81-2115-p2psip
SUMMARY:p2psip - Peer-to-Peer Session Initiation Protocol
LOCATION:202
STATUS:CONFIRMED
CLASS:PUBLIC
DTSTART;TZID=America/Toronto:20110729T090000
DTEND;TZID=America/Toronto:20110729T113000
DTSTAMP:20161222T095707Z
URL:https://datatracker.ietf.org/meeting/81/materials/agenda-81-p2psip
DESCRIPTION:Morning Session I\n
 \n
 Agenda https://datatracker.ietf.org/meeting/81/materials/agenda-81-p2psip\n
 \n
 Session materials: https://datatracker.ietf.org/meeting/81/session/p2psip\n
 \n
 See in schedule: https://datatracker.ietf.org/meeting/81/agenda#row-81-2011-07-29-fri-0900-rai-p2psip\n
END:VEVENT
BEGIN:VEVENT
UID:ietf-81-2184-atoca
SUMMARY:atoca - Authority-to-Citizen Alert
LOCATION:204 B
STATUS:CONFIRMED
CLASS:PUBLIC
DTSTART;TZID=America/Toronto:20110729T130000
DTEND;TZID=America/Toronto:20110729T140000
DTSTAMP:20161222T095707Z
URL:https://datatracker.ietf.org/meeting/81/materials/agenda-81-atoca
DESCRIPTION:Afternoon Session I\n
 \n
 Agenda https://datatracker.ietf.org/meeting/81/materials/agenda-81-atoca\n
 \n
 Session materials: https://datatracker.ietf.org/meeting/81/session/atoca\n
 \n
 See in schedule: https://datatracker.ietf.org/meeting/81/agenda#row-81-2011-07-29-fri-1300-rai-atoca\n
END:VEVENT
BEGIN:VEVENT
UID:ietf-81-2220-vipr
SUMMARY:vipr - Verification Involving PSTN Reachability
LOCATION:202
STATUS:CONFIRMED
CLASS:PUBLIC
DTSTART;TZID=America/Toronto:20110729T130000
DTEND;TZID=America/Toronto:20110729T140000
DTSTAMP:20161222T095707Z
URL:https://datatracker.ietf.org/meeting/81/materials/agenda-81-vipr
DESCRIPTION:Afternoon Session I\n
 \n
 Agenda https://datatracker.ietf.org/meeting/81/materials/agenda-81-vipr\n
 \n
 Session materials: https://datatracker.ietf.org/meeting/81/session/vipr\n
 \n
 See in schedule: https://datatracker.ietf.org/meeting/81/agenda#row-81-2011-07-29-fri-1300-rai-vipr\n
END:VEVENT
BEGIN:VEVENT
UID:ietf-81-2210-simple
SUMMARY:simple - SIP for Instant Messaging and Presence Leveraging Extensions
LOCATION:204 B
STATUS:CONFIRMED
CLASS:PUBLIC
DTSTART;TZID=America/Toronto:20110729T141500
DTEND;TZID=America/Toronto:20110729T151500
DTSTAMP:20161222T095707Z
URL:https://datatracker.ietf.org/meeting/81/materials/agenda-81-simple
DESCRIPTION:Afternoon Session II\n
 \n
 Agenda https://datatracker.ietf.org/meeting/81/materials/agenda-81-simple\n
 \n
 Session materials: https://datatracker.ietf.org/meeting/81/session/simple\n
 \n
 See in schedule: https://datatracker.ietf.org/meeting/81/agenda#row-81-2011-07-29-fri-1415-rai-simple\n
END:VEVENT
BEGIN:VEVENT
UID:ietf-81-2190-splices
SUMMARY:splices - looSely-couPLed sIp deviCES
LOCATION:2101
STATUS:CONFIRMED
CLASS:PUBLIC
DTSTART;TZID=America/Toronto:20110729T141500
DTEND;TZID=America/Toronto:20110729T151500
DTSTAMP:20161222T095707Z
URL:https://datatracker.ietf.org/meeting/81/materials/agenda-81-splices
DESCRIPTION:Afternoon Session II\n
 \n
 Agenda https://datatracker.ietf.org/meeting/81/materials/agenda-81-splices\n
 \n
 Session materials: https://datatracker.ietf.org/meeting/81/session/splices\n
 \n
 See in schedule: https://datatracker.ietf.org/meeting/81/agenda#row-81-2011-07-29-fri-1415-rai-splices\n
END:VEVENT
END:VCALENDAR
