BEGIN:VCALENDAR
VERSION:2.0
METHOD:PUBLISH
PRODID:-//IETF//datatracker.ietf.org ical agenda//EN
BEGIN:VTIMEZONE
TZID:America/Toronto
X-LIC-LOCATION:America/Toronto
BEGIN:DAYLIGHT
TZOFFSETFROM:-0500
TZOFFSETTO:-0400
TZNAME:EDT
DTSTART:20070311T020000
RRULE:FREQ=YEARLY;BYMONTH=3;BYDAY=2SU
END:DAYLIGHT
BEGIN:STANDARD
TZOFFSETFROM:-0400
TZOFFSETTO:-0500
TZNAME:EST
DTSTART:20071104T020000
RRULE:FREQ=YEARLY;BYMONTH=11;BYDAY=1SU
END:STANDARD
BEGIN:STANDARD
TZOFFSETFROM:-051732
TZOFFSETTO:-0500
TZNAME:EST
DTSTART:18950101T000000
RDATE:18950101T000000
END:STANDARD
BEGIN:DAYLIGHT
TZOFFSETFROM:-0500
TZOFFSETTO:-0400
TZNAME:EDT
DTSTART:19180414T020000
RDATE:19180414T020000
RDATE:19190330T233000
RDATE:19200502T020000
RDATE:19210515T020000
RDATE:19220514T020000
RDATE:19230513T020000
RDATE:19240504T020000
RDATE:19250503T020000
RDATE:19260502T020000
RDATE:19270501T020000
RDATE:19280429T020000
RDATE:19290428T020000
RDATE:19300427T020000
RDATE:19310426T020000
RDATE:19320501T020000
RDATE:19330430T020000
RDATE:19340429T020000
RDATE:19350428T020000
RDATE:19360426T020000
RDATE:19370425T020000
RDATE:19380424T020000
RDATE:19390430T020000
RDATE:19400428T020000
RDATE:19460428T020000
RDATE:19470427T000000
RDATE:19480425T000000
RDATE:19490424T000000
RDATE:19500430T020000
RDATE:19510429T020000
RDATE:19520427T020000
RDATE:19530426T020000
RDATE:19540425T020000
RDATE:19550424T020000
RDATE:19560429T020000
RDATE:19570428T020000
RDATE:19580427T020000
RDATE:19590426T020000
RDATE:19600424T020000
RDATE:19610430T020000
RDATE:19620429T020000
RDATE:19630428T020000
RDATE:19640426T020000
RDATE:19650425T020000
RDATE:19660424T020000
RDATE:19670430T020000
RDATE:19680428T020000
RDATE:19690427T020000
RDATE:19700426T020000
RDATE:19710425T020000
RDATE:19720430T020000
RDATE:19730429T020000
RDATE:19740428T020000
RDATE:19750427T020000
RDATE:19760425T020000
RDATE:19770424T020000
RDATE:19780430T020000
RDATE:19790429T020000
RDATE:19800427T020000
RDATE:19810426T020000
RDATE:19820425T020000
RDATE:19830424T020000
RDATE:19840429T020000
RDATE:19850428T020000
RDATE:19860427T020000
RDATE:19870405T020000
RDATE:19880403T020000
RDATE:19890402T020000
RDATE:19900401T020000
RDATE:19910407T020000
RDATE:19920405T020000
RDATE:19930404T020000
RDATE:19940403T020000
RDATE:19950402T020000
RDATE:19960407T020000
RDATE:19970406T020000
RDATE:19980405T020000
RDATE:19990404T020000
RDATE:20000402T020000
RDATE:20010401T020000
RDATE:20020407T020000
RDATE:20030406T020000
RDATE:20040404T020000
RDATE:20050403T020000
RDATE:20060402T020000
END:DAYLIGHT
BEGIN:STANDARD
TZOFFSETFROM:-0400
TZOFFSETTO:-0500
TZNAME:EST
DTSTART:19181027T020000
RDATE:19181027T020000
RDATE:19191026T000000
RDATE:19200926T000000
RDATE:19210915T020000
RDATE:19220917T020000
RDATE:19230916T020000
RDATE:19240921T020000
RDATE:19250920T020000
RDATE:19260919T020000
RDATE:19270925T020000
RDATE:19280930T020000
RDATE:19290929T020000
RDATE:19300928T020000
RDATE:19310927T020000
RDATE:19320925T020000
RDATE:19331001T020000
RDATE:19340930T020000
RDATE:19350929T020000
RDATE:19360927T020000
RDATE:19370926T020000
RDATE:19380925T020000
RDATE:19390924T020000
RDATE:19450930T020000
RDATE:19460929T020000
RDATE:19470928T000000
RDATE:19480926T000000
RDATE:19491127T000000
RDATE:19501126T020000
RDATE:19510930T020000
RDATE:19520928T020000
RDATE:19530927T020000
RDATE:19540926T020000
RDATE:19550925T020000
RDATE:19560930T020000
RDATE:19571027T020000
RDATE:19581026T020000
RDATE:19591025T020000
RDATE:19601030T020000
RDATE:19611029T020000
RDATE:19621028T020000
RDATE:19631027T020000
RDATE:19641025T020000
RDATE:19651031T020000
RDATE:19661030T020000
RDATE:19671029T020000
RDATE:19681027T020000
RDATE:19691026T020000
RDATE:19701025T020000
RDATE:19711031T020000
RDATE:19721029T020000
RDATE:19731028T020000
RDATE:19741027T020000
RDATE:19751026T020000
RDATE:19761031T020000
RDATE:19771030T020000
RDATE:19781029T020000
RDATE:19791028T020000
RDATE:19801026T020000
RDATE:19811025T020000
RDATE:19821031T020000
RDATE:19831030T020000
RDATE:19841028T020000
RDATE:19851027T020000
RDATE:19861026T020000
RDATE:19871025T020000
RDATE:19881030T020000
RDATE:19891029T020000
RDATE:19901028T020000
RDATE:19911027T020000
RDATE:19921025T020000
RDATE:19931031T020000
RDATE:19941030T020000
RDATE:19951029T020000
RDATE:19961027T020000
RDATE:19971026T020000
RDATE:19981025T020000
RDATE:19991031T020000
RDATE:20001029T020000
RDATE:20011028T020000
RDATE:20021027T020000
RDATE:20031026T020000
RDATE:20041031T020000
RDATE:20051030T020000
RDATE:20061029T020000
END:STANDARD
BEGIN:STANDARD
TZOFFSETFROM:-0500
TZOFFSETTO:-0500
TZNAME:EST
DTSTART:19190101T000000
RDATE:19190101T000000
RDATE:19460101T000000
RDATE:19740101T000000
END:STANDARD
BEGIN:DAYLIGHT
TZOFFSETFROM:-0400
TZOFFSETTO:-0400
TZNAME:EWT
DTSTART:19420209T020000
RDATE:19420209T020000
END:DAYLIGHT
BEGIN:DAYLIGHT
TZOFFSETFROM:-0400
TZOFFSETTO:-0400
TZNAME:EPT
DTSTART:19450814T190000
RDATE:19450814T190000
END:DAYLIGHT
END:VTIMEZONE
BEGIN:VEVENT
UID:ietf-81-2151-mpls
SUMMARY:mpls - Multiprotocol Label Switching
LOCATION:206 B
STATUS:CONFIRMED
CLASS:PUBLIC
DTSTART;TZID=America/Toronto:20110725T090000
DTEND;TZID=America/Toronto:20110725T113000
DTSTAMP:20161222T095707Z
URL:https://datatracker.ietf.org/meeting/81/materials/agenda-81-mpls
DESCRIPTION:Morning Session I\n
 \n
 Agenda https://datatracker.ietf.org/meeting/81/materials/agenda-81-mpls\n
 \n
 Session materials: https://datatracker.ietf.org/meeting/81/session/mpls\n
 \n
 See in schedule: https://datatracker.ietf.org/meeting/81/agenda#row-81-2011-07-25-mon-0900-rtg-mpls\n
END:VEVENT
BEGIN:VEVENT
UID:ietf-81-2223-forces
SUMMARY:forces - Forwarding and Control Element Separation
LOCATION:2101
STATUS:CONFIRMED
CLASS:PUBLIC
DTSTART;TZID=America/Toronto:20110725T151000
DTEND;TZID=America/Toronto:20110725T161000
DTSTAMP:20161222T095707Z
URL:https://datatracker.ietf.org/meeting/81/materials/agenda-81-forces
DESCRIPTION:Afternoon Session II\n
 \n
 Agenda https://datatracker.ietf.org/meeting/81/materials/agenda-81-forces\n
 \n
 Session materials: https://datatracker.ietf.org/meeting/81/session/forces\n
 \n
 See in schedule: https://datatracker.ietf.org/meeting/81/agenda#row-81-2011-07-25-mon-1510-rtg-forces\n
END:VEVENT
BEGIN:VEVENT
UID:ietf-81-2217-isis
SUMMARY:isis - IS-IS for IP Internets
LOCATION:202
STATUS:CONFIRMED
CLASS:PUBLIC
DTSTART;TZID=America/Toronto:20110725T151000
DTEND;TZID=America/Toronto:20110725T161000
DTSTAMP:20161222T095707Z
URL:https://datatracker.ietf.org/meeting/81/materials/agenda-81-isis
DESCRIPTION:Afternoon Session II\n
 \n
 Agenda https://datatracker.ietf.org/meeting/81/materials/agenda-81-isis\n
 \n
 Session materials: https://datatracker.ietf.org/meeting/81/session/isis\n
 \n
 See in schedule: https://datatracker.ietf.org/meeting/81/agenda#row-81-2011-07-25-mon-1510-rtg-isis\n
END:VEVENT
BEGIN:VEVENT
UID:ietf-81-2107-ccamp
SUMMARY:ccamp - Common Control and Measurement Plane
LOCATION:206 B
STATUS:CONFIRMED
CLASS:PUBLIC
DTSTART;TZID=America/Toronto:20110726T090000
DTEND;TZID=America/Toronto:20110726T113000
DTSTAMP:20161222T095707Z
URL:https://datatracker.ietf.org/meeting/81/materials/agenda-81-ccamp
DESCRIPTION:Morning Session I\n
 \n
 Agenda https://datatracker.ietf.org/meeting/81/materials/agenda-81-ccamp\n
 \n
 Session materials: https://datatracker.ietf.org/meeting/81/session/ccamp\n
 \n
 See in schedule: https://datatracker.ietf.org/meeting/81/agenda#row-81-2011-07-26-tue-0900-rtg-ccamp\n
END:VEVENT
BEGIN:VEVENT
UID:ietf-81-2177-pim
SUMMARY:pim - Protocol Independent Multicast
LOCATION:2103
STATUS:CONFIRMED
CLASS:PUBLIC
DTSTART;TZID=America/Toronto:20110726T130000
DTEND;TZID=America/Toronto:20110726T150000
DTSTAMP:20161222T095707Z
URL:https://datatracker.ietf.org/meeting/81/materials/agenda-81-pim
DESCRIPTION:Afternoon Session I\n
 \n
 Agenda https://datatracker.ietf.org/meeting/81/materials/agenda-81-pim\n
 \n
 Session materials: https://datatracker.ietf.org/meeting/81/session/pim\n
 \n
 See in schedule: https://datatracker.ietf.org/meeting/81/agenda#row-81-2011-07-26-tue-1300-rtg-pim\n
END:VEVENT
BEGIN:VEVENT
UID:ietf-81-2145-manet
SUMMARY:manet - Mobile Ad-hoc Networks
LOCATION:208 AB
STATUS:CONFIRMED
CLASS:PUBLIC
DTSTART;TZID=America/Toronto:20110726T152000
DTEND;TZID=America/Toronto:20110726T170000
DTSTAMP:20161222T095707Z
URL:https://datatracker.ietf.org/meeting/81/materials/agenda-81-manet
DESCRIPTION:Afternoon Session II\n
 \n
 Agenda https://datatracker.ietf.org/meeting/81/materials/agenda-81-manet\n
 \n
 Session materials: https://datatracker.ietf.org/meeting/81/session/manet\n
 \n
 See in schedule: https://datatracker.ietf.org/meeting/81/agenda#row-81-2011-07-26-tue-1520-rtg-manet\n
END:VEVENT
BEGIN:VEVENT
UID:ietf-81-2136-pwe3
SUMMARY:pwe3 - Pseudowire Emulation Edge to Edge
LOCATION:202
STATUS:CONFIRMED
CLASS:PUBLIC
DTSTART;TZID=America/Toronto:20110726T152000
DTEND;TZID=America/Toronto:20110726T170000
DTSTAMP:20161222T095707Z
URL:https://datatracker.ietf.org/meeting/81/materials/agenda-81-pwe3
DESCRIPTION:Afternoon Session II\n
 \n
 Agenda https://datatracker.ietf.org/meeting/81/materials/agenda-81-pwe3\n
 \n
 Session materials: https://datatracker.ietf.org/meeting/81/session/pwe3\n
 \n
 See in schedule: https://datatracker.ietf.org/meeting/81/agenda#row-81-2011-07-26-tue-1520-rtg-pwe3\n
END:VEVENT
BEGIN:VEVENT
UID:ietf-81-2146-manet
SUMMARY:manet - Mobile Ad-hoc Networks
LOCATION:208 AB
STATUS:CONFIRMED
CLASS:PUBLIC
DTSTART;TZID=America/Toronto:20110726T171000
DTEND;TZID=America/Toronto:20110726T181000
DTSTAMP:20161222T095707Z
URL:https://datatracker.ietf.org/meeting/81/materials/agenda-81-manet
DESCRIPTION:Afternoon Session III\n
 \n
 Agenda https://datatracker.ietf.org/meeting/81/materials/agenda-81-manet\n
 \n
 Session materials: https://datatracker.ietf.org/meeting/81/session/manet\n
 \n
 See in schedule: https://datatracker.ietf.org/meeting/81/agenda#row-81-2011-07-26-tue-1710-rtg-manet\n
END:VEVENT
BEGIN:VEVENT
UID:ietf-81-2137-pwe3
SUMMARY:pwe3 - Pseudowire Emulation Edge to Edge
LOCATION:202
STATUS:CONFIRMED
CLASS:PUBLIC
DTSTART;TZID=America/Toronto:20110726T171000
DTEND;TZID=America/Toronto:20110726T181000
DTSTAMP:20161222T095707Z
URL:https://datatracker.ietf.org/meeting/81/materials/agenda-81-pwe3
DESCRIPTION:Afternoon Session III\n
 \n
 Agenda https://datatracker.ietf.org/meeting/81/materials/agenda-81-pwe3\n
 \n
 Session materials: https://datatracker.ietf.org/meeting/81/session/pwe3\n
 \n
 See in schedule: https://datatracker.ietf.org/meeting/81/agenda#row-81-2011-07-26-tue-1710-rtg-pwe3\n
END:VEVENT
BEGIN:VEVENT
UID:ietf-81-2128-idr
SUMMARY:idr - Inter-Domain Routing
LOCATION:206 A
STATUS:CONFIRMED
CLASS:PUBLIC
DTSTART;TZID=America/Toronto:20110727T090000
DTEND;TZID=America/Toronto:20110727T113000
DTSTAMP:20161222T095707Z
URL:https://datatracker.ietf.org/meeting/81/materials/agenda-81-idr
DESCRIPTION:Morning Session I\n
 \n
 Agenda https://datatracker.ietf.org/meeting/81/materials/agenda-81-idr\n
 \n
 Session materials: https://datatracker.ietf.org/meeting/81/session/idr\n
 \n
 See in schedule: https://datatracker.ietf.org/meeting/81/agenda#row-81-2011-07-27-wed-0900-rtg-idr\n
END:VEVENT
BEGIN:VEVENT
UID:ietf-81-2117-karp
SUMMARY:karp - Keying and Authentication for Routing Protocols
LOCATION:206 A
STATUS:CONFIRMED
CLASS:PUBLIC
DTSTART;TZID=America/Toronto:20110727T130000
DTEND;TZID=America/Toronto:20110727T150000
DTSTAMP:20161222T095707Z
URL:https://datatracker.ietf.org/meeting/81/materials/agenda-81-karp
DESCRIPTION:Afternoon Session I\n
 \n
 Agenda https://datatracker.ietf.org/meeting/81/materials/agenda-81-karp\n
 \n
 Session materials: https://datatracker.ietf.org/meeting/81/session/karp\n
 \n
 See in schedule: https://datatracker.ietf.org/meeting/81/agenda#row-81-2011-07-27-wed-1300-rtg-karp\n
END:VEVENT
BEGIN:VEVENT
UID:ietf-81-2152-mpls
SUMMARY:mpls - Multiprotocol Label Switching
LOCATION:206 B
STATUS:CONFIRMED
CLASS:PUBLIC
DTSTART;TZID=America/Toronto:20110727T130000
DTEND;TZID=America/Toronto:20110727T150000
DTSTAMP:20161222T095707Z
URL:https://datatracker.ietf.org/meeting/81/materials/agenda-81-mpls
DESCRIPTION:Afternoon Session I\n
 \n
 Agenda https://datatracker.ietf.org/meeting/81/materials/agenda-81-mpls\n
 \n
 Session materials: https://datatracker.ietf.org/meeting/81/session/mpls\n
 \n
 See in schedule: https://datatracker.ietf.org/meeting/81/agenda#row-81-2011-07-27-wed-1300-rtg-mpls\n
END:VEVENT
BEGIN:VEVENT
UID:ietf-81-2127-rtgwg
SUMMARY:rtgwg - Routing Area Working Group (Moved FROM Thursday Afternoon Session I 1300-1500)
LOCATION:202
STATUS:CONFIRMED
CLASS:PUBLIC
DTSTART;TZID=America/Toronto:20110727T151000
DTEND;TZID=America/Toronto:20110727T161000
DTSTAMP:20161222T095707Z
URL:https://datatracker.ietf.org/meeting/81/materials/agenda-81-rtgwg
DESCRIPTION:Afternoon Session II\n
 Note: Moved FROM Thursday Afternoon Session I 1300-1500\n
 \n
 Agenda https://datatracker.ietf.org/meeting/81/materials/agenda-81-rtgwg\n
 \n
 Session materials: https://datatracker.ietf.org/meeting/81/session/rtgwg\n
 \n
 See in schedule: https://datatracker.ietf.org/meeting/81/agenda#row-81-2011-07-27-wed-1510-rtg-rtgwg\n
END:VEVENT
BEGIN:VEVENT
UID:ietf-81-2163-sidr
SUMMARY:sidr - Secure Inter-Domain Routing
LOCATION:206 B
STATUS:CONFIRMED
CLASS:PUBLIC
DTSTART;TZID=America/Toronto:20110728T090000
DTEND;TZID=America/Toronto:20110728T113000
DTSTAMP:20161222T095707Z
URL:https://datatracker.ietf.org/meeting/81/materials/agenda-81-sidr
DESCRIPTION:Morning Session I\n
 \n
 Agenda https://datatracker.ietf.org/meeting/81/materials/agenda-81-sidr\n
 \n
 Session materials: https://datatracker.ietf.org/meeting/81/session/sidr\n
 \n
 See in schedule: https://datatracker.ietf.org/meeting/81/agenda#row-81-2011-07-28-thu-0900-rtg-sidr\n
END:VEVENT
BEGIN:VEVENT
UID:ietf-81-2108-ccamp
SUMMARY:ccamp - Common Control and Measurement Plane
LOCATION:206 A
STATUS:CONFIRMED
CLASS:PUBLIC
DTSTART;TZID=America/Toronto:20110728T130000
DTEND;TZID=America/Toronto:20110728T150000
DTSTAMP:20161222T095707Z
URL:https://datatracker.ietf.org/meeting/81/materials/agenda-81-ccamp
DESCRIPTION:Afternoon Session I\n
 \n
 Agenda https://datatracker.ietf.org/meeting/81/materials/agenda-81-ccamp\n
 \n
 Session materials: https://datatracker.ietf.org/meeting/81/session/ccamp\n
 \n
 See in schedule: https://datatracker.ietf.org/meeting/81/agenda#row-81-2011-07-28-thu-1300-rtg-ccamp\n
END:VEVENT
BEGIN:VEVENT
UID:ietf-81-2235-l2vpn
SUMMARY:l2vpn - Layer 2 Virtual Private Networks (Moved FROM Wednesday Afteroon Session II 1510-1610.  Friday session CANCELLED.)
LOCATION:208 AB
STATUS:CONFIRMED
CLASS:PUBLIC
DTSTART;TZID=America/Toronto:20110728T130000
DTEND;TZID=America/Toronto:20110728T150000
DTSTAMP:20161222T095707Z
URL:https://datatracker.ietf.org/meeting/81/materials/agenda-81-l2vpn
DESCRIPTION:Afternoon Session I\n
 Note: Moved FROM Wednesday Afteroon Session II 1510-1610.  Friday session CANCELLED.\n
 \n
 Agenda https://datatracker.ietf.org/meeting/81/materials/agenda-81-l2vpn\n
 \n
 Session materials: https://datatracker.ietf.org/meeting/81/session/l2vpn\n
 \n
 See in schedule: https://datatracker.ietf.org/meeting/81/agenda#row-81-2011-07-28-thu-1300-rtg-l2vpn\n
END:VEVENT
BEGIN:VEVENT
UID:ietf-81-2112-ospf
SUMMARY:ospf - Open Shortest Path First IGP
LOCATION:206 A
STATUS:CONFIRMED
CLASS:PUBLIC
DTSTART;TZID=America/Toronto:20110728T152000
DTEND;TZID=America/Toronto:20110728T172000
DTSTAMP:20161222T095707Z
URL:https://datatracker.ietf.org/meeting/81/materials/agenda-81-ospf
DESCRIPTION:Afternoon Session II\n
 \n
 Agenda https://datatracker.ietf.org/meeting/81/materials/agenda-81-ospf\n
 \n
 Session materials: https://datatracker.ietf.org/meeting/81/session/ospf\n
 \n
 See in schedule: https://datatracker.ietf.org/meeting/81/agenda#row-81-2011-07-28-thu-1520-rtg-ospf\n
END:VEVENT
BEGIN:VEVENT
UID:ietf-81-2129-pce
SUMMARY:pce - Path Computation Element
LOCATION:202
STATUS:CONFIRMED
CLASS:PUBLIC
DTSTART;TZID=America/Toronto:20110728T152000
DTEND;TZID=America/Toronto:20110728T172000
DTSTAMP:20161222T095707Z
URL:https://datatracker.ietf.org/meeting/81/materials/agenda-81-pce
DESCRIPTION:Afternoon Session II\n
 \n
 Agenda https://datatracker.ietf.org/meeting/81/materials/agenda-81-pce\n
 \n
 Session materials: https://datatracker.ietf.org/meeting/81/session/pce\n
 \n
 See in schedule: https://datatracker.ietf.org/meeting/81/agenda#row-81-2011-07-28-thu-1520-rtg-pce\n
END:VEVENT
BEGIN:VEVENT
UID:ietf-81-2109-rtgarea
SUMMARY:rtgarea - Routing Area Open Meeting
LOCATION:205 ABC
STATUS:CONFIRMED
CLASS:PUBLIC
DTSTART;TZID=America/Toronto:20110728T174000
DTEND;TZID=America/Toronto:20110728T194000
DTSTAMP:20161222T095707Z
URL:https://datatracker.ietf.org/meeting/81/materials/agenda-81-rtgarea
DESCRIPTION:Afternoon Session III\n
 \n
 Agenda https://datatracker.ietf.org/meeting/81/materials/agenda-81-rtgarea\n
 \n
 Session materials: https://datatracker.ietf.org/meeting/81/session/rtgarea\n
 \n
 See in schedule: https://datatracker.ietf.org/meeting/81/agenda#row-81-2011-07-28-thu-1740-rtg-rtgarea\n
END:VEVENT
BEGIN:VEVENT
UID:ietf-81-2130-roll
SUMMARY:roll - Routing Over Low power and Lossy networks
LOCATION:208 AB
STATUS:CONFIRMED
CLASS:PUBLIC
DTSTART;TZID=America/Toronto:20110729T130000
DTEND;TZID=America/Toronto:20110729T140000
DTSTAMP:20161222T095707Z
URL:https://datatracker.ietf.org/meeting/81/materials/agenda-81-roll
DESCRIPTION:Afternoon Session I\n
 \n
 Agenda https://datatracker.ietf.org/meeting/81/materials/agenda-81-roll\n
 \n
 Session materials: https://datatracker.ietf.org/meeting/81/session/roll\n
 \n
 See in schedule: https://datatracker.ietf.org/meeting/81/agenda#row-81-2011-07-29-fri-1300-rtg-roll\n
END:VEVENT
BEGIN:VEVENT
UID:ietf-81-2131-roll
SUMMARY:roll - Routing Over Low power and Lossy networks
LOCATION:208 AB
STATUS:CONFIRMED
CLASS:PUBLIC
DTSTART;TZID=America/Toronto:20110729T141500
DTEND;TZID=America/Toronto:20110729T151500
DTSTAMP:20161222T095707Z
URL:https://datatracker.ietf.org/meeting/81/materials/agenda-81-roll
DESCRIPTION:Afternoon Session II\n
 \n
 Agenda https://datatracker.ietf.org/meeting/81/materials/agenda-81-roll\n
 \n
 Session materials: https://datatracker.ietf.org/meeting/81/session/roll\n
 \n
 See in schedule: https://datatracker.ietf.org/meeting/81/agenda#row-81-2011-07-29-fri-1415-rtg-roll\n
END:VEVENT
END:VCALENDAR
